Workbook
Name Abs: Exercises!$J:$J
Name Back: Exercises!$F:$F
Name Biceps: Exercises!$I:$I
Name Calves: Exercises!$G:$G
Name Categories: Exercises!$A:$A
Name Chest: Exercises!$B:$B
Name Hamstrings: Exercises!$E:$E
Name Quads: Exercises!$D:$D
Name SelectedExercise: #REF!
Name Shoulders: Exercises!$C:$C
Name Triceps: Exercises!$H:$H
Name wday1: Week1!$A$4:$Q$12
Name wday10: Week2!$A$48:$Q$56
Name wday11: Week3!$A$4:$Q$12
Name wday12: Week3!$A$15:$Q$23
Name wday13: Week3!$A$26:$Q$34
Name wday14: Week3!$A$37:$Q$45
Name wday15: Week3!$A$48:$Q$56
Name wday16: Week4!$A$4:$Q$12
Name wday17: Week4!$A$15:$Q$23
Name wday18: Week4!$A$26:$Q$34
Name wday19: Week4!$A$37:$Q$45
Name wday2: Week1!$A$15:$Q$23
Name wday20: Week4!$A$48:$Q$56
Name wday21: Week5!$A$4:$Q$12
Name wday22: Week5!$A$15:$Q$23
Name wday23: Week5!$A$26:$Q$34
Name wday24: Week5!$A$37:$Q$45
Name wday25: Week5!$A$48:$Q$56
Name wday26: Week6!$A$4:$Q$12
Name wday27: Week6!$A$15:$Q$23
Name wday28: Week6!$A$26:$Q$34
Name wday29: Week6!$A$37:$Q$45
Name wday3: Week1!$A$26:$Q$34
Name wday30: Week6!$A$48:$Q$56
Name wday31: Week7!$A$4:$Q$12
Name wday32: Week7!$A$15:$Q$23
Name wday33: Week7!$A$26:$Q$34
Name wday34: Week7!$A$37:$Q$45
Name wday35: Week7!$A$48:$Q$56
Name wday36: Week8!$A$4:$Q$12
Name wday37: Week8!$A$15:$Q$23
Name wday38: Week8!$A$26:$Q$34
Name wday39: Week8!$A$37:$Q$45
Name wday4: Week1!$A$37:$Q$45
Name wday40: Week8!$A$48:$Q$56
Name wday41: Week9!$A$4:$Q$12
Name wday42: Week9!$A$15:$Q$23
Name wday43: Week9!$A$26:$Q$34
Name wday44: Week9!$A$37:$Q$45
Name wday45: Week9!$A$48:$Q$56
Name wday46: Week10!$A$4:$Q$12
Name wday47: Week10!$A$15:$Q$23
Name wday48: Week10!$A$26:$Q$34
Name wday49: Week10!$A$37:$Q$45
Name wday5: Week1!$A$48:$Q$56
Name wday50: Week10!$A$48:$Q$56
Name wday51: Week11!$A$4:$Q$12
Name wday52: Week11!$A$15:$Q$23
Name wday53: Week11!$A$26:$Q$34

Sheet Exercises
C2: Bench Press | D2: 4 x 5
C3: Barbell Overhead Press | D3: 3 x 5
C4: Weighted Dip | D4: 3 x 6-8
C5: Dumbbell Shoulder Press | D5: 3 x 8-12
C6: Dumbbell Lateral Raise * | D6: 4 x 8-12
C7: Dumbbell Triceps Extension | D7: 4 x 8-12
C8: Cable Triceps Extension | D8: 4 x 12-15
C9: Weighted Leg Raise | D9: 2-3 x 12-15
C10: Weighted Crunch | D10: 2-3 x 8-12
C11: Deadlift | D11: 4 x 5
C12: (Weighted) Pull Up | D12: 3 x 5
C13: Barbell Bent Over Row | D13: 3 x 6-8
... C29: Weighted Leg Raise | D29: 2-3 x 12-15

Sheet Track Progress
A1: Progress Tracking
A2: Select an exercise from the drop-down --> | D2: Deadlift
AM3: wday1 | AO3: =VLOOKUP($D$2,wday1,17,FALSE) -> #N/A
AM4: wday2 | AO4: =VLOOKUP($D$2,wday2,17,FALSE) -> 0
AM5: wday3 | AO5: =VLOOKUP($D$2,wday3,17,FALSE) -> #N/A
AM6: wday4 | AO6: =VLOOKUP($D$2,wday4,17,FALSE) -> #N/A
AM7: wday5 | AO7: =VLOOKUP($D$2,wday5,17,FALSE) -> 0
AM8: wday6 | AO8: =VLOOKUP($D$2,wday6,17,FALSE) -> #N/A
AM9: wday7 | AO9: =VLOOKUP($D$2,wday7,17,FALSE) -> #N/A
AM10: wday8 | AO10: =VLOOKUP($D$2,wday8,17,FALSE) -> 0
AM11: wday9 | AO11: =VLOOKUP($D$2,wday9,17,FALSE) -> #N/A
AM12: wday10 | AO12: =VLOOKUP($D$2,wday10,17,FALSE) -> #N/A
AM13: wday11 | AO13: =VLOOKUP($D$2,wday11,17,FALSE) -> 0
AM14: wday12 | AO14: =VLOOKUP($D$2,wday12,17,FALSE) -> #N/A
AM15: wday13 | AO15: =VLOOKUP($D$2,wday13,17,FALSE) -> #N/A
AM16: wday14 | AO16: =VLOOKUP($D$2,wday14,17,FALSE) -> 0
AM17: wday15 | AO17: =VLOOKUP($D$2,wday15,17,FALSE) -> #N/A
AM18: wday16 | AO18: =VLOOKUP($D$2,wday16,17,FALSE) -> #N/A
AM19: wday17 | AO19: =VLOOKUP($D$2,wday17,17,FALSE) -> 0
AM20: wday18 | AO20: =VLOOKUP($D$2,wday18,17,FALSE) -> #N/A
AM21: wday19 | AO21: =VLOOKUP($D$2,wday19,17,FALSE) -> #N/A
AM22: wday20 | AO22: =VLOOKUP($D$2,wday20,17,FALSE) -> 0
AM23: wday21 | AO23: =VLOOKUP($D$2,wday21,17,FALSE) -> #N/A
AM24: wday22 | AO24: =VLOOKUP($D$2,wday22,17,FALSE) -> #N/A
AM25: wday23 | AO25: =VLOOKUP($D$2,wday23,17,FALSE) -> 0
AM26: wday24 | AO26: =VLOOKUP($D$2,wday24,17,FALSE) -> #N/A
AM27: wday25 | AO27: =VLOOKUP($D$2,wday25,17,FALSE) -> #N/A
AM28: wday26 | AO28: =VLOOKUP($D$2,wday26,17,FALSE) -> 0
AM29: wday27 | AO29: =VLOOKUP($D$2,wday27,17,FALSE) -> #N/A
AM30: wday28 | AO30: =VLOOKUP($D$2,wday28,17,FALSE) -> #N/A
AM31: wday29 | AO31: =VLOOKUP($D$2,wday29,17,FALSE) -> 0
AM32: wday30 | AO32: =VLOOKUP($D$2,wday30,17,FALSE) -> #N/A
AM33: wday31 | AO33: =VLOOKUP($D$2,wday31,17,FALSE) -> #N/A
AM34: wday32 | AO34: =VLOOKUP($D$2,wday32,17,FALSE) -> 0
AM35: wday33 | AO35: =VLOOKUP($D$2,wday33,17,FALSE) -> #N/A
AM36: wday34 | AO36: =VLOOKUP($D$2,wday34,17,FALSE) -> #N/A
AM37: wday35 | AO37: =VLOOKUP($D$2,wday35,17,FALSE) -> 0
AM38: wday36 | AO38: =VLOOKUP($D$2,wday36,17,FALSE) -> #N/A
AM39: wday37 | AO39: =VLOOKUP($D$2,wday37,17,FALSE) -> #N/A
AM40: wday38 | AO40: =VLOOKUP($D$2,wday38,17,FALSE) -> 0
AM41: wday39 | AO41: =VLOOKUP($D$2,wday39,17,FALSE) -> #N/A
AM42: wday40 | AO42: =VLOOKUP($D$2,wday40,17,FALSE) -> #N/A
AM43: wday41 | AO43: =VLOOKUP($D$2,wday41,17,FALSE) -> 0
AM44: wday42 | AO44: =VLOOKUP($D$2,wday42,17,FALSE) -> #N/A
AM45: wday43 | AO45: =VLOOKUP($D$2,wday43,17,FALSE) -> #N/A
AM46: wday44 | AO46: =VLOOKUP($D$2,wday44,17,FALSE) -> 0
AM47: wday45 | AO47: =VLOOKUP($D$2,wday45,17,FALSE) -> #N/A
AM48: wday46 | AO48: =VLOOKUP($D$2,wday46,17,FALSE) -> #N/A
AM49: wday47 | AO49: =VLOOKUP($D$2,wday47,17,FALSE) -> 0
AM50: wday48 | AO50: =VLOOKUP($D$2,wday48,17,FALSE) -> #N/A
AM51: wday49 | AO51: =VLOOKUP($D$2,wday49,17,FALSE) -> #N/A
AM52: wday50 | AO52: =VLOOKUP($D$2,wday50,17,FALSE) -> 0
AM53: wday51 | AO53: =VLOOKUP($D$2,wday51,17,FALSE) -> #N/A
AM54: wday52 | AO54: =VLOOKUP($D$2,wday52,17,FALSE) -> #N/A
AM55: wday53 | AO55: =VLOOKUP($D$2,wday53,17,FALSE) -> 0
AM56: wday54 | AO56: =VLOOKUP($D$2,wday54,17,FALSE) -> #N/A
AM57: wday55 | AO57: =VLOOKUP($D$2,wday55,17,FALSE) -> #N/A
AM58: wday56 | AO58: =VLOOKUP($D$2,wday56,17,FALSE) -> 0
AM59: wday57 | AO59: =VLOOKUP($D$2,wday57,17,FALSE) -> #N/A
AM60: wday58 | AO60: =VLOOKUP($D$2,wday58,17,FALSE) -> #N/A
AM61: wday59 | AO61: =VLOOKUP($D$2,wday59,17,FALSE) -> 0
AM62: wday60 | AO62: =VLOOKUP($D$2,wday60,17,FALSE) -> #N/A
AM63: wday61 | AO63: =VLOOKUP($D$2,wday61,17,FALSE) -> #N/A
AM64: wday62 | AO64: =VLOOKUP($D$2,wday62,17,FALSE) -> 0
AM65: wday63 | AO65: =VLOOKUP($D$2,wday63,17,FALSE) -> #N/A
AM66: wday64 | AO66: =VLOOKUP($D$2,wday64,17,FALSE) -> #N/A
AM67: wday65 | AO67: =VLOOKUP($D$2,wday65,17,FALSE) -> 0
AM68: wday66 | AO68: =VLOOKUP($D$2,wday66,17,FALSE) -> #N/A
AM69: wday67 | AO69: =VLOOKUP($D$2,wday67,17,FALSE) -> #N/A
AM70: wday68 | AO70: =VLOOKUP($D$2,wday68,17,FALSE) -> 0
AM71: wday69 | AO71: =VLOOKUP($D$2,wday69,17,FALSE) -> #N/A
AM72: wday70 | AO72: =VLOOKUP($D$2,wday70,17,FALSE) -> #N/A
AM73: wday71 | AO73: =VLOOKUP($D$2,wday71,17,FALSE) -> 0
AM74: wday72 | AO74: =VLOOKUP($D$2,wday72,17,FALSE) -> #N/A
AM75: wday73 | AO75: =VLOOKUP($D$2,wday73,17,FALSE) -> #N/A
AM76: wday74 | AO76: =VLOOKUP($D$2,wday74,17,FALSE) -> 0
AM77: wday75 | AO77: =VLOOKUP($D$2,wday75,17,FALSE) -> #N/A

Sheet Week1
A1: Week starting: | B1: 42450 | C1: Week 1
A2: =B1 -> 42450 | C2: Set 1 | F2: Set 2 | I2: Set 3 | L2: Set 4 | O2: Total Volume | R2: Notes
A3: Exercise | B3: Sets x Reps | C3: Reps | D3: Weight | E3: Volume | F3: Reps | G3: Weight | H3: Volume | I3: Reps | J3: Weight | K3: Volume | L3: Reps | M3: Weight | N3: Volume | O3: Reps | P3: Weight | Q3: Volume
A4: Bench Press | B4: 4 x 5 | E4: =C4*D4 -> 0 | H4: =F4*G4 -> 0 | K4: =I4*J4 -> 0 | N4: =L4*M4 -> 0 | O4: =SUM(L4,I4,F4,C4) -> 0 | P4: =SUM(M4,J4,G4,D4) -> 0 | Q4: =O4*P4 -> 0
A5: Barbell Overhead Press | B5: 3 x 5 | E5: =C5*D5 -> 0 | H5: =F5*G5 -> 0 | K5: =I5*J5 -> 0 | N5: =L5*M5 -> 0 | O5: =SUM(L5,I5,F5,C5) -> 0 | P5: =SUM(M5,J5,G5,D5) -> 0 | Q5: =O5*P5 -> 0
A6: Weighted Dip | B6: 3 x 6-8 | E6: =C6*D6 -> 0 | H6: =F6*G6 -> 0 | K6: =I6*J6 -> 0 | N6: =L6*M6 -> 0 | O6: =SUM(L6,I6,F6,C6) -> 0 | P6: =SUM(M6,J6,G6,D6) -> 0 | Q6: =O6*P6 -> 0
A7: Dumbbell Shoulder Press | B7: 3 x 8-12 | E7: =C7*D7 -> 0 | H7: =F7*G7 -> 0 | K7: =I7*J7 -> 0 | N7: =L7*M7 -> 0 | O7: =SUM(L7,I7,F7,C7) -> 0 | P7: =SUM(M7,J7,G7,D7) -> 0 | Q7: =O7*P7 -> 0
A8: Dumbbell Lateral Raise * | B8: 4 x 8-12 | E8: =C8*D8 -> 0 | H8: =F8*G8 -> 0 | K8: =I8*J8 -> 0 | N8: =L8*M8 -> 0 | O8: =SUM(L8,I8,F8,C8) -> 0 | P8: =SUM(M8,J8,G8,D8) -> 0 | Q8: =O8*P8 -> 0
A9: Dumbbell Triceps Extension | B9: 4 x 8-12 | E9: =C9*D9 -> 0 | H9: =F9*G9 -> 0 | K9: =I9*J9 -> 0 | N9: =L9*M9 -> 0 | O9: =SUM(L9,I9,F9,C9) -> 0 | P9: =SUM(M9,J9,G9,D9) -> 0 | Q9: =O9*P9 -> 0
A10: Cable Triceps Extension | B10: 4 x 12-15 | E10: =C10*D10 -> 0 | H10: =F10*G10 -> 0 | K10: =I10*J10 -> 0 | N10: =L10*M10 -> 0 | O10: =SUM(L10,I10,F10,C10) -> 0 | P10: =SUM(M10,J10,G10,D10) -> 0 | Q10: =O10*P10 -> 0
A11: Weighted Leg Raise | B11: 2-3 x 12-15 | E11: =C11*D11 -> 0 | H11: =F11*G11 -> 0 | K11: =I11*J11 -> 0 | N11: =L11*M11 -> 0 | O11: =SUM(L11,I11,F11,C11) -> 0 | P11: =SUM(M11,J11,G11,D11) -> 0 | Q11: =O11*P11 -> 0
A12: Weighted Crunch | B12: 2-3 x 8-12 | E12: =C12*D12 -> 0 | H12: =F12*G12 -> 0 | K12: =I12*J12 -> 0 | N12: =L12*M12 -> 0 | O12: =SUM(L12,I12,F12,C12) -> 0 | P12: =SUM(M12,J12,G12,D12) -> 0 | Q12: =O12*P12 -> 0
A13: =A2+1 -> 42451 | C13: Set 1 | F13: Set 2 | I13: Set 3 | L13: Set 4 | O13: Total Volume | R13: Notes
A14: Exercise | B14: Sets x Reps | C14: Reps | D14: Weight | E14: Volume | F14: Reps | G14: Weight | H14: Volume | I14: Reps | J14: Weight | K14: Total | L14: Reps | M14: Weight | N14: Volume | O14: Reps | P14: Weight | Q14: Volume
A15: Deadlift | B15: 4 x 5 | E15: =C15*D15 -> 0 | H15: =F15*G15 -> 0 | K15: =I15*J15 -> 0 | N15: =L15*M15 -> 0 | O15: =SUM(L15,I15,F15,C15) -> 0 | P15: =SUM(M15,J15,G15,D15) -> 0 | Q15: =O15*P15 -> 0
A16: (Weighted) Pull Up | B16: 3 x 5 | E16: =C16*D16 -> 0 | H16: =F16*G16 -> 0 | K16: =I16*J16 -> 0 | N16: =L16*M16 -> 0 | O16: =SUM(L16,I16,F16,C16) -> 0 | P16: =SUM(M16,J16,G16,D16) -> 0 | Q16: =O16*P16 -> 0
A17: Barbell Bent Over Row | B17: 3 x 6-8 | E17: =C17*D17 -> 0 | H17: =F17*G17 -> 0 | K17: =I17*J17 -> 0 | N17: =L17*M17 -> 0 | O17: =SUM(L17,I17,F17,C17) -> 0 | P17: =SUM(M17,J17,G17,D17) -> 0 | Q17: =O17*P17 -> 0
A18: Dumbbell One-Arm Row | B18: 3 x 8-12 | E18: =C18*D18 -> 0 | H18: =F18*G18 -> 0 | K18: =I18*J18 -> 0 | N18: =L18*M18 -> 0 | O18: =SUM(L18,I18,F18,C18) -> 0 | P18: =SUM(M18,J18,G18,D18) -> 0 | Q18: =O18*P18 -> 0
A19: Barbell Curl | B19: 4 x 8-12 | E19: =C19*D19 -> 0 | H19: =F19*G19 -> 0 | K19: =I19*J19 -> 0 | N19: =L19*M19 -> 0 | O19: =SUM(L19,I19,F19,C19) -> 0 | P19: =SUM(M19,J19,G19,D19) -> 0 | Q19: =O19*P19 -> 0
A20: Dumbbell Curl | B20: 4 x 8-12 | E20: =C20*D20 -> 0 | H20: =F20*G20 -> 0 | K20: =I20*J20 -> 0 | N20: =L20*M20 -> 0 | O20: =SUM(L20,I20,F20,C20) -> 0 | P20: =SUM(M20,J20,G20,D20) -> 0 | Q20: =O20*P20 -> 0
A21: Dumbbell Rear Deltoid Raise | B21: 4 x 8-12 | E21: =C21*D21 -> 0 | H21: =F21*G21 -> 0 | K21: =I21*J21 -> 0 | N21: =L21*M21 -> 0 | O21: =SUM(L21,I21,F21,C21) -> 0 | P21: =SUM(M21,J21,G21,D21) -> 0 | Q21: =O21*P21 -> 0
A22: Cable Face Pull | B22: 4 x 12-15 | E22: =C22*D22 -> 0 | H22: =F22*G22 -> 0 | K22: =I22*J22 -> 0 | N22: =L22*M22 -> 0 | O22: =SUM(L22,I22,F22,C22) -> 0 | P22: =SUM(M22,J22,G22,D22) -> 0 | Q22: =O22*P22 -> 0
A23: Weighted Hyperextension | B23: 2-3 x 8-12 | E23: =C23*D23 -> 0 | H23: =F23*G23 -> 0 | K23: =I23*J23 -> 0 | N23: =L23*M23 -> 0 | O23: =SUM(L23,I23,F23,C23) -> 0 | P23: =SUM(M23,J23,G23,D23) -> 0 | Q23: =O23*P23 -> 0
A24: =A13+2 -> 42453 | C24: Set 1 | F24: Set 2 | I24: Set 3 | L24: Set 4 | O24: Total Volume | R24: Notes
A25: Exercise | B25: Sets x Reps | C25: Reps | D25: Weight | E25: Volume | F25: Reps | G25: Weight | H25: Volume | I25: Reps | J25: Weight | K25: Volume | L25: Reps | M25: Weight | N25: Volume | O25: Reps | P25: Weight | Q25: Volume
A26: Squat | B26: 4 x 5 | E26: =C26*D26 -> 0 | H26: =F26*G26 -> 0 | K26: =I26*J26 -> 0 | O26: =SUM(L26,I26,F26,C26) -> 0 | P26: =SUM(M26,J26,G26,D26) -> 0 | Q26: =O26*P26 -> 0
A27: Romanian Deadlift | B27: 3 x 5 | E27: =C27*D27 -> 0 | H27: =F27*G27 -> 0 | K27: =I27*J27 -> 0 | O27: =SUM(L27,I27,F27,C27) -> 0 | P27: =SUM(M27,J27,G27,D27) -> 0 | Q27: =O27*P27 -> 0
A28: Leg Press | B28: 3 x 6-8 | E28: =C28*D28 -> 0 | H28: =F28*G28 -> 0 | K28: =I28*J28 -> 0 | O28: =SUM(L28,I28,F28,C28) -> 0 | P28: =SUM(M28,J28,G28,D28) -> 0 | Q28: =O28*P28 -> 0
A29: Barbell Glute Bridge | B29: 4 x 8-12 | E29: =C29*D29 -> 0 | H29: =F29*G29 -> 0 | K29: =I29*J29 -> 0 | O29: =SUM(L29,I29,F29,C29) -> 0 | P29: =SUM(M29,J29,G29,D29) -> 0 | Q29: =O29*P29 -> 0
A30: Leg Curl | B30: 3 x 12-15 | E30: =C30*D30 -> 0 | H30: =F30*G30 -> 0 | K30: =I30*J30 -> 0 | O30: =SUM(L30,I30,F30,C30) -> 0 | P30: =SUM(M30,J30,G30,D30) -> 0 | Q30: =O30*P30 -> 0
A31: Standing Calf Raise | B31: 3 x 5 | E31: =C31*D31 -> 0 | H31: =F31*G31 -> 0 | K31: =I31*J31 -> 0 | O31: =SUM(L31,I31,F31,C31) -> 0 | P31: =SUM(M31,J31,G31,D31) -> 0 | Q31: =O31*P31 -> 0
A32: Calf Press | B32: 3 x 5 | E32: =C32*D32 -> 0 | H32: =F32*G32 -> 0 | K32: =I32*J32 -> 0 | O32: =SUM(L32,I32,F32,C32) -> 0 | P32: =SUM(M32,J32,G32,D32) -> 0 | Q32: =O32*P32 -> 0
A33: Seated Calf Raise | B33: 4 x 8-12 | E33: =C33*D33 -> 0 | H33: =F33*G33 -> 0 | K33: =I33*J33 -> 0 | O33: =SUM(L33,I33,F33,C33) -> 0 | P33: =SUM(M33,J33,G33,D33) -> 0 | Q33: =O33*P33 -> 0
A34: Weighted Leg Raise | B34: 2-3 x 12-15 | E34: =C34*D34 -> 0 | H34: =F34*G34 -> 0 | K34: =I34*J34 -> 0 | O34: =SUM(L34,I34,F34,C34) -> 0 | P34: =SUM(M34,J34,G34,D34) -> 0 | Q34: =O34*P34 -> 0
A35: =A24+2 -> 42455 | C35: Set 1 | F35: Set 2 | I35: Set 3 | L35: Set 4 | O35: Training Volume | R35: Notes
A36: Exercise | B36: Sets x Reps | C36: Reps | D36: Weight | E36: Volume | F36: Reps | G36: Weight | H36: Volume | I36: Reps | J36: Weight | K36: Volume | L36: Reps | M36: Weight | N36: Volume | O36: Reps | P36: Weight | Q36: Volume
A37: Bench Press | B37: 4 x 5 | E37: =C37*D37 -> 0 | H37: =F37*G37 -> 0 | K37: =I37*J37 -> 0 | O37: =SUM(L37,I37,F37,C37) -> 0 | P37: =SUM(M37,J37,G37,D37) -> 0 | Q37: =O37*P37 -> 0
A38: Barbell Overhead Press | B38: 3 x 5 | E38: =C38*D38 -> 0 | H38: =F38*G38 -> 0 | K38: =I38*J38 -> 0 | O38: =SUM(L38,I38,F38,C38) -> 0 | P38: =SUM(M38,J38,G38,D38) -> 0 | Q38: =O38*P38 -> 0
A39: Weighted Dip | B39: 3 x 6-8 | E39: =C39*D39 -> 0 | H39: =F39*G39 -> 0 | K39: =I39*J39 -> 0 | O39: =SUM(L39,I39,F39,C39) -> 0 | P39: =SUM(M39,J39,G39,D39) -> 0 | Q39: =O39*P39 -> 0
A40: Dumbbell Shoulder Press | B40: 3 x 8-12 | E40: =C40*D40 -> 0 | H40: =F40*G40 -> 0 | K40: =I40*J40 -> 0 | O40: =SUM(L40,I40,F40,C40) -> 0 | P40: =SUM(M40,J40,G40,D40) -> 0 | Q40: =O40*P40 -> 0
A41: Dumbbell Lateral Raise * | B41: 4 x 8-12 | E41: =C41*D41 -> 0 | H41: =F41*G41 -> 0 | K41: =I41*J41 -> 0 | O41: =SUM(L41,I41,F41,C41) -> 0 | P41: =SUM(M41,J41,G41,D41) -> 0 | Q41: =O41*P41 -> 0
A42: Dumbbell Triceps Extension | B42: 4 x 8-12 | E42: =C42*D42 -> 0 | H42: =F42*G42 -> 0 | K42: =I42*J42 -> 0 | O42: =SUM(L42,I42,F42,C42) -> 0 | P42: =SUM(M42,J42,G42,D42) -> 0 | Q42: =O42*P42 -> 0
A43: Cable Triceps Extension | B43: 4 x 12-15 | E43: =C43*D43 -> 0 | H43: =F43*G43 -> 0 | K43: =I43*J43 -> 0 | O43: =SUM(L43,I43,F43,C43) -> 0 | P43: =SUM(M43,J43,G43,D43) -> 0 | Q43: =O43*P43 -> 0
A44: Weighted Leg Raise | B44: 2-3 x 12-15 | E44: =C44*D44 -> 0 | H44: =F44*G44 -> 0 | K44: =I44*J44 -> 0 | O44: =SUM(L44,I44,F44,C44) -> 0 | P44: =SUM(M44,J44,G44,D44) -> 0 | Q44: =O44*P44 -> 0
A45: Weighted Crunch | B45: 2-3 x 8-12 | E45: =C45*D45 -> 0 | H45: =F45*G45 -> 0 | K45: =I45*J45 -> 0 | O45: =SUM(L45,I45,F45,C45) -> 0 | P45: =SUM(M45,J45,G45,D45) -> 0 | Q45: =O45*P45 -> 0
A46: =A35+1 -> 42456 | C46: Set 1 | F46: Set 2 | I46: Set 3 | L46: Set 4 | O46: Total Volume | R46: Notes
A47: Exercise | B47: Sets x Reps | C47: Reps | D47: Weight | E47: Volume | F47: Reps | G47: Weight | H47: Volume | I47: Reps | J47: Weight | K47: Volume | L47: Reps | M47: Weight | N47: Volume | O47: Reps | P47: Weight | Q47: Volume
A48: Deadlift | B48: 4 x 5 | E48: =C48*D48 -> 0 | H48: =F48*G48 -> 0 | K48: =I48*J48 -> 0 | N48: =L48*M48 -> 0 | O48: =SUM(L48,I48,F48,C48) -> 0 | P48: =SUM(M48,J48,G48,D48) -> 0 | Q48: =O48*P48 -> 0
A49: (Weighted) Pull Up | B49: 3 x 5 | E49: =C49*D49 -> 0 | H49: =F49*G49 -> 0 | K49: =I49*J49 -> 0 | N49: =L49*M49 -> 0 | O49: =SUM(L49,I49,F49,C49) -> 0 | P49: =SUM(M49,J49,G49,D49) -> 0 | Q49: =O49*P49 -> 0
A50: Barbell Bent Over Row | B50: 3 x 6-8 | E50: =C50*D50 -> 0 | H50: =F50*G50 -> 0 | K50: =I50*J50 -> 0 | N50: =L50*M50 -> 0 | O50: =SUM(L50,I50,F50,C50) -> 0 | P50: =SUM(M50,J50,G50,D50) -> 0 | Q50: =O50*P50 -> 0
A51: Dumbbell One-Arm Row | B51: 3 x 8-12 | E51: =C51*D51 -> 0 | H51: =F51*G51 -> 0 | K51: =I51*J51 -> 0 | N51: =L51*M51 -> 0 | O51: =SUM(L51,I51,F51,C51) -> 0 | P51: =SUM(M51,J51,G51,D51) -> 0 | Q51: =O51*P51 -> 0
A52: Barbell Curl | B52: 4 x 8-12 | E52: =C52*D52 -> 0 | H52: =F52*G52 -> 0 | K52: =I52*J52 -> 0 | N52: =L52*M52 -> 0 | O52: =SUM(L52,I52,F52,C52) -> 0 | P52: =SUM(M52,J52,G52,D52) -> 0 | Q52: =O52*P52 -> 0
A53: Dumbbell Curl | B53: 4 x 8-12 | E53: =C53*D53 -> 0 | H53: =F53*G53 -> 0 | K53: =I53*J53 -> 0 | N53: =L53*M53 -> 0 | O53: =SUM(L53,I53,F53,C53) -> 0 | P53: =SUM(M53,J53,G53,D53) -> 0 | Q53: =O53*P53 -> 0
A54: Dumbbell Rear Deltoid Raise | B54: 4 x 8-12 | E54: =C54*D54 -> 0 | H54: =F54*G54 -> 0 | K54: =I54*J54 -> 0 | N54: =L54*M54 -> 0 | O54: =SUM(L54,I54,F54,C54) -> 0 | P54: =SUM(M54,J54,G54,D54) -> 0 | Q54: =O54*P54 -> 0
A55: Cable Face Pull | B55: 4 x 12-15 | E55: =C55*D55 -> 0 | H55: =F55*G55 -> 0 | K55: =I55*J55 -> 0 | N55: =L55*M55 -> 0 | O55: =SUM(L55,I55,F55,C55) -> 0 | P55: =SUM(M55,J55,G55,D55) -> 0 | Q55: =O55*P55 -> 0
A56: Weighted Hyperextension | B56: 2-3 x 8-12 | E56: =C56*D56 -> 0 | H56: =F56*G56 -> 0 | K56: =I56*J56 -> 0 | N56: =L56*M56 -> 0 | O56: =SUM(L56,I56,F56,C56) -> 0 | P56: =SUM(M56,J56,G56,D56) -> 0 | Q56: =O56*P56 -> 0

Sheet Week2
A1: Week starting: | B1: =Week1!B1+7 -> 42457 | C1: Week 2
A2: =Week1!A46+2 -> 42458 | C2: Set 1 | F2: Set 2 | I2: Set 3 | L2: Set 4 | O2: Training Volume | R2: Notes
A3: Exercise | B3: Sets x Reps | C3: Reps | D3: Weight | E3: Total | F3: Reps | G3: Weight | H3: Total | I3: Reps | J3: Weight | K3: Total | L3: Reps | M3: Weight | N3: Total | O3: Reps | P3: Weight | Q3: Total
A4: Squat | B4: 4 x 5 | E4: =C4*D4 -> 0 | H4: =F4*G4 -> 0 | K4: =I4*J4 -> 0 | O4: =SUM(L4,I4,F4,C4) -> 0 | P4: =SUM(M4,J4,G4,D4) -> 0 | Q4: =O4*P4 -> 0
A5: Romanian Deadlift | B5: 3 x 5 | E5: =C5*D5 -> 0 | H5: =F5*G5 -> 0 | K5: =I5*J5 -> 0 | O5: =SUM(L5,I5,F5,C5) -> 0 | P5: =SUM(M5,J5,G5,D5) -> 0 | Q5: =O5*P5 -> 0
A6: Leg Press | B6: 3 x 6-8 | E6: =C6*D6 -> 0 | H6: =F6*G6 -> 0 | K6: =I6*J6 -> 0 | O6: =SUM(L6,I6,F6,C6) -> 0 | P6: =SUM(M6,J6,G6,D6) -> 0 | Q6: =O6*P6 -> 0
A7: Barbell Glute Bridge | B7: 4 x 8-12 | E7: =C7*D7 -> 0 | H7: =F7*G7 -> 0 | K7: =I7*J7 -> 0 | O7: =SUM(L7,I7,F7,C7) -> 0 | P7: =SUM(M7,J7,G7,D7) -> 0 | Q7: =O7*P7 -> 0
A8: Leg Curl | B8: 3 x 12-15 | E8: =C8*D8 -> 0 | H8: =F8*G8 -> 0 | K8: =I8*J8 -> 0 | O8: =SUM(L8,I8,F8,C8) -> 0 | P8: =SUM(M8,J8,G8,D8) -> 0 | Q8: =O8*P8 -> 0
A9: Standing Calf Raise | B9: 3 x 5 | E9: =C9*D9 -> 0 | H9: =F9*G9 -> 0 | K9: =I9*J9 -> 0 | O9: =SUM(L9,I9,F9,C9) -> 0 | P9: =SUM(M9,J9,G9,D9) -> 0 | Q9: =O9*P9 -> 0
A10: Calf Press | B10: 3 x 5 | E10: =C10*D10 -> 0 | H10: =F10*G10 -> 0 | K10: =I10*J10 -> 0 | O10: =SUM(L10,I10,F10,C10) -> 0 | P10: =SUM(M10,J10,G10,D10) -> 0 | Q10: =O10*P10 -> 0
A11: Seated Calf Raise | B11: 4 x 8-12 | E11: =C11*D11 -> 0 | H11: =F11*G11 -> 0 | K11: =I11*J11 -> 0 | O11: =SUM(L11,I11,F11,C11) -> 0 | P11: =SUM(M11,J11,G11,D11) -> 0 | Q11: =O11*P11 -> 0
A12: Weighted Leg Raise | B12: 2-3 x 12-15 | E12: =C12*D12 -> 0 | H12: =F12*G12 -> 0 | K12: =I12*J12 -> 0 | O12: =SUM(L12,I12,F12,C12) -> 0 | P12: =SUM(M12,J12,G12,D12) -> 0 | Q12: =O12*P12 -> 0
A13: =A2+2 -> 42460 | C13: Set 1 | F13: Set 2 | I13: Set 3 | L13: Set 4 | O13: Training Volume | R13: Notes
A14: Exercise | B14: Sets x Reps | C14: Reps | D14: Weight | E14: Total | F14: Reps | G14: Weight | H14: Total | I14: Reps | J14: Weight | K14: Total | L14: Reps | M14: Weight | N14: Total | O14: Reps | P14: Weight | Q14: Total
A15: Bench Press | B15: 4 x 5 | E15: =C15*D15 -> 0 | H15: =F15*G15 -> 0 | K15: =I15*J15 -> 0 | N15: =L15*M15 -> 0 | O15: =SUM(L15,I15,F15,C15) -> 0 | P15: =SUM(M15,J15,G15,D15) -> 0 | Q15: =O15*P15 -> 0
A16: Barbell Overhead Press | B16: 3 x 5 | E16: =C16*D16 -> 0 | H16: =F16*G16 -> 0 | K16: =I16*J16 -> 0 | N16: =L16*M16 -> 0 | O16: =SUM(L16,I16,F16,C16) -> 0 | P16: =SUM(M16,J16,G16,D16) -> 0 | Q16: =O16*P16 -> 0
A17: Weighted Dip | B17: 3 x 6-8 | E17: =C17*D17 -> 0 | H17: =F17*G17 -> 0 | K17: =I17*J17 -> 0 | N17: =L17*M17 -> 0 | O17: =SUM(L17,I17,F17,C17) -> 0 | P17: =SUM(M17,J17,G17,D17) -> 0 | Q17: =O17*P17 -> 0
A18: Dumbbell Shoulder Press | B18: 3 x 8-12 | E18: =C18*D18 -> 0 | H18: =F18*G18 -> 0 | K18: =I18*J18 -> 0 | N18: =L18*M18 -> 0 | O18: =SUM(L18,I18,F18,C18) -> 0 | P18: =SUM(M18,J18,G18,D18) -> 0 | Q18: =O18*P18 -> 0
A19: Dumbbell Lateral Raise * | B19: 4 x 8-12 | E19: =C19*D19 -> 0 | H19: =F19*G19 -> 0 | K19: =I19*J19 -> 0 | N19: =L19*M19 -> 0 | O19: =SUM(L19,I19,F19,C19) -> 0 | P19: =SUM(M19,J19,G19,D19) -> 0 | Q19: =O19*P19 -> 0
A20: Dumbbell Triceps Extension | B20: 4 x 8-12 | E20: =C20*D20 -> 0 | H20: =F20*G20 -> 0 | K20: =I20*J20 -> 0 | N20: =L20*M20 -> 0 | O20: =SUM(L20,I20,F20,C20) -> 0 | P20: =SUM(M20,J20,G20,D20) -> 0 | Q20: =O20*P20 -> 0
A21: Cable Triceps Extension | B21: 4 x 12-15 | E21: =C21*D21 -> 0 | H21: =F21*G21 -> 0 | K21: =I21*J21 -> 0 | N21: =L21*M21 -> 0 | O21: =SUM(L21,I21,F21,C21) -> 0 | P21: =SUM(M21,J21,G21,D21) -> 0 | Q21: =O21*P21 -> 0
A22: Weighted Leg Raise | B22: 2-3 x 12-15 | E22: =C22*D22 -> 0 | H22: =F22*G22 -> 0 | K22: =I22*J22 -> 0 | N22: =L22*M22 -> 0 | O22: =SUM(L22,I22,F22,C22) -> 0 | P22: =SUM(M22,J22,G22,D22) -> 0 | Q22: =O22*P22 -> 0
A23: Weighted Crunch | B23: 2-3 x 8-12 | E23: =C23*D23 -> 0 | H23: =F23*G23 -> 0 | K23: =I23*J23 -> 0 | N23: =L23*M23 -> 0 | O23: =SUM(L23,I23,F23,C23) -> 0 | P23: =SUM(M23,J23,G23,D23) -> 0 | Q23: =O23*P23 -> 0
A24: =A13+1 -> 42461 | C24: Set 1 | F24: Set 2 | I24: Set 3 | L24: Set 4 | O24: Training Volume | R24: Notes
A25: Exercise | B25: Sets x Reps | C25: Reps | D25: Weight | E25: Total | F25: Reps | G25: Weight | H25: Total | I25: Reps | J25: Weight | K25: Total | L25: Reps | M25: Weight | N25: Total | O25: Reps | P25: Weight | Q25: Total
A26: Deadlift | B26: 4 x 5 | E26: =C26*D26 -> 0 | H26: =F26*G26 -> 0 | K26: =I26*J26 -> 0 | O26: =SUM(L26,I26,F26,C26) -> 0 | P26: =SUM(M26,J26,G26,D26) -> 0 | Q26: =O26*P26 -> 0
A27: (Weighted) Pull Up | B27: 3 x 5 | E27: =C27*D27 -> 0 | H27: =F27*G27 -> 0 | K27: =I27*J27 -> 0 | O27: =SUM(L27,I27,F27,C27) -> 0 | P27: =SUM(M27,J27,G27,D27) -> 0 | Q27: =O27*P27 -> 0
A28: Barbell Bent Over Row | B28: 3 x 6-8 | E28: =C28*D28 -> 0 | H28: =F28*G28 -> 0 | K28: =I28*J28 -> 0 | O28: =SUM(L28,I28,F28,C28) -> 0 | P28: =SUM(M28,J28,G28,D28) -> 0 | Q28: =O28*P28 -> 0
A29: Dumbbell One-Arm Row | B29: 3 x 8-12 | E29: =C29*D29 -> 0 | H29: =F29*G29 -> 0 | K29: =I29*J29 -> 0 | O29: =SUM(L29,I29,F29,C29) -> 0 | P29: =SUM(M29,J29,G29,D29) -> 0 | Q29: =O29*P29 -> 0
A30: Barbell Curl | B30: 4 x 8-12 | E30: =C30*D30 -> 0 | H30: =F30*G30 -> 0 | K30: =I30*J30 -> 0 | O30: =SUM(L30,I30,F30,C30) -> 0 | P30: =SUM(M30,J30,G30,D30) -> 0 | Q30: =O30*P30 -> 0
A31: Dumbbell Curl | B31: 4 x 8-12 | E31: =C31*D31 -> 0 | H31: =F31*G31 -> 0 | K31: =I31*J31 -> 0 | O31: =SUM(L31,I31,F31,C31) -> 0 | P31: =SUM(M31,J31,G31,D31) -> 0 | Q31: =O31*P31 -> 0
A32: Dumbbell Rear Deltoid Raise | B32: 4 x 8-12 | E32: =C32*D32 -> 0 | H32: =F32*G32 -> 0 | K32: =I32*J32 -> 0 | O32: =SUM(L32,I32,F32,C32) -> 0 | P32: =SUM(M32,J32,G32,D32) -> 0 | Q32: =O32*P32 -> 0
A33: Cable Face Pull | B33: 4 x 12-15 | E33: =C33*D33 -> 0 | H33: =F33*G33 -> 0 | K33: =I33*J33 -> 0 | O33: =SUM(L33,I33,F33,C33) -> 0 | P33: =SUM(M33,J33,G33,D33) -> 0 | Q33: =O33*P33 -> 0
A34: Weighted Hyperextension | B34: 2-3 x 8-12 | E34: =C34*D34 -> 0 | H34: =F34*G34 -> 0 | K34: =I34*J34 -> 0 | O34: =SUM(L34,I34,F34,C34) -> 0 | P34: =SUM(M34,J34,G34,D34) -> 0 | Q34: =O34*P34 -> 0
A35: =A24+2 -> 42463 | C35: Set 1 | F35: Set 2 | I35: Set 3 | L35: Set 4 | O35: Training Volume | R35: Notes
A36: Exercise | B36: Sets x Reps | C36: Reps | D36: Weight | E36: Total | F36: Reps | G36: Weight | H36: Total | I36: Reps | J36: Weight | K36: Total | L36: Reps | M36: Weight | N36: Total | O36: Reps | P36: Weight | Q36: Total
A37: Squat | B37: 4 x 5 | E37: =C37*D37 -> 0 | H37: =F37*G37 -> 0 | K37: =I37*J37 -> 0 | O37: =SUM(L37,I37,F37,C37) -> 0 | P37: =SUM(M37,J37,G37,D37) -> 0 | Q37: =O37*P37 -> 0
A38: Romanian Deadlift | B38: 3 x 5 | E38: =C38*D38 -> 0 | H38: =F38*G38 -> 0 | K38: =I38*J38 -> 0 | O38: =SUM(L38,I38,F38,C38) -> 0 | P38: =SUM(M38,J38,G38,D38) -> 0 | Q38: =O38*P38 -> 0
A39: Leg Press | B39: 3 x 6-8 | E39: =C39*D39 -> 0 | H39: =F39*G39 -> 0 | K39: =I39*J39 -> 0 | O39: =SUM(L39,I39,F39,C39) -> 0 | P39: =SUM(M39,J39,G39,D39) -> 0 | Q39: =O39*P39 -> 0
A40: Barbell Glute Bridge | B40: 4 x 8-12 | E40: =C40*D40 -> 0 | H40: =F40*G40 -> 0 | K40: =I40*J40 -> 0 | O40: =SUM(L40,I40,F40,C40) -> 0 | P40: =SUM(M40,J40,G40,D40) -> 0 | Q40: =O40*P40 -> 0
A41: Leg Curl | B41: 3 x 12-15 | E41: =C41*D41 -> 0 | H41: =F41*G41 -> 0 | K41: =I41*J41 -> 0 | O41: =SUM(L41,I41,F41,C41) -> 0 | P41: =SUM(M41,J41,G41,D41) -> 0 | Q41: =O41*P41 -> 0
A42: Standing Calf Raise | B42: 3 x 5 | E42: =C42*D42 -> 0 | H42: =F42*G42 -> 0 | K42: =I42*J42 -> 0 | O42: =SUM(L42,I42,F42,C42) -> 0 | P42: =SUM(M42,J42,G42,D42) -> 0 | Q42: =O42*P42 -> 0
A43: Calf Press | B43: 3 x 5 | E43: =C43*D43 -> 0 | H43: =F43*G43 -> 0 | K43: =I43*J43 -> 0 | O43: =SUM(L43,I43,F43,C43) -> 0 | P43: =SUM(M43,J43,G43,D43) -> 0 | Q43: =O43*P43 -> 0
A44: Seated Calf Raise | B44: 4 x 8-12 | E44: =C44*D44 -> 0 | H44: =F44*G44 -> 0 | K44: =I44*J44 -> 0 | O44: =SUM(L44,I44,F44,C44) -> 0 | P44: =SUM(M44,J44,G44,D44) -> 0 | Q44: =O44*P44 -> 0
A45: Weighted Leg Raise | B45: 2-3 x 12-15 | E45: =C45*D45 -> 0 | H45: =F45*G45 -> 0 | K45: =I45*J45 -> 0 | O45: =SUM(L45,I45,F45,C45) -> 0 | P45: =SUM(M45,J45,G45,D45) -> 0 | Q45: =O45*P45 -> 0
A46: =A35+2 -> 42465 | C46: Set 1 | F46: Set 2 | I46: Set 3 | L46: Set 4 | O46: Training Volume | R46: Notes
A47: Exercise | B47: Sets x Reps | C47: Reps | D47: Weight | E47: Total | F47: Reps | G47: Weight | H47: Total | I47: Reps | J47: Weight | K47: Total | L47: Reps | M47: Weight | N47: Total | O47: Reps | P47: Weight | Q47: Total
A48: Bench Press | B48: 4 x 5 | E48: =C48*D48 -> 0 | H48: =F48*G48 -> 0 | K48: =I48*J48 -> 0 | N48: =L48*M48 -> 0 | O48: =SUM(L48,I48,F48,C48) -> 0 | P48: =SUM(M48,J48,G48,D48) -> 0 | Q48: =O48*P48 -> 0
A49: Barbell Overhead Press | B49: 3 x 5 | E49: =C49*D49 -> 0 | H49: =F49*G49 -> 0 | K49: =I49*J49 -> 0 | N49: =L49*M49 -> 0 | O49: =SUM(L49,I49,F49,C49) -> 0 | P49: =SUM(M49,J49,G49,D49) -> 0 | Q49: =O49*P49 -> 0
A50: Weighted Dip | B50: 3 x 6-8 | E50: =C50*D50 -> 0 | H50: =F50*G50 -> 0 | K50: =I50*J50 -> 0 | N50: =L50*M50 -> 0 | O50: =SUM(L50,I50,F50,C50) -> 0 | P50: =SUM(M50,J50,G50,D50) -> 0 | Q50: =O50*P50 -> 0
A51: Dumbbell Shoulder Press | B51: 3 x 8-12 | E51: =C51*D51 -> 0 | H51: =F51*G51 -> 0 | K51: =I51*J51 -> 0 | N51: =L51*M51 -> 0 | O51: =SUM(L51,I51,F51,C51) -> 0 | P51: =SUM(M51,J51,G51,D51) -> 0 | Q51: =O51*P51 -> 0
A52: Dumbbell Lateral Raise * | B52: 4 x 8-12 | E52: =C52*D52 -> 0 | H52: =F52*G52 -> 0 | K52: =I52*J52 -> 0 | N52: =L52*M52 -> 0 | O52: =SUM(L52,I52,F52,C52) -> 0 | P52: =SUM(M52,J52,G52,D52) -> 0 | Q52: =O52*P52 -> 0
A53: Dumbbell Triceps Extension | B53: 4 x 8-12 | E53: =C53*D53 -> 0 | H53: =F53*G53 -> 0 | K53: =I53*J53 -> 0 | N53: =L53*M53 -> 0 | O53: =SUM(L53,I53,F53,C53) -> 0 | P53: =SUM(M53,J53,G53,D53) -> 0 | Q53: =O53*P53 -> 0
A54: Cable Triceps Extension | B54: 4 x 12-15 | E54: =C54*D54 -> 0 | H54: =F54*G54 -> 0 | K54: =I54*J54 -> 0 | N54: =L54*M54 -> 0 | O54: =SUM(L54,I54,F54,C54) -> 0 | P54: =SUM(M54,J54,G54,D54) -> 0 | Q54: =O54*P54 -> 0
A55: Weighted Leg Raise | B55: 2-3 x 12-15 | E55: =C55*D55 -> 0 | H55: =F55*G55 -> 0 | K55: =I55*J55 -> 0 | N55: =L55*M55 -> 0 | O55: =SUM(L55,I55,F55,C55) -> 0 | P55: =SUM(M55,J55,G55,D55) -> 0 | Q55: =O55*P55 -> 0
A56: Weighted Crunch | B56: 2-3 x 8-12 | E56: =C56*D56 -> 0 | H56: =F56*G56 -> 0 | K56: =I56*J56 -> 0 | N56: =L56*M56 -> 0 | O56: =SUM(L56,I56,F56,C56) -> 0 | P56: =SUM(M56,J56,G56,D56) -> 0 | Q56: =O56*P56 -> 0

Sheet Week3
A1: Week starting: | B1: =Week2!B1+7 -> 42464 | C1: Week 3
A2: =Week2!A46+1 -> 42466 | C2: Set 1 | F2: Set 2 | I2: Set 3 | L2: Set 4 | O2: Training Volume | R2: Notes
A3: Exercise | B3: Sets x Reps | C3: Reps | D3: Weight | E3: Total | F3: Reps | G3: Weight | H3: Total | I3: Reps | J3: Weight | K3: Total | L3: Reps | M3: Weight | N3: Total | O3: Reps | P3: Weight | Q3: Total
A4: Deadlift | B4: 4 x 5 | E4: =C4*D4 -> 0 | H4: =F4*G4 -> 0 | K4: =I4*J4 -> 0 | N4: =L4*M4 -> 0 | O4: =SUM(L4,I4,F4,C4) -> 0 | P4: =SUM(M4,J4,G4,D4) -> 0 | Q4: =O4*P4 -> 0
A5: (Weighted) Pull Up | B5: 3 x 5 | E5: =C5*D5 -> 0 | H5: =F5*G5 -> 0 | K5: =I5*J5 -> 0 | N5: =L5*M5 -> 0 | O5: =SUM(L5,I5,F5,C5) -> 0 | P5: =SUM(M5,J5,G5,D5) -> 0 | Q5: =O5*P5 -> 0
A6: Barbell Bent Over Row | B6: 3 x 6-8 | E6: =C6*D6 -> 0 | H6: =F6*G6 -> 0 | K6: =I6*J6 -> 0 | N6: =L6*M6 -> 0 | O6: =SUM(L6,I6,F6,C6) -> 0 | P6: =SUM(M6,J6,G6,D6) -> 0 | Q6: =O6*P6 -> 0
A7: Dumbbell One-Arm Row | B7: 3 x 8-12 | E7: =C7*D7 -> 0 | H7: =F7*G7 -> 0 | K7: =I7*J7 -> 0 | N7: =L7*M7 -> 0 | O7: =SUM(L7,I7,F7,C7) -> 0 | P7: =SUM(M7,J7,G7,D7) -> 0 | Q7: =O7*P7 -> 0
A8: Barbell Curl | B8: 4 x 8-12 | E8: =C8*D8 -> 0 | H8: =F8*G8 -> 0 | K8: =I8*J8 -> 0 | N8: =L8*M8 -> 0 | O8: =SUM(L8,I8,F8,C8) -> 0 | P8: =SUM(M8,J8,G8,D8) -> 0 | Q8: =O8*P8 -> 0
A9: Dumbbell Curl | B9: 4 x 8-12 | E9: =C9*D9 -> 0 | H9: =F9*G9 -> 0 | K9: =I9*J9 -> 0 | N9: =L9*M9 -> 0 | O9: =SUM(L9,I9,F9,C9) -> 0 | P9: =SUM(M9,J9,G9,D9) -> 0 | Q9: =O9*P9 -> 0
A10: Dumbbell Rear Deltoid Raise | B10: 4 x 8-12 | E10: =C10*D10 -> 0 | H10: =F10*G10 -> 0 | K10: =I10*J10 -> 0 | N10: =L10*M10 -> 0 | O10: =SUM(L10,I10,F10,C10) -> 0 | P10: =SUM(M10,J10,G10,D10) -> 0 | Q10: =O10*P10 -> 0
A11: Cable Face Pull | B11: 4 x 12-15 | E11: =C11*D11 -> 0 | H11: =F11*G11 -> 0 | K11: =I11*J11 -> 0 | N11: =L11*M11 -> 0 | O11: =SUM(L11,I11,F11,C11) -> 0 | P11: =SUM(M11,J11,G11,D11) -> 0 | Q11: =O11*P11 -> 0
A12: Weighted Hyperextension | B12: 2-3 x 8-12 | E12: =C12*D12 -> 0 | H12: =F12*G12 -> 0 | K12: =I12*J12 -> 0 | N12: =L12*M12 -> 0 | O12: =SUM(L12,I12,F12,C12) -> 0 | P12: =SUM(M12,J12,G12,D12) -> 0 | Q12: =O12*P12 -> 0
A13: =A2+2 -> 42468 | C13: Set 1 | F13: Set 2 | I13: Set 3 | L13: Set 4 | O13: Training Volume | R13: Notes
A14: Exercise | B14: Sets x Reps | C14: Reps | D14: Weight | E14: Total | F14: Reps | G14: Weight | H14: Total | I14: Reps | J14: Weight | K14: Total | L14: Reps | M14: Weight | N14: Total | O14: Reps | P14: Weight | Q14: Total
A15: Squat | B15: 4 x 5 | E15: =C15*D15 -> 0 | H15: =F15*G15 -> 0 | K15: =I15*J15 -> 0 | N15: =L15*M15 -> 0 | O15: =SUM(L15,I15,F15,C15) -> 0 | P15: =SUM(M15,J15,G15,D15) -> 0 | Q15: =O15*P15 -> 0
A16: Romanian Deadlift | B16: 3 x 5 | E16: =C16*D16 -> 0 | H16: =F16*G16 -> 0 | K16: =I16*J16 -> 0 | N16: =L16*M16 -> 0 | O16: =SUM(L16,I16,F16,C16) -> 0 | P16: =SUM(M16,J16,G16,D16) -> 0 | Q16: =O16*P16 -> 0
A17: Leg Press | B17: 3 x 6-8 | E17: =C17*D17 -> 0 | H17: =F17*G17 -> 0 | K17: =I17*J17 -> 0 | N17: =L17*M17 -> 0 | O17: =SUM(L17,I17,F17,C17) -> 0 | P17: =SUM(M17,J17,G17,D17) -> 0 | Q17: =O17*P17 -> 0
A18: Barbell Glute Bridge | B18: 4 x 8-12 | E18: =C18*D18 -> 0 | H18: =F18*G18 -> 0 | K18: =I18*J18 -> 0 | N18: =L18*M18 -> 0 | O18: =SUM(L18,I18,F18,C18) -> 0 | P18: =SUM(M18,J18,G18,D18) -> 0 | Q18: =O18*P18 -> 0
A19: Leg Curl | B19: 3 x 12-15 | E19: =C19*D19 -> 0 | H19: =F19*G19 -> 0 | K19: =I19*J19 -> 0 | N19: =L19*M19 -> 0 | O19: =SUM(L19,I19,F19,C19) -> 0 | P19: =SUM(M19,J19,G19,D19) -> 0 | Q19: =O19*P19 -> 0
A20: Standing Calf Raise | B20: 3 x 5 | E20: =C20*D20 -> 0 | H20: =F20*G20 -> 0 | K20: =I20*J20 -> 0 | N20: =L20*M20 -> 0 | O20: =SUM(L20,I20,F20,C20) -> 0 | P20: =SUM(M20,J20,G20,D20) -> 0 | Q20: =O20*P20 -> 0
A21: Calf Press | B21: 3 x 5 | E21: =C21*D21 -> 0 | H21: =F21*G21 -> 0 | K21: =I21*J21 -> 0 | N21: =L21*M21 -> 0 | O21: =SUM(L21,I21,F21,C21) -> 0 | P21: =SUM(M21,J21,G21,D21) -> 0 | Q21: =O21*P21 -> 0
A22: Seated Calf Raise | B22: 4 x 8-12 | E22: =C22*D22 -> 0 | H22: =F22*G22 -> 0 | K22: =I22*J22 -> 0 | N22: =L22*M22 -> 0 | O22: =SUM(L22,I22,F22,C22) -> 0 | P22: =SUM(M22,J22,G22,D22) -> 0 | Q22: =O22*P22 -> 0
A23: Weighted Leg Raise | B23: 2-3 x 12-15 | E23: =C23*D23 -> 0 | H23: =F23*G23 -> 0 | K23: =I23*J23 -> 0 | N23: =L23*M23 -> 0 | O23: =SUM(L23,I23,F23,C23) -> 0 | P23: =SUM(M23,J23,G23,D23) -> 0 | Q23: =O23*P23 -> 0
A24: =A13+2 -> 42470 | C24: Set 1 | F24: Set 2 | I24: Set 3 | L24: Set 4 | O24: Training Volume | R24: Notes
A25: Exercise | B25: Sets x Reps | C25: Reps | D25: Weight | E25: Total | F25: Reps | G25: Weight | H25: Total | I25: Reps | J25: Weight | K25: Total | L25: Reps | M25: Weight | N25: Total | O25: Reps | P25: Weight | Q25: Total
A26: Bench Press | B26: 4 x 5 | E26: =C26*D26 -> 0 | H26: =F26*G26 -> 0 | K26: =I26*J26 -> 0 | N26: =L26*M26 -> 0 | O26: =SUM(L26,I26,F26,C26) -> 0 | P26: =SUM(M26,J26,G26,D26) -> 0 | Q26: =O26*P26 -> 0
A27: Barbell Overhead Press | B27: 3 x 5 | E27: =C27*D27 -> 0 | H27: =F27*G27 -> 0 | K27: =I27*J27 -> 0 | N27: =L27*M27 -> 0 | O27: =SUM(L27,I27,F27,C27) -> 0 | P27: =SUM(M27,J27,G27,D27) -> 0 | Q27: =O27*P27 -> 0
A28: Weighted Dip | B28: 3 x 6-8 | E28: =C28*D28 -> 0 | H28: =F28*G28 -> 0 | K28: =I28*J28 -> 0 | N28: =L28*M28 -> 0 | O28: =SUM(L28,I28,F28,C28) -> 0 | P28: =SUM(M28,J28,G28,D28) -> 0 | Q28: =O28*P28 -> 0
A29: Dumbbell Shoulder Press | B29: 3 x 8-12 | E29: =C29*D29 -> 0 | H29: =F29*G29 -> 0 | K29: =I29*J29 -> 0 | N29: =L29*M29 -> 0 | O29: =SUM(L29,I29,F29,C29) -> 0 | P29: =SUM(M29,J29,G29,D29) -> 0 | Q29: =O29*P29 -> 0
A30: Dumbbell Lateral Raise * | B30: 4 x 8-12 | E30: =C30*D30 -> 0 | H30: =F30*G30 -> 0 | K30: =I30*J30 -> 0 | N30: =L30*M30 -> 0 | O30: =SUM(L30,I30,F30,C30) -> 0 | P30: =SUM(M30,J30,G30,D30) -> 0 | Q30: =O30*P30 -> 0
A31: Dumbbell Triceps Extension | B31: 4 x 8-12 | E31: =C31*D31 -> 0 | H31: =F31*G31 -> 0 | K31: =I31*J31 -> 0 | N31: =L31*M31 -> 0 | O31: =SUM(L31,I31,F31,C31) -> 0 | P31: =SUM(M31,J31,G31,D31) -> 0 | Q31: =O31*P31 -> 0
A32: Cable Triceps Extension | B32: 4 x 12-15 | E32: =C32*D32 -> 0 | H32: =F32*G32 -> 0 | K32: =I32*J32 -> 0 | N32: =L32*M32 -> 0 | O32: =SUM(L32,I32,F32,C32) -> 0 | P32: =SUM(M32,J32,G32,D32) -> 0 | Q32: =O32*P32 -> 0
A33: Weighted Leg Raise | B33: 2-3 x 12-15 | E33: =C33*D33 -> 0 | H33: =F33*G33 -> 0 | K33: =I33*J33 -> 0 | N33: =L33*M33 -> 0 | O33: =SUM(L33,I33,F33,C33) -> 0 | P33: =SUM(M33,J33,G33,D33) -> 0 | Q33: =O33*P33 -> 0
A34: Weighted Crunch | B34: 2-3 x 8-12 | E34: =C34*D34 -> 0 | H34: =F34*G34 -> 0 | K34: =I34*J34 -> 0 | N34: =L34*M34 -> 0 | O34: =SUM(L34,I34,F34,C34) -> 0 | P34: =SUM(M34,J34,G34,D34) -> 0 | Q34: =O34*P34 -> 0
A35: =A24+1 -> 42471 | C35: Set 1 | F35: Set 2 | I35: Set 3 | L35: Set 4 | O35: Training Volume | R35: Notes
A36: Exercise | B36: Sets x Reps | C36: Reps | D36: Weight | E36: Total | F36: Reps | G36: Weight | H36: Total | I36: Reps | J36: Weight | K36: Total | L36: Reps | M36: Weight | N36: Total | O36: Reps | P36: Weight | Q36: Total
A37: Deadlift | B37: 4 x 5 | E37: =C37*D37 -> 0 | H37: =F37*G37 -> 0 | K37: =I37*J37 -> 0 | N37: =L37*M37 -> 0 | O37: =SUM(L37,I37,F37,C37) -> 0 | P37: =SUM(M37,J37,G37,D37) -> 0 | Q37: =O37*P37 -> 0
A38: (Weighted) Pull Up | B38: 3 x 5 | E38: =C38*D38 -> 0 | H38: =F38*G38 -> 0 | K38: =I38*J38 -> 0 | N38: =L38*M38 -> 0 | O38: =SUM(L38,I38,F38,C38) -> 0 | P38: =SUM(M38,J38,G38,D38) -> 0 | Q38: =O38*P38 -> 0
A39: Barbell Bent Over Row | B39: 3 x 6-8 | E39: =C39*D39 -> 0 | H39: =F39*G39 -> 0 | K39: =I39*J39 -> 0 | N39: =L39*M39 -> 0 | O39: =SUM(L39,I39,F39,C39) -> 0 | P39: =SUM(M39,J39,G39,D39) -> 0 | Q39: =O39*P39 -> 0
A40: Dumbbell One-Arm Row | B40: 3 x 8-12 | E40: =C40*D40 -> 0 | H40: =F40*G40 -> 0 | K40: =I40*J40 -> 0 | N40: =L40*M40 -> 0 | O40: =SUM(L40,I40,F40,C40) -> 0 | P40: =SUM(M40,J40,G40,D40) -> 0 | Q40: =O40*P40 -> 0
A41: Barbell Curl | B41: 4 x 8-12 | E41: =C41*D41 -> 0 | H41: =F41*G41 -> 0 | K41: =I41*J41 -> 0 | N41: =L41*M41 -> 0 | O41: =SUM(L41,I41,F41,C41) -> 0 | P41: =SUM(M41,J41,G41,D41) -> 0 | Q41: =O41*P41 -> 0
A42: Dumbbell Curl | B42: 4 x 8-12 | E42: =C42*D42 -> 0 | H42: =F42*G42 -> 0 | K42: =I42*J42 -> 0 | N42: =L42*M42 -> 0 | O42: =SUM(L42,I42,F42,C42) -> 0 | P42: =SUM(M42,J42,G42,D42) -> 0 | Q42: =O42*P42 -> 0
A43: Dumbbell Rear Deltoid Raise | B43: 4 x 8-12 | E43: =C43*D43 -> 0 | H43: =F43*G43 -> 0 | K43: =I43*J43 -> 0 | N43: =L43*M43 -> 0 | O43: =SUM(L43,I43,F43,C43) -> 0 | P43: =SUM(M43,J43,G43,D43) -> 0 | Q43: =O43*P43 -> 0
A44: Cable Face Pull | B44: 4 x 12-15 | E44: =C44*D44 -> 0 | H44: =F44*G44 -> 0 | K44: =I44*J44 -> 0 | N44: =L44*M44 -> 0 | O44: =SUM(L44,I44,F44,C44) -> 0 | P44: =SUM(M44,J44,G44,D44) -> 0 | Q44: =O44*P44 -> 0
A45: Weighted Hyperextension | B45: 2-3 x 8-12 | E45: =C45*D45 -> 0 | H45: =F45*G45 -> 0 | K45: =I45*J45 -> 0 | N45: =L45*M45 -> 0 | O45: =SUM(L45,I45,F45,C45) -> 0 | P45: =SUM(M45,J45,G45,D45) -> 0 | Q45: =O45*P45 -> 0
A46: =A35+2 -> 42473 | C46: Set 1 | F46: Set 2 | I46: Set 3 | L46: Set 4 | O46: Training Volume | R46: Notes
A47: Exercise | B47: Sets x Reps | C47: Reps | D47: Weight | E47: Total | F47: Reps | G47: Weight | H47: Total | I47: Reps | J47: Weight | K47: Total | L47: Reps | M47: Weight | N47: Total | O47: Reps | P47: Weight | Q47: Total
A48: Squat | B48: 4 x 5 | E48: =C48*D48 -> 0 | H48: =F48*G48 -> 0 | K48: =I48*J48 -> 0 | N48: =L48*M48 -> 0 | O48: =SUM(L48,I48,F48,C48) -> 0 | P48: =SUM(M48,J48,G48,D48) -> 0 | Q48: =O48*P48 -> 0
A49: Romanian Deadlift | B49: 3 x 5 | E49: =C49*D49 -> 0 | H49: =F49*G49 -> 0 | K49: =I49*J49 -> 0 | N49: =L49*M49 -> 0 | O49: =SUM(L49,I49,F49,C49) -> 0 | P49: =SUM(M49,J49,G49,D49) -> 0 | Q49: =O49*P49 -> 0
A50: Leg Press | B50: 3 x 6-8 | E50: =C50*D50 -> 0 | H50: =F50*G50 -> 0 | K50: =I50*J50 -> 0 | N50: =L50*M50 -> 0 | O50: =SUM(L50,I50,F50,C50) -> 0 | P50: =SUM(M50,J50,G50,D50) -> 0 | Q50: =O50*P50 -> 0
A51: Barbell Glute Bridge | B51: 4 x 8-12 | E51: =C51*D51 -> 0 | H51: =F51*G51 -> 0 | K51: =I51*J51 -> 0 | N51: =L51*M51 -> 0 | O51: =SUM(L51,I51,F51,C51) -> 0 | P51: =SUM(M51,J51,G51,D51) -> 0 | Q51: =O51*P51 -> 0
A52: Leg Curl | B52: 3 x 12-15 | E52: =C52*D52 -> 0 | H52: =F52*G52 -> 0 | K52: =I52*J52 -> 0 | N52: =L52*M52 -> 0 | O52: =SUM(L52,I52,F52,C52) -> 0 | P52: =SUM(M52,J52,G52,D52) -> 0 | Q52: =O52*P52 -> 0
A53: Standing Calf Raise | B53: 3 x 5 | E53: =C53*D53 -> 0 | H53: =F53*G53 -> 0 | K53: =I53*J53 -> 0 | N53: =L53*M53 -> 0 | O53: =SUM(L53,I53,F53,C53) -> 0 | P53: =SUM(M53,J53,G53,D53) -> 0 | Q53: =O53*P53 -> 0
A54: Calf Press | B54: 3 x 5 | E54: =C54*D54 -> 0 | H54: =F54*G54 -> 0 | K54: =I54*J54 -> 0 | N54: =L54*M54 -> 0 | O54: =SUM(L54,I54,F54,C54) -> 0 | P54: =SUM(M54,J54,G54,D54) -> 0 | Q54: =O54*P54 -> 0
A55: Seated Calf Raise | B55: 4 x 8-12 | E55: =C55*D55 -> 0 | H55: =F55*G55 -> 0 | K55: =I55*J55 -> 0 | N55: =L55*M55 -> 0 | O55: =SUM(L55,I55,F55,C55) -> 0 | P55: =SUM(M55,J55,G55,D55) -> 0 | Q55: =O55*P55 -> 0
A56: Weighted Leg Raise | B56: 2-3 x 12-15 | E56: =C56*D56 -> 0 | H56: =F56*G56 -> 0 | K56: =I56*J56 -> 0 | N56: =L56*M56 -> 0 | O56: =SUM(L56,I56,F56,C56) -> 0 | P56: =SUM(M56,J56,G56,D56) -> 0 | Q56: =O56*P56 -> 0

Sheet Week4
A1: Week starting: | B1: =Week3!B1+7 -> 42471 | C1: Week 4
A2: =Week3!A46+2 -> 42475 | C2: Set 1 | F2: Set 2 | I2: Set 3 | L2: Set 4 | O2: Training Volume | R2: Notes
A3: Exercise | B3: Sets x Reps | C3: Reps | D3: Weight | E3: Total | F3: Reps | G3: Weight | H3: Total | I3: Reps | J3: Weight | K3: Total | L3: Reps | M3: Weight | N3: Total | O3: Reps | P3: Weight | Q3: Total
A4: Bench Press | B4: 4 x 5 | E4: =C4*D4 -> 0 | H4: =F4*G4 -> 0 | K4: =I4*J4 -> 0 | N4: =L4*M4 -> 0 | O4: =SUM(L4,I4,F4,C4) -> 0 | P4: =SUM(M4,J4,G4,D4) -> 0 | Q4: =O4*P4 -> 0
A5: Barbell Overhead Press | B5: 3 x 5 | E5: =C5*D5 -> 0 | H5: =F5*G5 -> 0 | K5: =I5*J5 -> 0 | N5: =L5*M5 -> 0 | O5: =SUM(L5,I5,F5,C5) -> 0 | P5: =SUM(M5,J5,G5,D5) -> 0 | Q5: =O5*P5 -> 0
A6: Weighted Dip | B6: 3 x 6-8 | E6: =C6*D6 -> 0 | H6: =F6*G6 -> 0 | K6: =I6*J6 -> 0 | N6: =L6*M6 -> 0 | O6: =SUM(L6,I6,F6,C6) -> 0 | P6: =SUM(M6,J6,G6,D6) -> 0 | Q6: =O6*P6 -> 0
A7: Dumbbell Shoulder Press | B7: 3 x 8-12 | E7: =C7*D7 -> 0 | H7: =F7*G7 -> 0 | K7: =I7*J7 -> 0 | N7: =L7*M7 -> 0 | O7: =SUM(L7,I7,F7,C7) -> 0 | P7: =SUM(M7,J7,G7,D7) -> 0 | Q7: =O7*P7 -> 0
A8: Dumbbell Lateral Raise * | B8: 4 x 8-12 | E8: =C8*D8 -> 0 | H8: =F8*G8 -> 0 | K8: =I8*J8 -> 0 | N8: =L8*M8 -> 0 | O8: =SUM(L8,I8,F8,C8) -> 0 | P8: =SUM(M8,J8,G8,D8) -> 0 | Q8: =O8*P8 -> 0
A9: Dumbbell Triceps Extension | B9: 4 x 8-12 | E9: =C9*D9 -> 0 | H9: =F9*G9 -> 0 | K9: =I9*J9 -> 0 | N9: =L9*M9 -> 0 | O9: =SUM(L9,I9,F9,C9) -> 0 | P9: =SUM(M9,J9,G9,D9) -> 0 | Q9: =O9*P9 -> 0
A10: Cable Triceps Extension | B10: 4 x 12-15 | E10: =C10*D10 -> 0 | H10: =F10*G10 -> 0 | K10: =I10*J10 -> 0 | N10: =L10*M10 -> 0 | O10: =SUM(L10,I10,F10,C10) -> 0 | P10: =SUM(M10,J10,G10,D10) -> 0 | Q10: =O10*P10 -> 0
A11: Weighted Leg Raise | B11: 2-3 x 12-15 | E11: =C11*D11 -> 0 | H11: =F11*G11 -> 0 | K11: =I11*J11 -> 0 | N11: =L11*M11 -> 0 | O11: =SUM(L11,I11,F11,C11) -> 0 | P11: =SUM(M11,J11,G11,D11) -> 0 | Q11: =O11*P11 -> 0
A12: Weighted Crunch | B12: 2-3 x 8-12 | E12: =C12*D12 -> 0 | H12: =F12*G12 -> 0 | K12: =I12*J12 -> 0 | N12: =L12*M12 -> 0 | O12: =SUM(L12,I12,F12,C12) -> 0 | P12: =SUM(M12,J12,G12,D12) -> 0 | Q12: =O12*P12 -> 0
A13: =A2+1 -> 42476 | C13: Set 1 | F13: Set 2 | I13: Set 3 | L13: Set 4 | O13: Training Volume | R13: Notes
A14: Exercise | B14: Sets x Reps | C14: Reps | D14: Weight | E14: Total | F14: Reps | G14: Weight | H14: Total | I14: Reps | J14: Weight | K14: Total | L14: Reps | M14: Weight | N14: Total | O14: Reps | P14: Weight | Q14: Total
A15: Deadlift | B15: 4 x 5 | E15: =C15*D15 -> 0 | H15: =F15*G15 -> 0 | K15: =I15*J15 -> 0 | N15: =L15*M15 -> 0 | O15: =SUM(L15,I15,F15,C15) -> 0 | P15: =SUM(M15,J15,G15,D15) -> 0 | Q15: =O15*P15 -> 0
A16: (Weighted) Pull Up | B16: 3 x 5 | E16: =C16*D16 -> 0 | H16: =F16*G16 -> 0 | K16: =I16*J16 -> 0 | N16: =L16*M16 -> 0 | O16: =SUM(L16,I16,F16,C16) -> 0 | P16: =SUM(M16,J16,G16,D16) -> 0 | Q16: =O16*P16 -> 0
A17: Barbell Bent Over Row | B17: 3 x 6-8 | E17: =C17*D17 -> 0 | H17: =F17*G17 -> 0 | K17: =I17*J17 -> 0 | N17: =L17*M17 -> 0 | O17: =SUM(L17,I17,F17,C17) -> 0 | P17: =SUM(M17,J17,G17,D17) -> 0 | Q17: =O17*P17 -> 0
A18: Dumbbell One-Arm Row | B18: 3 x 8-12 | E18: =C18*D18 -> 0 | H18: =F18*G18 -> 0 | K18: =I18*J18 -> 0 | N18: =L18*M18 -> 0 | O18: =SUM(L18,I18,F18,C18) -> 0 | P18: =SUM(M18,J18,G18,D18) -> 0 | Q18: =O18*P18 -> 0
A19: Barbell Curl | B19: 4 x 8-12 | E19: =C19*D19 -> 0 | H19: =F19*G19 -> 0 | K19: =I19*J19 -> 0 | N19: =L19*M19 -> 0 | O19: =SUM(L19,I19,F19,C19) -> 0 | P19: =SUM(M19,J19,G19,D19) -> 0 | Q19: =O19*P19 -> 0
A20: Dumbbell Curl | B20: 4 x 8-12 | E20: =C20*D20 -> 0 | H20: =F20*G20 -> 0 | K20: =I20*J20 -> 0 | N20: =L20*M20 -> 0 | O20: =SUM(L20,I20,F20,C20) -> 0 | P20: =SUM(M20,J20,G20,D20) -> 0 | Q20: =O20*P20 -> 0
A21: Dumbbell Rear Deltoid Raise | B21: 4 x 8-12 | E21: =C21*D21 -> 0 | H21: =F21*G21 -> 0 | K21: =I21*J21 -> 0 | N21: =L21*M21 -> 0 | O21: =SUM(L21,I21,F21,C21) -> 0 | P21: =SUM(M21,J21,G21,D21) -> 0 | Q21: =O21*P21 -> 0
A22: Cable Face Pull | B22: 4 x 12-15 | E22: =C22*D22 -> 0 | H22: =F22*G22 -> 0 | K22: =I22*J22 -> 0 | N22: =L22*M22 -> 0 | O22: =SUM(L22,I22,F22,C22) -> 0 | P22: =SUM(M22,J22,G22,D22) -> 0 | Q22: =O22*P22 -> 0
A23: Weighted Hyperextension | B23: 2-3 x 8-12 | E23: =C23*D23 -> 0 | H23: =F23*G23 -> 0 | K23: =I23*J23 -> 0 | N23: =L23*M23 -> 0 | O23: =SUM(L23,I23,F23,C23) -> 0 | P23: =SUM(M23,J23,G23,D23) -> 0 | Q23: =O23*P23 -> 0
A24: =A13+2 -> 42478 | C24: Set 1 | F24: Set 2 | I24: Set 3 | L24: Set 4 | O24: Training Volume | R24: Notes
A25: Exercise | B25: Sets x Reps | C25: Reps | D25: Weight | E25: Total | F25: Reps | G25: Weight | H25: Total | I25: Reps | J25: Weight | K25: Total | L25: Reps | M25: Weight | N25: Total | O25: Reps | P25: Weight | Q25: Total
A26: Squat | B26: 4 x 5 | E26: =C26*D26 -> 0 | H26: =F26*G26 -> 0 | K26: =I26*J26 -> 0 | N26: =L26*M26 -> 0 | O26: =SUM(L26,I26,F26,C26) -> 0 | P26: =SUM(M26,J26,G26,D26) -> 0 | Q26: =O26*P26 -> 0
A27: Romanian Deadlift | B27: 3 x 5 | E27: =C27*D27 -> 0 | H27: =F27*G27 -> 0 | K27: =I27*J27 -> 0 | N27: =L27*M27 -> 0 | O27: =SUM(L27,I27,F27,C27) -> 0 | P27: =SUM(M27,J27,G27,D27) -> 0 | Q27: =O27*P27 -> 0
A28: Leg Press | B28: 3 x 6-8 | E28: =C28*D28 -> 0 | H28: =F28*G28 -> 0 | K28: =I28*J28 -> 0 | N28: =L28*M28 -> 0 | O28: =SUM(L28,I28,F28,C28) -> 0 | P28: =SUM(M28,J28,G28,D28) -> 0 | Q28: =O28*P28 -> 0
A29: Barbell Glute Bridge | B29: 4 x 8-12 | E29: =C29*D29 -> 0 | H29: =F29*G29 -> 0 | K29: =I29*J29 -> 0 | N29: =L29*M29 -> 0 | O29: =SUM(L29,I29,F29,C29) -> 0 | P29: =SUM(M29,J29,G29,D29) -> 0 | Q29: =O29*P29 -> 0
A30: Leg Curl | B30: 3 x 12-15 | E30: =C30*D30 -> 0 | H30: =F30*G30 -> 0 | K30: =I30*J30 -> 0 | N30: =L30*M30 -> 0 | O30: =SUM(L30,I30,F30,C30) -> 0 | P30: =SUM(M30,J30,G30,D30) -> 0 | Q30: =O30*P30 -> 0
A31: Standing Calf Raise | B31: 3 x 5 | E31: =C31*D31 -> 0 | H31: =F31*G31 -> 0 | K31: =I31*J31 -> 0 | N31: =L31*M31 -> 0 | O31: =SUM(L31,I31,F31,C31) -> 0 | P31: =SUM(M31,J31,G31,D31) -> 0 | Q31: =O31*P31 -> 0
A32: Calf Press | B32: 3 x 5 | E32: =C32*D32 -> 0 | H32: =F32*G32 -> 0 | K32: =I32*J32 -> 0 | N32: =L32*M32 -> 0 | O32: =SUM(L32,I32,F32,C32) -> 0 | P32: =SUM(M32,J32,G32,D32) -> 0 | Q32: =O32*P32 -> 0
A33: Seated Calf Raise | B33: 4 x 8-12 | E33: =C33*D33 -> 0 | H33: =F33*G33 -> 0 | K33: =I33*J33 -> 0 | N33: =L33*M33 -> 0 | O33: =SUM(L33,I33,F33,C33) -> 0 | P33: =SUM(M33,J33,G33,D33) -> 0 | Q33: =O33*P33 -> 0
A34: Weighted Leg Raise | B34: 2-3 x 12-15 | E34: =C34*D34 -> 0 | H34: =F34*G34 -> 0 | K34: =I34*J34 -> 0 | N34: =L34*M34 -> 0 | O34: =SUM(L34,I34,F34,C34) -> 0 | P34: =SUM(M34,J34,G34,D34) -> 0 | Q34: =O34*P34 -> 0
A35: =A24+2 -> 42480 | C35: Set 1 | F35: Set 2 | I35: Set 3 | L35: Set 4 | O35: Training Volume | R35: Notes
A36: Exercise | B36: Sets x Reps | C36: Reps | D36: Weight | E36: Total | F36: Reps | G36: Weight | H36: Total | I36: Reps | J36: Weight | K36: Total | L36: Reps | M36: Weight | N36: Total | O36: Reps | P36: Weight | Q36: Total
A37: Bench Press | B37: 4 x 5 | E37: =C37*D37 -> 0 | H37: =F37*G37 -> 0 | K37: =I37*J37 -> 0 | N37: =L37*M37 -> 0 | O37: =SUM(L37,I37,F37,C37) -> 0 | P37: =SUM(M37,J37,G37,D37) -> 0 | Q37: =O37*P37 -> 0
A38: Barbell Overhead Press | B38: 3 x 5 | E38: =C38*D38 -> 0 | H38: =F38*G38 -> 0 | K38: =I38*J38 -> 0 | N38: =L38*M38 -> 0 | O38: =SUM(L38,I38,F38,C38) -> 0 | P38: =SUM(M38,J38,G38,D38) -> 0 | Q38: =O38*P38 -> 0
A39: Weighted Dip | B39: 3 x 6-8 | E39: =C39*D39 -> 0 | H39: =F39*G39 -> 0 | K39: =I39*J39 -> 0 | N39: =L39*M39 -> 0 | O39: =SUM(L39,I39,F39,C39) -> 0 | P39: =SUM(M39,J39,G39,D39) -> 0 | Q39: =O39*P39 -> 0
A40: Dumbbell Shoulder Press | B40: 3 x 8-12 | E40: =C40*D40 -> 0 | H40: =F40*G40 -> 0 | K40: =I40*J40 -> 0 | N40: =L40*M40 -> 0 | O40: =SUM(L40,I40,F40,C40) -> 0 | P40: =SUM(M40,J40,G40,D40) -> 0 | Q40: =O40*P40 -> 0
A41: Dumbbell Lateral Raise * | B41: 4 x 8-12 | E41: =C41*D41 -> 0 | H41: =F41*G41 -> 0 | K41: =I41*J41 -> 0 | N41: =L41*M41 -> 0 | O41: =SUM(L41,I41,F41,C41) -> 0 | P41: =SUM(M41,J41,G41,D41) -> 0 | Q41: =O41*P41 -> 0
A42: Dumbbell Triceps Extension | B42: 4 x 8-12 | E42: =C42*D42 -> 0 | H42: =F42*G42 -> 0 | K42: =I42*J42 -> 0 | N42: =L42*M42 -> 0 | O42: =SUM(L42,I42,F42,C42) -> 0 | P42: =SUM(M42,J42,G42,D42) -> 0 | Q42: =O42*P42 -> 0
A43: Cable Triceps Extension | B43: 4 x 12-15 | E43: =C43*D43 -> 0 | H43: =F43*G43 -> 0 | K43: =I43*J43 -> 0 | N43: =L43*M43 -> 0 | O43: =SUM(L43,I43,F43,C43) -> 0 | P43: =SUM(M43,J43,G43,D43) -> 0 | Q43: =O43*P43 -> 0
A44: Weighted Leg Raise | B44: 2-3 x 12-15 | E44: =C44*D44 -> 0 | H44: =F44*G44 -> 0 | K44: =I44*J44 -> 0 | N44: =L44*M44 -> 0 | O44: =SUM(L44,I44,F44,C44) -> 0 | P44: =SUM(M44,J44,G44,D44) -> 0 | Q44: =O44*P44 -> 0
A45: Weighted Crunch | B45: 2-3 x 8-12 | E45: =C45*D45 -> 0 | H45: =F45*G45 -> 0 | K45: =I45*J45 -> 0 | N45: =L45*M45 -> 0 | O45: =SUM(L45,I45,F45,C45) -> 0 | P45: =SUM(M45,J45,G45,D45) -> 0 | Q45: =O45*P45 -> 0
A46: =A35+1 -> 42481 | C46: Set 1 | F46: Set 2 | I46: Set 3 | L46: Set 4 | O46: Training Volume | R46: Notes
A47: Exercise | B47: Sets x Reps | C47: Reps | D47: Weight | E47: Total | F47: Reps | G47: Weight | H47: Total | I47: Reps | J47: Weight | K47: Total | L47: Reps | M47: Weight | N47: Total | O47: Reps | P47: Weight | Q47: Total
A48: Deadlift | B48: 4 x 5 | E48: =C48*D48 -> 0 | H48: =F48*G48 -> 0 | K48: =I48*J48 -> 0 | N48: =L48*M48 -> 0 | O48: =SUM(L48,I48,F48,C48) -> 0 | P48: =SUM(M48,J48,G48,D48) -> 0 | Q48: =O48*P48 -> 0
A49: (Weighted) Pull Up | B49: 3 x 5 | E49: =C49*D49 -> 0 | H49: =F49*G49 -> 0 | K49: =I49*J49 -> 0 | N49: =L49*M49 -> 0 | O49: =SUM(L49,I49,F49,C49) -> 0 | P49: =SUM(M49,J49,G49,D49) -> 0 | Q49: =O49*P49 -> 0
A50: Barbell Bent Over Row | B50: 3 x 6-8 | E50: =C50*D50 -> 0 | H50: =F50*G50 -> 0 | K50: =I50*J50 -> 0 | N50: =L50*M50 -> 0 | O50: =SUM(L50,I50,F50,C50) -> 0 | P50: =SUM(M50,J50,G50,D50) -> 0 | Q50: =O50*P50 -> 0
A51: Dumbbell One-Arm Row | B51: 3 x 8-12 | E51: =C51*D51 -> 0 | H51: =F51*G51 -> 0 | K51: =I51*J51 -> 0 | N51: =L51*M51 -> 0 | O51: =SUM(L51,I51,F51,C51) -> 0 | P51: =SUM(M51,J51,G51,D51) -> 0 | Q51: =O51*P51 -> 0
A52: Barbell Curl | B52: 4 x 8-12 | E52: =C52*D52 -> 0 | H52: =F52*G52 -> 0 | K52: =I52*J52 -> 0 | N52: =L52*M52 -> 0 | O52: =SUM(L52,I52,F52,C52) -> 0 | P52: =SUM(M52,J52,G52,D52) -> 0 | Q52: =O52*P52 -> 0
A53: Dumbbell Curl | B53: 4 x 8-12 | E53: =C53*D53 -> 0 | H53: =F53*G53 -> 0 | K53: =I53*J53 -> 0 | N53: =L53*M53 -> 0 | O53: =SUM(L53,I53,F53,C53) -> 0 | P53: =SUM(M53,J53,G53,D53) -> 0 | Q53: =O53*P53 -> 0
A54: Dumbbell Rear Deltoid Raise | B54: 4 x 8-12 | E54: =C54*D54 -> 0 | H54: =F54*G54 -> 0 | K54: =I54*J54 -> 0 | N54: =L54*M54 -> 0 | O54: =SUM(L54,I54,F54,C54) -> 0 | P54: =SUM(M54,J54,G54,D54) -> 0 | Q54: =O54*P54 -> 0
A55: Cable Face Pull | B55: 4 x 12-15 | E55: =C55*D55 -> 0 | H55: =F55*G55 -> 0 | K55: =I55*J55 -> 0 | N55: =L55*M55 -> 0 | O55: =SUM(L55,I55,F55,C55) -> 0 | P55: =SUM(M55,J55,G55,D55) -> 0 | Q55: =O55*P55 -> 0
A56: Weighted Hyperextension | B56: 2-3 x 8-12 | E56: =C56*D56 -> 0 | H56: =F56*G56 -> 0 | K56: =I56*J56 -> 0 | N56: =L56*M56 -> 0 | O56: =SUM(L56,I56,F56,C56) -> 0 | P56: =SUM(M56,J56,G56,D56) -> 0 | Q56: =O56*P56 -> 0

Sheet Week5
A1: Week starting: | B1: =Week4!B1+7 -> 42478 | C1: Week 5
A2: =Week4!A46+2 -> 42483 | C2: Set 1 | F2: Set 2 | I2: Set 3 | L2: Set 4 | O2: Training Volume | R2: Notes
A3: Exercise | B3: Sets x Reps | C3: Reps | D3: Weight | E3: Total | F3: Reps | G3: Weight | H3: Total | I3: Reps | J3: Weight | K3: Total | L3: Reps | M3: Weight | N3: Total | O3: Reps | P3: Weight | Q3: Total
A4: Squat | B4: 4 x 5 | E4: =C4*D4 -> 0 | H4: =F4*G4 -> 0 | K4: =I4*J4 -> 0 | N4: =L4*M4 -> 0 | O4: =SUM(L4,I4,F4,C4) -> 0 | P4: =SUM(M4,J4,G4,D4) -> 0 | Q4: =O4*P4 -> 0
A5: Romanian Deadlift | B5: 3 x 5 | E5: =C5*D5 -> 0 | H5: =F5*G5 -> 0 | K5: =I5*J5 -> 0 | N5: =L5*M5 -> 0 | O5: =SUM(L5,I5,F5,C5) -> 0 | P5: =SUM(M5,J5,G5,D5) -> 0 | Q5: =O5*P5 -> 0
A6: Leg Press | B6: 3 x 6-8 | E6: =C6*D6 -> 0 | H6: =F6*G6 -> 0 | K6: =I6*J6 -> 0 | N6: =L6*M6 -> 0 | O6: =SUM(L6,I6,F6,C6) -> 0 | P6: =SUM(M6,J6,G6,D6) -> 0 | Q6: =O6*P6 -> 0
A7: Barbell Glute Bridge | B7: 4 x 8-12 | E7: =C7*D7 -> 0 | H7: =F7*G7 -> 0 | K7: =I7*J7 -> 0 | N7: =L7*M7 -> 0 | O7: =SUM(L7,I7,F7,C7) -> 0 | P7: =SUM(M7,J7,G7,D7) -> 0 | Q7: =O7*P7 -> 0
A8: Leg Curl | B8: 3 x 12-15 | E8: =C8*D8 -> 0 | H8: =F8*G8 -> 0 | K8: =I8*J8 -> 0 | N8: =L8*M8 -> 0 | O8: =SUM(L8,I8,F8,C8) -> 0 | P8: =SUM(M8,J8,G8,D8) -> 0 | Q8: =O8*P8 -> 0
A9: Standing Calf Raise | B9: 3 x 5 | E9: =C9*D9 -> 0 | H9: =F9*G9 -> 0 | K9: =I9*J9 -> 0 | N9: =L9*M9 -> 0 | O9: =SUM(L9,I9,F9,C9) -> 0 | P9: =SUM(M9,J9,G9,D9) -> 0 | Q9: =O9*P9 -> 0
A10: Calf Press | B10: 3 x 5 | E10: =C10*D10 -> 0 | H10: =F10*G10 -> 0 | K10: =I10*J10 -> 0 | N10: =L10*M10 -> 0 | O10: =SUM(L10,I10,F10,C10) -> 0 | P10: =SUM(M10,J10,G10,D10) -> 0 | Q10: =O10*P10 -> 0
A11: Seated Calf Raise | B11: 4 x 8-12 | E11: =C11*D11 -> 0 | H11: =F11*G11 -> 0 | K11: =I11*J11 -> 0 | N11: =L11*M11 -> 0 | O11: =SUM(L11,I11,F11,C11) -> 0 | P11: =SUM(M11,J11,G11,D11) -> 0 | Q11: =O11*P11 -> 0
A12: Weighted Leg Raise | B12: 2-3 x 12-15 | E12: =C12*D12 -> 0 | H12: =F12*G12 -> 0 | K12: =I12*J12 -> 0 | N12: =L12*M12 -> 0 | O12: =SUM(L12,I12,F12,C12) -> 0 | P12: =SUM(M12,J12,G12,D12) -> 0 | Q12: =O12*P12 -> 0
A13: =A2+2 -> 42485 | C13: Set 1 | F13: Set 2 | I13: Set 3 | L13: Set 4 | O13: Training Volume | R13: Notes
A14: Exercise | B14: Sets x Reps | C14: Reps | D14: Weight | E14: Total | F14: Reps | G14: Weight | H14: Total | I14: Reps | J14: Weight | K14: Total | L14: Reps | M14: Weight | N14: Total | O14: Reps | P14: Weight | Q14: Total
A15: Bench Press | B15: 4 x 5 | E15: =C15*D15 -> 0 | H15: =F15*G15 -> 0 | K15: =I15*J15 -> 0 | N15: =L15*M15 -> 0 | O15: =SUM(L15,I15,F15,C15) -> 0 | P15: =SUM(M15,J15,G15,D15) -> 0 | Q15: =O15*P15 -> 0
A16: Barbell Overhead Press | B16: 3 x 5 | E16: =C16*D16 -> 0 | H16: =F16*G16 -> 0 | K16: =I16*J16 -> 0 | N16: =L16*M16 -> 0 | O16: =SUM(L16,I16,F16,C16) -> 0 | P16: =SUM(M16,J16,G16,D16) -> 0 | Q16: =O16*P16 -> 0
A17: Weighted Dip | B17: 3 x 6-8 | E17: =C17*D17 -> 0 | H17: =F17*G17 -> 0 | K17: =I17*J17 -> 0 | N17: =L17*M17 -> 0 | O17: =SUM(L17,I17,F17,C17) -> 0 | P17: =SUM(M17,J17,G17,D17) -> 0 | Q17: =O17*P17 -> 0
A18: Dumbbell Shoulder Press | B18: 3 x 8-12 | E18: =C18*D18 -> 0 | H18: =F18*G18 -> 0 | K18: =I18*J18 -> 0 | N18: =L18*M18 -> 0 | O18: =SUM(L18,I18,F18,C18) -> 0 | P18: =SUM(M18,J18,G18,D18) -> 0 | Q18: =O18*P18 -> 0
A19: Dumbbell Lateral Raise * | B19: 4 x 8-12 | E19: =C19*D19 -> 0 | H19: =F19*G19 -> 0 | K19: =I19*J19 -> 0 | N19: =L19*M19 -> 0 | O19: =SUM(L19,I19,F19,C19) -> 0 | P19: =SUM(M19,J19,G19,D19) -> 0 | Q19: =O19*P19 -> 0
A20: Dumbbell Triceps Extension | B20: 4 x 8-12 | E20: =C20*D20 -> 0 | H20: =F20*G20 -> 0 | K20: =I20*J20 -> 0 | N20: =L20*M20 -> 0 | O20: =SUM(L20,I20,F20,C20) -> 0 | P20: =SUM(M20,J20,G20,D20) -> 0 | Q20: =O20*P20 -> 0
A21: Cable Triceps Extension | B21: 4 x 12-15 | E21: =C21*D21 -> 0 | H21: =F21*G21 -> 0 | K21: =I21*J21 -> 0 | N21: =L21*M21 -> 0 | O21: =SUM(L21,I21,F21,C21) -> 0 | P21: =SUM(M21,J21,G21,D21) -> 0 | Q21: =O21*P21 -> 0
A22: Weighted Leg Raise | B22: 2-3 x 12-15 | E22: =C22*D22 -> 0 | H22: =F22*G22 -> 0 | K22: =I22*J22 -> 0 | N22: =L22*M22 -> 0 | O22: =SUM(L22,I22,F22,C22) -> 0 | P22: =SUM(M22,J22,G22,D22) -> 0 | Q22: =O22*P22 -> 0
A23: Weighted Crunch | B23: 2-3 x 8-12 | E23: =C23*D23 -> 0 | H23: =F23*G23 -> 0 | K23: =I23*J23 -> 0 | N23: =L23*M23 -> 0 | O23: =SUM(L23,I23,F23,C23) -> 0 | P23: =SUM(M23,J23,G23,D23) -> 0 | Q23: =O23*P23 -> 0
A24: =A13+1 -> 42486 | C24: Set 1 | F24: Set 2 | I24: Set 3 | L24: Set 4 | O24: Training Volume | R24: Notes
A25: Exercise | B25: Sets x Reps | C25: Reps | D25: Weight | E25: Total | F25: Reps | G25: Weight | H25: Total | I25: Reps | J25: Weight | K25: Total | L25: Reps | M25: Weight | N25: Total | O25: Reps | P25: Weight | Q25: Total
A26: Deadlift | B26: 4 x 5 | E26: =C26*D26 -> 0 | H26: =F26*G26 -> 0 | K26: =I26*J26 -> 0 | N26: =L26*M26 -> 0 | O26: =SUM(L26,I26,F26,C26) -> 0 | P26: =SUM(M26,J26,G26,D26) -> 0 | Q26: =O26*P26 -> 0
A27: (Weighted) Pull Up | B27: 3 x 5 | E27: =C27*D27 -> 0 | H27: =F27*G27 -> 0 | K27: =I27*J27 -> 0 | N27: =L27*M27 -> 0 | O27: =SUM(L27,I27,F27,C27) -> 0 | P27: =SUM(M27,J27,G27,D27) -> 0 | Q27: =O27*P27 -> 0
A28: Barbell Bent Over Row | B28: 3 x 6-8 | E28: =C28*D28 -> 0 | H28: =F28*G28 -> 0 | K28: =I28*J28 -> 0 | N28: =L28*M28 -> 0 | O28: =SUM(L28,I28,F28,C28) -> 0 | P28: =SUM(M28,J28,G28,D28) -> 0 | Q28: =O28*P28 -> 0
A29: Dumbbell One-Arm Row | B29: 3 x 8-12 | E29: =C29*D29 -> 0 | H29: =F29*G29 -> 0 | K29: =I29*J29 -> 0 | N29: =L29*M29 -> 0 | O29: =SUM(L29,I29,F29,C29) -> 0 | P29: =SUM(M29,J29,G29,D29) -> 0 | Q29: =O29*P29 -> 0
A30: Barbell Curl | B30: 4 x 8-12 | E30: =C30*D30 -> 0 | H30: =F30*G30 -> 0 | K30: =I30*J30 -> 0 | N30: =L30*M30 -> 0 | O30: =SUM(L30,I30,F30,C30) -> 0 | P30: =SUM(M30,J30,G30,D30) -> 0 | Q30: =O30*P30 -> 0
A31: Dumbbell Curl | B31: 4 x 8-12 | E31: =C31*D31 -> 0 | H31: =F31*G31 -> 0 | K31: =I31*J31 -> 0 | N31: =L31*M31 -> 0 | O31: =SUM(L31,I31,F31,C31) -> 0 | P31: =SUM(M31,J31,G31,D31) -> 0 | Q31: =O31*P31 -> 0
A32: Dumbbell Rear Deltoid Raise | B32: 4 x 8-12 | E32: =C32*D32 -> 0 | H32: =F32*G32 -> 0 | K32: =I32*J32 -> 0 | N32: =L32*M32 -> 0 | O32: =SUM(L32,I32,F32,C32) -> 0 | P32: =SUM(M32,J32,G32,D32) -> 0 | Q32: =O32*P32 -> 0
A33: Cable Face Pull | B33: 4 x 12-15 | E33: =C33*D33 -> 0 | H33: =F33*G33 -> 0 | K33: =I33*J33 -> 0 | N33: =L33*M33 -> 0 | O33: =SUM(L33,I33,F33,C33) -> 0 | P33: =SUM(M33,J33,G33,D33) -> 0 | Q33: =O33*P33 -> 0
A34: Weighted Hyperextension | B34: 2-3 x 8-12 | E34: =C34*D34 -> 0 | H34: =F34*G34 -> 0 | K34: =I34*J34 -> 0 | N34: =L34*M34 -> 0 | O34: =SUM(L34,I34,F34,C34) -> 0 | P34: =SUM(M34,J34,G34,D34) -> 0 | Q34: =O34*P34 -> 0
A35: =A24+2 -> 42488 | C35: Set 1 | F35: Set 2 | I35: Set 3 | L35: Set 4 | O35: Training Volume | R35: Notes
A36: Exercise | B36: Sets x Reps | C36: Reps | D36: Weight | E36: Total | F36: Reps | G36: Weight | H36: Total | I36: Reps | J36: Weight | K36: Total | L36: Reps | M36: Weight | N36: Total | O36: Reps | P36: Weight | Q36: Total
A37: Squat | B37: 4 x 5 | E37: =C37*D37 -> 0 | H37: =F37*G37 -> 0 | K37: =I37*J37 -> 0 | N37: =L37*M37 -> 0 | O37: =SUM(L37,I37,F37,C37) -> 0 | P37: =SUM(M37,J37,G37,D37) -> 0 | Q37: =O37*P37 -> 0
A38: Romanian Deadlift | B38: 3 x 5 | E38: =C38*D38 -> 0 | H38: =F38*G38 -> 0 | K38: =I38*J38 -> 0 | N38: =L38*M38 -> 0 | O38: =SUM(L38,I38,F38,C38) -> 0 | P38: =SUM(M38,J38,G38,D38) -> 0 | Q38: =O38*P38 -> 0
A39: Leg Press | B39: 3 x 6-8 | E39: =C39*D39 -> 0 | H39: =F39*G39 -> 0 | K39: =I39*J39 -> 0 | N39: =L39*M39 -> 0 | O39: =SUM(L39,I39,F39,C39) -> 0 | P39: =SUM(M39,J39,G39,D39) -> 0 | Q39: =O39*P39 -> 0
A40: Barbell Glute Bridge | B40: 4 x 8-12 | E40: =C40*D40 -> 0 | H40: =F40*G40 -> 0 | K40: =I40*J40 -> 0 | N40: =L40*M40 -> 0 | O40: =SUM(L40,I40,F40,C40) -> 0 | P40: =SUM(M40,J40,G40,D40) -> 0 | Q40: =O40*P40 -> 0
A41: Leg Curl | B41: 3 x 12-15 | E41: =C41*D41 -> 0 | H41: =F41*G41 -> 0 | K41: =I41*J41 -> 0 | N41: =L41*M41 -> 0 | O41: =SUM(L41,I41,F41,C41) -> 0 | P41: =SUM(M41,J41,G41,D41) -> 0 | Q41: =O41*P41 -> 0
A42: Standing Calf Raise | B42: 3 x 5 | E42: =C42*D42 -> 0 | H42: =F42*G42 -> 0 | K42: =I42*J42 -> 0 | N42: =L42*M42 -> 0 | O42: =SUM(L42,I42,F42,C42) -> 0 | P42: =SUM(M42,J42,G42,D42) -> 0 | Q42: =O42*P42 -> 0
A43: Calf Press | B43: 3 x 5 | E43: =C43*D43 -> 0 | H43: =F43*G43 -> 0 | K43: =I43*J43 -> 0 | N43: =L43*M43 -> 0 | O43: =SUM(L43,I43,F43,C43) -> 0 | P43: =SUM(M43,J43,G43,D43) -> 0 | Q43: =O43*P43 -> 0
A44: Seated Calf Raise | B44: 4 x 8-12 | E44: =C44*D44 -> 0 | H44: =F44*G44 -> 0 | K44: =I44*J44 -> 0 | N44: =L44*M44 -> 0 | O44: =SUM(L44,I44,F44,C44) -> 0 | P44: =SUM(M44,J44,G44,D44) -> 0 | Q44: =O44*P44 -> 0
A45: Weighted Leg Raise | B45: 2-3 x 12-15 | E45: =C45*D45 -> 0 | H45: =F45*G45 -> 0 | K45: =I45*J45 -> 0 | N45: =L45*M45 -> 0 | O45: =SUM(L45,I45,F45,C45) -> 0 | P45: =SUM(M45,J45,G45,D45) -> 0 | Q45: =O45*P45 -> 0
A46: =A35+2 -> 42490 | C46: Set 1 | F46: Set 2 | I46: Set 3 | L46: Set 4 | O46: Training Volume | R46: Notes
A47: Exercise | B47: Sets x Reps | C47: Reps | D47: Weight | E47: Total | F47: Reps | G47: Weight | H47: Total | I47: Reps | J47: Weight | K47: Total | L47: Reps | M47: Weight | N47: Total | O47: Reps | P47: Weight | Q47: Total
A48: Bench Press | B48: 4 x 5 | E48: =C48*D48 -> 0 | H48: =F48*G48 -> 0 | K48: =I48*J48 -> 0 | N48: =L48*M48 -> 0 | O48: =SUM(L48,I48,F48,C48) -> 0 | P48: =SUM(M48,J48,G48,D48) -> 0 | Q48: =O48*P48 -> 0
A49: Barbell Overhead Press | B49: 3 x 5 | E49: =C49*D49 -> 0 | H49: =F49*G49 -> 0 | K49: =I49*J49 -> 0 | N49: =L49*M49 -> 0 | O49: =SUM(L49,I49,F49,C49) -> 0 | P49: =SUM(M49,J49,G49,D49) -> 0 | Q49: =O49*P49 -> 0
A50: Weighted Dip | B50: 3 x 6-8 | E50: =C50*D50 -> 0 | H50: =F50*G50 -> 0 | K50: =I50*J50 -> 0 | N50: =L50*M50 -> 0 | O50: =SUM(L50,I50,F50,C50) -> 0 | P50: =SUM(M50,J50,G50,D50) -> 0 | Q50: =O50*P50 -> 0
A51: Dumbbell Shoulder Press | B51: 3 x 8-12 | E51: =C51*D51 -> 0 | H51: =F51*G51 -> 0 | K51: =I51*J51 -> 0 | N51: =L51*M51 -> 0 | O51: =SUM(L51,I51,F51,C51) -> 0 | P51: =SUM(M51,J51,G51,D51) -> 0 | Q51: =O51*P51 -> 0
A52: Dumbbell Lateral Raise * | B52: 4 x 8-12 | E52: =C52*D52 -> 0 | H52: =F52*G52 -> 0 | K52: =I52*J52 -> 0 | N52: =L52*M52 -> 0 | O52: =SUM(L52,I52,F52,C52) -> 0 | P52: =SUM(M52,J52,G52,D52) -> 0 | Q52: =O52*P52 -> 0
A53: Dumbbell Triceps Extension | B53: 4 x 8-12 | E53: =C53*D53 -> 0 | H53: =F53*G53 -> 0 | K53: =I53*J53 -> 0 | N53: =L53*M53 -> 0 | O53: =SUM(L53,I53,F53,C53) -> 0 | P53: =SUM(M53,J53,G53,D53) -> 0 | Q53: =O53*P53 -> 0
A54: Cable Triceps Extension | B54: 4 x 12-15 | E54: =C54*D54 -> 0 | H54: =F54*G54 -> 0 | K54: =I54*J54 -> 0 | N54: =L54*M54 -> 0 | O54: =SUM(L54,I54,F54,C54) -> 0 | P54: =SUM(M54,J54,G54,D54) -> 0 | Q54: =O54*P54 -> 0
A55: Weighted Leg Raise | B55: 2-3 x 12-15 | E55: =C55*D55 -> 0 | H55: =F55*G55 -> 0 | K55: =I55*J55 -> 0 | N55: =L55*M55 -> 0 | O55: =SUM(L55,I55,F55,C55) -> 0 | P55: =SUM(M55,J55,G55,D55) -> 0 | Q55: =O55*P55 -> 0
A56: Weighted Crunch | B56: 2-3 x 8-12 | E56: =C56*D56 -> 0 | H56: =F56*G56 -> 0 | K56: =I56*J56 -> 0 | N56: =L56*M56 -> 0 | O56: =SUM(L56,I56,F56,C56) -> 0 | P56: =SUM(M56,J56,G56,D56) -> 0 | Q56: =O56*P56 -> 0

Sheet Week6
A1: Week starting: | B1: =Week5!B1+7 -> 42485 | C1: Week 6
A2: =Week5!A46+1 -> 42491 | C2: Set 1 | F2: Set 2 | I2: Set 3 | L2: Set 4 | O2: Training Volume | R2: Notes
A3: Exercise | B3: Sets x Reps | C3: Reps | D3: Weight | E3: Total | F3: Reps | G3: Weight | H3: Total | I3: Reps | J3: Weight | K3: Total | L3: Reps | M3: Weight | N3: Total | O3: Reps | P3: Weight | Q3: Total
A4: Deadlift | B4: 4 x 5 | E4: =C4*D4 -> 0 | H4: =F4*G4 -> 0 | K4: =I4*J4 -> 0 | N4: =L4*M4 -> 0 | O4: =SUM(L4,I4,F4,C4) -> 0 | P4: =SUM(M4,J4,G4,D4) -> 0 | Q4: =O4*P4 -> 0
A5: (Weighted) Pull Up | B5: 3 x 5 | E5: =C5*D5 -> 0 | H5: =F5*G5 -> 0 | K5: =I5*J5 -> 0 | N5: =L5*M5 -> 0 | O5: =SUM(L5,I5,F5,C5) -> 0 | P5: =SUM(M5,J5,G5,D5) -> 0 | Q5: =O5*P5 -> 0
A6: Barbell Bent Over Row | B6: 3 x 6-8 | E6: =C6*D6 -> 0 | H6: =F6*G6 -> 0 | K6: =I6*J6 -> 0 | N6: =L6*M6 -> 0 | O6: =SUM(L6,I6,F6,C6) -> 0 | P6: =SUM(M6,J6,G6,D6) -> 0 | Q6: =O6*P6 -> 0
A7: Dumbbell One-Arm Row | B7: 3 x 8-12 | E7: =C7*D7 -> 0 | H7: =F7*G7 -> 0 | K7: =I7*J7 -> 0 | N7: =L7*M7 -> 0 | O7: =SUM(L7,I7,F7,C7) -> 0 | P7: =SUM(M7,J7,G7,D7) -> 0 | Q7: =O7*P7 -> 0
A8: Barbell Curl | B8: 4 x 8-12 | E8: =C8*D8 -> 0 | H8: =F8*G8 -> 0 | K8: =I8*J8 -> 0 | N8: =L8*M8 -> 0 | O8: =SUM(L8,I8,F8,C8) -> 0 | P8: =SUM(M8,J8,G8,D8) -> 0 | Q8: =O8*P8 -> 0
A9: Dumbbell Curl | B9: 4 x 8-12 | E9: =C9*D9 -> 0 | H9: =F9*G9 -> 0 | K9: =I9*J9 -> 0 | N9: =L9*M9 -> 0 | O9: =SUM(L9,I9,F9,C9) -> 0 | P9: =SUM(M9,J9,G9,D9) -> 0 | Q9: =O9*P9 -> 0
A10: Dumbbell Rear Deltoid Raise | B10: 4 x 8-12 | E10: =C10*D10 -> 0 | H10: =F10*G10 -> 0 | K10: =I10*J10 -> 0 | N10: =L10*M10 -> 0 | O10: =SUM(L10,I10,F10,C10) -> 0 | P10: =SUM(M10,J10,G10,D10) -> 0 | Q10: =O10*P10 -> 0
A11: Cable Face Pull | B11: 4 x 12-15 | E11: =C11*D11 -> 0 | H11: =F11*G11 -> 0 | K11: =I11*J11 -> 0 | N11: =L11*M11 -> 0 | O11: =SUM(L11,I11,F11,C11) -> 0 | P11: =SUM(M11,J11,G11,D11) -> 0 | Q11: =O11*P11 -> 0
A12: Weighted Hyperextension | B12: 2-3 x 8-12 | E12: =C12*D12 -> 0 | H12: =F12*G12 -> 0 | K12: =I12*J12 -> 0 | N12: =L12*M12 -> 0 | O12: =SUM(L12,I12,F12,C12) -> 0 | P12: =SUM(M12,J12,G12,D12) -> 0 | Q12: =O12*P12 -> 0
A13: =A2+2 -> 42493 | C13: Set 1 | F13: Set 2 | I13: Set 3 | L13: Set 4 | O13: Training Volume | R13: Notes
A14: Exercise | B14: Sets x Reps | C14: Reps | D14: Weight | E14: Total | F14: Reps | G14: Weight | H14: Total | I14: Reps | J14: Weight | K14: Total | L14: Reps | M14: Weight | N14: Total | O14: Reps | P14: Weight | Q14: Total
A15: Squat | B15: 4 x 5 | E15: =C15*D15 -> 0 | H15: =F15*G15 -> 0 | K15: =I15*J15 -> 0 | N15: =L15*M15 -> 0 | O15: =SUM(L15,I15,F15,C15) -> 0 | P15: =SUM(M15,J15,G15,D15) -> 0 | Q15: =O15*P15 -> 0
A16: Romanian Deadlift | B16: 3 x 5 | E16: =C16*D16 -> 0 | H16: =F16*G16 -> 0 | K16: =I16*J16 -> 0 | N16: =L16*M16 -> 0 | O16: =SUM(L16,I16,F16,C16) -> 0 | P16: =SUM(M16,J16,G16,D16) -> 0 | Q16: =O16*P16 -> 0
A17: Leg Press | B17: 3 x 6-8 | E17: =C17*D17 -> 0 | H17: =F17*G17 -> 0 | K17: =I17*J17 -> 0 | N17: =L17*M17 -> 0 | O17: =SUM(L17,I17,F17,C17) -> 0 | P17: =SUM(M17,J17,G17,D17) -> 0 | Q17: =O17*P17 -> 0
A18: Barbell Glute Bridge | B18: 4 x 8-12 | E18: =C18*D18 -> 0 | H18: =F18*G18 -> 0 | K18: =I18*J18 -> 0 | N18: =L18*M18 -> 0 | O18: =SUM(L18,I18,F18,C18) -> 0 | P18: =SUM(M18,J18,G18,D18) -> 0 | Q18: =O18*P18 -> 0
A19: Leg Curl | B19: 3 x 12-15 | E19: =C19*D19 -> 0 | H19: =F19*G19 -> 0 | K19: =I19*J19 -> 0 | N19: =L19*M19 -> 0 | O19: =SUM(L19,I19,F19,C19) -> 0 | P19: =SUM(M19,J19,G19,D19) -> 0 | Q19: =O19*P19 -> 0
A20: Standing Calf Raise | B20: 3 x 5 | E20: =C20*D20 -> 0 | H20: =F20*G20 -> 0 | K20: =I20*J20 -> 0 | N20: =L20*M20 -> 0 | O20: =SUM(L20,I20,F20,C20) -> 0 | P20: =SUM(M20,J20,G20,D20) -> 0 | Q20: =O20*P20 -> 0
A21: Calf Press | B21: 3 x 5 | E21: =C21*D21 -> 0 | H21: =F21*G21 -> 0 | K21: =I21*J21 -> 0 | N21: =L21*M21 -> 0 | O21: =SUM(L21,I21,F21,C21) -> 0 | P21: =SUM(M21,J21,G21,D21) -> 0 | Q21: =O21*P21 -> 0
A22: Seated Calf Raise | B22: 4 x 8-12 | E22: =C22*D22 -> 0 | H22: =F22*G22 -> 0 | K22: =I22*J22 -> 0 | N22: =L22*M22 -> 0 | O22: =SUM(L22,I22,F22,C22) -> 0 | P22: =SUM(M22,J22,G22,D22) -> 0 | Q22: =O22*P22 -> 0
A23: Weighted Leg Raise | B23: 2-3 x 12-15 | E23: =C23*D23 -> 0 | H23: =F23*G23 -> 0 | K23: =I23*J23 -> 0 | N23: =L23*M23 -> 0 | O23: =SUM(L23,I23,F23,C23) -> 0 | P23: =SUM(M23,J23,G23,D23) -> 0 | Q23: =O23*P23 -> 0
A24: =A13+2 -> 42495 | C24: Set 1 | F24: Set 2 | I24: Set 3 | L24: Set 4 | O24: Training Volume | R24: Notes
A25: Exercise | B25: Sets x Reps | C25: Reps | D25: Weight | E25: Total | F25: Reps | G25: Weight | H25: Total | I25: Reps | J25: Weight | K25: Total | L25: Reps | M25: Weight | N25: Total | O25: Reps | P25: Weight | Q25: Total
A26: Bench Press | B26: 4 x 5 | E26: =C26*D26 -> 0 | H26: =F26*G26 -> 0 | K26: =I26*J26 -> 0 | N26: =L26*M26 -> 0 | O26: =SUM(L26,I26,F26,C26) -> 0 | P26: =SUM(M26,J26,G26,D26) -> 0 | Q26: =O26*P26 -> 0
A27: Barbell Overhead Press | B27: 3 x 5 | E27: =C27*D27 -> 0 | H27: =F27*G27 -> 0 | K27: =I27*J27 -> 0 | N27: =L27*M27 -> 0 | O27: =SUM(L27,I27,F27,C27) -> 0 | P27: =SUM(M27,J27,G27,D27) -> 0 | Q27: =O27*P27 -> 0
A28: Weighted Dip | B28: 3 x 6-8 | E28: =C28*D28 -> 0 | H28: =F28*G28 -> 0 | K28: =I28*J28 -> 0 | N28: =L28*M28 -> 0 | O28: =SUM(L28,I28,F28,C28) -> 0 | P28: =SUM(M28,J28,G28,D28) -> 0 | Q28: =O28*P28 -> 0
A29: Dumbbell Shoulder Press | B29: 3 x 8-12 | E29: =C29*D29 -> 0 | H29: =F29*G29 -> 0 | K29: =I29*J29 -> 0 | N29: =L29*M29 -> 0 | O29: =SUM(L29,I29,F29,C29) -> 0 | P29: =SUM(M29,J29,G29,D29) -> 0 | Q29: =O29*P29 -> 0
A30: Dumbbell Lateral Raise * | B30: 4 x 8-12 | E30: =C30*D30 -> 0 | H30: =F30*G30 -> 0 | K30: =I30*J30 -> 0 | N30: =L30*M30 -> 0 | O30: =SUM(L30,I30,F30,C30) -> 0 | P30: =SUM(M30,J30,G30,D30) -> 0 | Q30: =O30*P30 -> 0
A31: Dumbbell Triceps Extension | B31: 4 x 8-12 | E31: =C31*D31 -> 0 | H31: =F31*G31 -> 0 | K31: =I31*J31 -> 0 | N31: =L31*M31 -> 0 | O31: =SUM(L31,I31,F31,C31) -> 0 | P31: =SUM(M31,J31,G31,D31) -> 0 | Q31: =O31*P31 -> 0
A32: Cable Triceps Extension | B32: 4 x 12-15 | E32: =C32*D32 -> 0 | H32: =F32*G32 -> 0 | K32: =I32*J32 -> 0 | N32: =L32*M32 -> 0 | O32: =SUM(L32,I32,F32,C32) -> 0 | P32: =SUM(M32,J32,G32,D32) -> 0 | Q32: =O32*P32 -> 0
A33: Weighted Leg Raise | B33: 2-3 x 12-15 | E33: =C33*D33 -> 0 | H33: =F33*G33 -> 0 | K33: =I33*J33 -> 0 | N33: =L33*M33 -> 0 | O33: =SUM(L33,I33,F33,C33) -> 0 | P33: =SUM(M33,J33,G33,D33) -> 0 | Q33: =O33*P33 -> 0
A34: Weighted Crunch | B34: 2-3 x 8-12 | E34: =C34*D34 -> 0 | H34: =F34*G34 -> 0 | K34: =I34*J34 -> 0 | N34: =L34*M34 -> 0 | O34: =SUM(L34,I34,F34,C34) -> 0 | P34: =SUM(M34,J34,G34,D34) -> 0 | Q34: =O34*P34 -> 0
A35: =A24+1 -> 42496 | C35: Set 1 | F35: Set 2 | I35: Set 3 | L35: Set 4 | O35: Training Volume | R35: Notes
A36: Exercise | B36: Sets x Reps | C36: Reps | D36: Weight | E36: Total | F36: Reps | G36: Weight | H36: Total | I36: Reps | J36: Weight | K36: Total | L36: Reps | M36: Weight | N36: Total | O36: Reps | P36: Weight | Q36: Total
A37: Deadlift | B37: 4 x 5 | E37: =C37*D37 -> 0 | H37: =F37*G37 -> 0 | K37: =I37*J37 -> 0 | N37: =L37*M37 -> 0 | O37: =SUM(L37,I37,F37,C37) -> 0 | P37: =SUM(M37,J37,G37,D37) -> 0 | Q37: =O37*P37 -> 0
A38: (Weighted) Pull Up | B38: 3 x 5 | E38: =C38*D38 -> 0 | H38: =F38*G38 -> 0 | K38: =I38*J38 -> 0 | N38: =L38*M38 -> 0 | O38: =SUM(L38,I38,F38,C38) -> 0 | P38: =SUM(M38,J38,G38,D38) -> 0 | Q38: =O38*P38 -> 0
A39: Barbell Bent Over Row | B39: 3 x 6-8 | E39: =C39*D39 -> 0 | H39: =F39*G39 -> 0 | K39: =I39*J39 -> 0 | N39: =L39*M39 -> 0 | O39: =SUM(L39,I39,F39,C39) -> 0 | P39: =SUM(M39,J39,G39,D39) -> 0 | Q39: =O39*P39 -> 0
A40: Dumbbell One-Arm Row | B40: 3 x 8-12 | E40: =C40*D40 -> 0 | H40: =F40*G40 -> 0 | K40: =I40*J40 -> 0 | N40: =L40*M40 -> 0 | O40: =SUM(L40,I40,F40,C40) -> 0 | P40: =SUM(M40,J40,G40,D40) -> 0 | Q40: =O40*P40 -> 0
A41: Barbell Curl | B41: 4 x 8-12 | E41: =C41*D41 -> 0 | H41: =F41*G41 -> 0 | K41: =I41*J41 -> 0 | N41: =L41*M41 -> 0 | O41: =SUM(L41,I41,F41,C41) -> 0 | P41: =SUM(M41,J41,G41,D41) -> 0 | Q41: =O41*P41 -> 0
A42: Dumbbell Curl | B42: 4 x 8-12 | E42: =C42*D42 -> 0 | H42: =F42*G42 -> 0 | K42: =I42*J42 -> 0 | N42: =L42*M42 -> 0 | O42: =SUM(L42,I42,F42,C42) -> 0 | P42: =SUM(M42,J42,G42,D42) -> 0 | Q42: =O42*P42 -> 0
A43: Dumbbell Rear Deltoid Raise | B43: 4 x 8-12 | E43: =C43*D43 -> 0 | H43: =F43*G43 -> 0 | K43: =I43*J43 -> 0 | N43: =L43*M43 -> 0 | O43: =SUM(L43,I43,F43,C43) -> 0 | P43: =SUM(M43,J43,G43,D43) -> 0 | Q43: =O43*P43 -> 0
A44: Cable Face Pull | B44: 4 x 12-15 | E44: =C44*D44 -> 0 | H44: =F44*G44 -> 0 | K44: =I44*J44 -> 0 | N44: =L44*M44 -> 0 | O44: =SUM(L44,I44,F44,C44) -> 0 | P44: =SUM(M44,J44,G44,D44) -> 0 | Q44: =O44*P44 -> 0
A45: Weighted Hyperextension | B45: 2-3 x 8-12 | E45: =C45*D45 -> 0 | H45: =F45*G45 -> 0 | K45: =I45*J45 -> 0 | N45: =L45*M45 -> 0 | O45: =SUM(L45,I45,F45,C45) -> 0 | P45: =SUM(M45,J45,G45,D45) -> 0 | Q45: =O45*P45 -> 0
A46: =A35+2 -> 42498 | C46: Set 1 | F46: Set 2 | I46: Set 3 | L46: Set 4 | O46: Training Volume | R46: Notes
A47: Exercise | B47: Sets x Reps | C47: Reps | D47: Weight | E47: Total | F47: Reps | G47: Weight | H47: Total | I47: Reps | J47: Weight | K47: Total | L47: Reps | M47: Weight | N47: Total | O47: Reps | P47: Weight | Q47: Total
A48: Squat | B48: 4 x 5 | E48: =C48*D48 -> 0 | H48: =F48*G48 -> 0 | K48: =I48*J48 -> 0 | N48: =L48*M48 -> 0 | O48: =SUM(L48,I48,F48,C48) -> 0 | P48: =SUM(M48,J48,G48,D48) -> 0 | Q48: =O48*P48 -> 0
A49: Romanian Deadlift | B49: 3 x 5 | E49: =C49*D49 -> 0 | H49: =F49*G49 -> 0 | K49: =I49*J49 -> 0 | N49: =L49*M49 -> 0 | O49: =SUM(L49,I49,F49,C49) -> 0 | P49: =SUM(M49,J49,G49,D49) -> 0 | Q49: =O49*P49 -> 0
A50: Leg Press | B50: 3 x 6-8 | E50: =C50*D50 -> 0 | H50: =F50*G50 -> 0 | K50: =I50*J50 -> 0 | N50: =L50*M50 -> 0 | O50: =SUM(L50,I50,F50,C50) -> 0 | P50: =SUM(M50,J50,G50,D50) -> 0 | Q50: =O50*P50 -> 0
A51: Barbell Glute Bridge | B51: 4 x 8-12 | E51: =C51*D51 -> 0 | H51: =F51*G51 -> 0 | K51: =I51*J51 -> 0 | N51: =L51*M51 -> 0 | O51: =SUM(L51,I51,F51,C51) -> 0 | P51: =SUM(M51,J51,G51,D51) -> 0 | Q51: =O51*P51 -> 0
A52: Leg Curl | B52: 3 x 12-15 | E52: =C52*D52 -> 0 | H52: =F52*G52 -> 0 | K52: =I52*J52 -> 0 | N52: =L52*M52 -> 0 | O52: =SUM(L52,I52,F52,C52) -> 0 | P52: =SUM(M52,J52,G52,D52) -> 0 | Q52: =O52*P52 -> 0
A53: Standing Calf Raise | B53: 3 x 5 | E53: =C53*D53 -> 0 | H53: =F53*G53 -> 0 | K53: =I53*J53 -> 0 | N53: =L53*M53 -> 0 | O53: =SUM(L53,I53,F53,C53) -> 0 | P53: =SUM(M53,J53,G53,D53) -> 0 | Q53: =O53*P53 -> 0
A54: Calf Press | B54: 3 x 5 | E54: =C54*D54 -> 0 | H54: =F54*G54 -> 0 | K54: =I54*J54 -> 0 | N54: =L54*M54 -> 0 | O54: =SUM(L54,I54,F54,C54) -> 0 | P54: =SUM(M54,J54,G54,D54) -> 0 | Q54: =O54*P54 -> 0
A55: Seated Calf Raise | B55: 4 x 8-12 | E55: =C55*D55 -> 0 | H55: =F55*G55 -> 0 | K55: =I55*J55 -> 0 | N55: =L55*M55 -> 0 | O55: =SUM(L55,I55,F55,C55) -> 0 | P55: =SUM(M55,J55,G55,D55) -> 0 | Q55: =O55*P55 -> 0
A56: Weighted Leg Raise | B56: 2-3 x 12-15 | E56: =C56*D56 -> 0 | H56: =F56*G56 -> 0 | K56: =I56*J56 -> 0 | N56: =L56*M56 -> 0 | O56: =SUM(L56,I56,F56,C56) -> 0 | P56: =SUM(M56,J56,G56,D56) -> 0 | Q56: =O56*P56 -> 0

Sheet Week7
A1: Week starting: | B1: =Week6!B1+7 -> 42492 | C1: Week 7
A2: =Week6!A46+2 -> 42500 | C2: Set 1 | F2: Set 2 | I2: Set 3 | L2: Set 4 | O2: Training Volume | R2: Notes
A3: Exercise | B3: Sets x Reps | C3: Reps | D3: Weight | E3: Total | F3: Reps | G3: Weight | H3: Total | I3: Reps | J3: Weight | K3: Total | L3: Reps | M3: Weight | N3: Total | O3: Reps | P3: Weight | Q3: Total
A4: Bench Press | B4: 4 x 5 | E4: =C4*D4 -> 0 | H4: =F4*G4 -> 0 | K4: =I4*J4 -> 0 | N4: =L4*M4 -> 0 | O4: =SUM(L4,I4,F4,C4) -> 0 | P4: =SUM(M4,J4,G4,D4) -> 0 | Q4: =O4*P4 -> 0
A5: Barbell Overhead Press | B5: 3 x 5 | E5: =C5*D5 -> 0 | H5: =F5*G5 -> 0 | K5: =I5*J5 -> 0 | N5: =L5*M5 -> 0 | O5: =SUM(L5,I5,F5,C5) -> 0 | P5: =SUM(M5,J5,G5,D5) -> 0 | Q5: =O5*P5 -> 0
A6: Weighted Dip | B6: 3 x 6-8 | E6: =C6*D6 -> 0 | H6: =F6*G6 -> 0 | K6: =I6*J6 -> 0 | N6: =L6*M6 -> 0 | O6: =SUM(L6,I6,F6,C6) -> 0 | P6: =SUM(M6,J6,G6,D6) -> 0 | Q6: =O6*P6 -> 0
A7: Dumbbell Shoulder Press | B7: 3 x 8-12 | E7: =C7*D7 -> 0 | H7: =F7*G7 -> 0 | K7: =I7*J7 -> 0 | N7: =L7*M7 -> 0 | O7: =SUM(L7,I7,F7,C7) -> 0 | P7: =SUM(M7,J7,G7,D7) -> 0 | Q7: =O7*P7 -> 0
A8: Dumbbell Lateral Raise * | B8: 4 x 8-12 | E8: =C8*D8 -> 0 | H8: =F8*G8 -> 0 | K8: =I8*J8 -> 0 | N8: =L8*M8 -> 0 | O8: =SUM(L8,I8,F8,C8) -> 0 | P8: =SUM(M8,J8,G8,D8) -> 0 | Q8: =O8*P8 -> 0
A9: Dumbbell Triceps Extension | B9: 4 x 8-12 | E9: =C9*D9 -> 0 | H9: =F9*G9 -> 0 | K9: =I9*J9 -> 0 | N9: =L9*M9 -> 0 | O9: =SUM(L9,I9,F9,C9) -> 0 | P9: =SUM(M9,J9,G9,D9) -> 0 | Q9: =O9*P9 -> 0
A10: Cable Triceps Extension | B10: 4 x 12-15 | E10: =C10*D10 -> 0 | H10: =F10*G10 -> 0 | K10: =I10*J10 -> 0 | N10: =L10*M10 -> 0 | O10: =SUM(L10,I10,F10,C10) -> 0 | P10: =SUM(M10,J10,G10,D10) -> 0 | Q10: =O10*P10 -> 0
A11: Weighted Leg Raise | B11: 2-3 x 12-15 | E11: =C11*D11 -> 0 | H11: =F11*G11 -> 0 | K11: =I11*J11 -> 0 | N11: =L11*M11 -> 0 | O11: =SUM(L11,I11,F11,C11) -> 0 | P11: =SUM(M11,J11,G11,D11) -> 0 | Q11: =O11*P11 -> 0
A12: Weighted Crunch | B12: 2-3 x 8-12 | E12: =C12*D12 -> 0 | H12: =F12*G12 -> 0 | K12: =I12*J12 -> 0 | N12: =L12*M12 -> 0 | O12: =SUM(L12,I12,F12,C12) -> 0 | P12: =SUM(M12,J12,G12,D12) -> 0 | Q12: =O12*P12 -> 0
A13: =A2+1 -> 42501 | C13: Set 1 | F13: Set 2 | I13: Set 3 | L13: Set 4 | O13: Training Volume | R13: Notes
A14: Exercise | B14: Sets x Reps | C14: Reps | D14: Weight | E14: Total | F14: Reps | G14: Weight | H14: Total | I14: Reps | J14: Weight | K14: Total | L14: Reps | M14: Weight | N14: Total | O14: Reps | P14: Weight | Q14: Total
A15: Deadlift | B15: 4 x 5 | E15: =C15*D15 -> 0 | H15: =F15*G15 -> 0 | K15: =I15*J15 -> 0 | N15: =L15*M15 -> 0 | O15: =SUM(L15,I15,F15,C15) -> 0 | P15: =SUM(M15,J15,G15,D15) -> 0 | Q15: =O15*P15 -> 0
A16: (Weighted) Pull Up | B16: 3 x 5 | E16: =C16*D16 -> 0 | H16: =F16*G16 -> 0 | K16: =I16*J16 -> 0 | N16: =L16*M16 -> 0 | O16: =SUM(L16,I16,F16,C16) -> 0 | P16: =SUM(M16,J16,G16,D16) -> 0 | Q16: =O16*P16 -> 0
A17: Barbell Bent Over Row | B17: 3 x 6-8 | E17: =C17*D17 -> 0 | H17: =F17*G17 -> 0 | K17: =I17*J17 -> 0 | N17: =L17*M17 -> 0 | O17: =SUM(L17,I17,F17,C17) -> 0 | P17: =SUM(M17,J17,G17,D17) -> 0 | Q17: =O17*P17 -> 0
A18: Dumbbell One-Arm Row | B18: 3 x 8-12 | E18: =C18*D18 -> 0 | H18: =F18*G18 -> 0 | K18: =I18*J18 -> 0 | N18: =L18*M18 -> 0 | O18: =SUM(L18,I18,F18,C18) -> 0 | P18: =SUM(M18,J18,G18,D18) -> 0 | Q18: =O18*P18 -> 0
A19: Barbell Curl | B19: 4 x 8-12 | E19: =C19*D19 -> 0 | H19: =F19*G19 -> 0 | K19: =I19*J19 -> 0 | N19: =L19*M19 -> 0 | O19: =SUM(L19,I19,F19,C19) -> 0 | P19: =SUM(M19,J19,G19,D19) -> 0 | Q19: =O19*P19 -> 0
A20: Dumbbell Curl | B20: 4 x 8-12 | E20: =C20*D20 -> 0 | H20: =F20*G20 -> 0 | K20: =I20*J20 -> 0 | N20: =L20*M20 -> 0 | O20: =SUM(L20,I20,F20,C20) -> 0 | P20: =SUM(M20,J20,G20,D20) -> 0 | Q20: =O20*P20 -> 0
A21: Dumbbell Rear Deltoid Raise | B21: 4 x 8-12 | E21: =C21*D21 -> 0 | H21: =F21*G21 -> 0 | K21: =I21*J21 -> 0 | N21: =L21*M21 -> 0 | O21: =SUM(L21,I21,F21,C21) -> 0 | P21: =SUM(M21,J21,G21,D21) -> 0 | Q21: =O21*P21 -> 0
A22: Cable Face Pull | B22: 4 x 12-15 | E22: =C22*D22 -> 0 | H22: =F22*G22 -> 0 | K22: =I22*J22 -> 0 | N22: =L22*M22 -> 0 | O22: =SUM(L22,I22,F22,C22) -> 0 | P22: =SUM(M22,J22,G22,D22) -> 0 | Q22: =O22*P22 -> 0
A23: Weighted Hyperextension | B23: 2-3 x 8-12 | E23: =C23*D23 -> 0 | H23: =F23*G23 -> 0 | K23: =I23*J23 -> 0 | N23: =L23*M23 -> 0 | O23: =SUM(L23,I23,F23,C23) -> 0 | P23: =SUM(M23,J23,G23,D23) -> 0 | Q23: =O23*P23 -> 0
A24: =A13+2 -> 42503 | C24: Set 1 | F24: Set 2 | I24: Set 3 | L24: Set 4 | O24: Training Volume | R24: Notes
A25: Exercise | B25: Sets x Reps | C25: Reps | D25: Weight | E25: Total | F25: Reps | G25: Weight | H25: Total | I25: Reps | J25: Weight | K25: Total | L25: Reps | M25: Weight | N25: Total | O25: Reps | P25: Weight | Q25: Total
A26: Squat | B26: 4 x 5 | E26: =C26*D26 -> 0 | H26: =F26*G26 -> 0 | K26: =I26*J26 -> 0 | N26: =L26*M26 -> 0 | O26: =SUM(L26,I26,F26,C26) -> 0 | P26: =SUM(M26,J26,G26,D26) -> 0 | Q26: =O26*P26 -> 0
A27: Romanian Deadlift | B27: 3 x 5 | E27: =C27*D27 -> 0 | H27: =F27*G27 -> 0 | K27: =I27*J27 -> 0 | N27: =L27*M27 -> 0 | O27: =SUM(L27,I27,F27,C27) -> 0 | P27: =SUM(M27,J27,G27,D27) -> 0 | Q27: =O27*P27 -> 0
A28: Leg Press | B28: 3 x 6-8 | E28: =C28*D28 -> 0 | H28: =F28*G28 -> 0 | K28: =I28*J28 -> 0 | N28: =L28*M28 -> 0 | O28: =SUM(L28,I28,F28,C28) -> 0 | P28: =SUM(M28,J28,G28,D28) -> 0 | Q28: =O28*P28 -> 0
A29: Barbell Glute Bridge | B29: 4 x 8-12 | E29: =C29*D29 -> 0 | H29: =F29*G29 -> 0 | K29: =I29*J29 -> 0 | N29: =L29*M29 -> 0 | O29: =SUM(L29,I29,F29,C29) -> 0 | P29: =SUM(M29,J29,G29,D29) -> 0 | Q29: =O29*P29 -> 0
A30: Leg Curl | B30: 3 x 12-15 | E30: =C30*D30 -> 0 | H30: =F30*G30 -> 0 | K30: =I30*J30 -> 0 | N30: =L30*M30 -> 0 | O30: =SUM(L30,I30,F30,C30) -> 0 | P30: =SUM(M30,J30,G30,D30) -> 0 | Q30: =O30*P30 -> 0
A31: Standing Calf Raise | B31: 3 x 5 | E31: =C31*D31 -> 0 | H31: =F31*G31 -> 0 | K31: =I31*J31 -> 0 | N31: =L31*M31 -> 0 | O31: =SUM(L31,I31,F31,C31) -> 0 | P31: =SUM(M31,J31,G31,D31) -> 0 | Q31: =O31*P31 -> 0
A32: Calf Press | B32: 3 x 5 | E32: =C32*D32 -> 0 | H32: =F32*G32 -> 0 | K32: =I32*J32 -> 0 | N32: =L32*M32 -> 0 | O32: =SUM(L32,I32,F32,C32) -> 0 | P32: =SUM(M32,J32,G32,D32) -> 0 | Q32: =O32*P32 -> 0
A33: Seated Calf Raise | B33: 4 x 8-12 | E33: =C33*D33 -> 0 | H33: =F33*G33 -> 0 | K33: =I33*J33 -> 0 | N33: =L33*M33 -> 0 | O33: =SUM(L33,I33,F33,C33) -> 0 | P33: =SUM(M33,J33,G33,D33) -> 0 | Q33: =O33*P33 -> 0
A34: Weighted Leg Raise | B34: 2-3 x 12-15 | E34: =C34*D34 -> 0 | H34: =F34*G34 -> 0 | K34: =I34*J34 -> 0 | N34: =L34*M34 -> 0 | O34: =SUM(L34,I34,F34,C34) -> 0 | P34: =SUM(M34,J34,G34,D34) -> 0 | Q34: =O34*P34 -> 0
A35: =A24+2 -> 42505 | C35: Set 1 | F35: Set 2 | I35: Set 3 | L35: Set 4 | O35: Training Volume | R35: Notes
A36: Exercise | B36: Sets x Reps | C36: Reps | D36: Weight | E36: Total | F36: Reps | G36: Weight | H36: Total | I36: Reps | J36: Weight | K36: Total | L36: Reps | M36: Weight | N36: Total | O36: Reps | P36: Weight | Q36: Total
A37: Bench Press | B37: 4 x 5 | E37: =C37*D37 -> 0 | H37: =F37*G37 -> 0 | K37: =I37*J37 -> 0 | N37: =L37*M37 -> 0 | O37: =SUM(L37,I37,F37,C37) -> 0 | P37: =SUM(M37,J37,G37,D37) -> 0 | Q37: =O37*P37 -> 0
A38: Barbell Overhead Press | B38: 3 x 5 | E38: =C38*D38 -> 0 | H38: =F38*G38 -> 0 | K38: =I38*J38 -> 0 | N38: =L38*M38 -> 0 | O38: =SUM(L38,I38,F38,C38) -> 0 | P38: =SUM(M38,J38,G38,D38) -> 0 | Q38: =O38*P38 -> 0
A39: Weighted Dip | B39: 3 x 6-8 | E39: =C39*D39 -> 0 | H39: =F39*G39 -> 0 | K39: =I39*J39 -> 0 | N39: =L39*M39 -> 0 | O39: =SUM(L39,I39,F39,C39) -> 0 | P39: =SUM(M39,J39,G39,D39) -> 0 | Q39: =O39*P39 -> 0
A40: Dumbbell Shoulder Press | B40: 3 x 8-12 | E40: =C40*D40 -> 0 | H40: =F40*G40 -> 0 | K40: =I40*J40 -> 0 | N40: =L40*M40 -> 0 | O40: =SUM(L40,I40,F40,C40) -> 0 | P40: =SUM(M40,J40,G40,D40) -> 0 | Q40: =O40*P40 -> 0
A41: Dumbbell Lateral Raise * | B41: 4 x 8-12 | E41: =C41*D41 -> 0 | H41: =F41*G41 -> 0 | K41: =I41*J41 -> 0 | N41: =L41*M41 -> 0 | O41: =SUM(L41,I41,F41,C41) -> 0 | P41: =SUM(M41,J41,G41,D41) -> 0 | Q41: =O41*P41 -> 0
A42: Dumbbell Triceps Extension | B42: 4 x 8-12 | E42: =C42*D42 -> 0 | H42: =F42*G42 -> 0 | K42: =I42*J42 -> 0 | N42: =L42*M42 -> 0 | O42: =SUM(L42,I42,F42,C42) -> 0 | P42: =SUM(M42,J42,G42,D42) -> 0 | Q42: =O42*P42 -> 0
A43: Cable Triceps Extension | B43: 4 x 12-15 | E43: =C43*D43 -> 0 | H43: =F43*G43 -> 0 | K43: =I43*J43 -> 0 | N43: =L43*M43 -> 0 | O43: =SUM(L43,I43,F43,C43) -> 0 | P43: =SUM(M43,J43,G43,D43) -> 0 | Q43: =O43*P43 -> 0
A44: Weighted Leg Raise | B44: 2-3 x 12-15 | E44: =C44*D44 -> 0 | H44: =F44*G44 -> 0 | K44: =I44*J44 -> 0 | N44: =L44*M44 -> 0 | O44: =SUM(L44,I44,F44,C44) -> 0 | P44: =SUM(M44,J44,G44,D44) -> 0 | Q44: =O44*P44 -> 0
A45: Weighted Crunch | B45: 2-3 x 8-12 | E45: =C45*D45 -> 0 | H45: =F45*G45 -> 0 | K45: =I45*J45 -> 0 | N45: =L45*M45 -> 0 | O45: =SUM(L45,I45,F45,C45) -> 0 | P45: =SUM(M45,J45,G45,D45) -> 0 | Q45: =O45*P45 -> 0
A46: =A35+1 -> 42506 | C46: Set 1 | F46: Set 2 | I46: Set 3 | L46: Set 4 | O46: Training Volume | R46: Notes
A47: Exercise | B47: Sets x Reps | C47: Reps | D47: Weight | E47: Total | F47: Reps | G47: Weight | H47: Total | I47: Reps | J47: Weight | K47: Total | L47: Reps | M47: Weight | N47: Total | O47: Reps | P47: Weight | Q47: Total
A48: Deadlift | B48: 4 x 5 | E48: =C48*D48 -> 0 | H48: =F48*G48 -> 0 | K48: =I48*J48 -> 0 | N48: =L48*M48 -> 0 | O48: =SUM(L48,I48,F48,C48) -> 0 | P48: =SUM(M48,J48,G48,D48) -> 0 | Q48: =O48*P48 -> 0
A49: (Weighted) Pull Up | B49: 3 x 5 | E49: =C49*D49 -> 0 | H49: =F49*G49 -> 0 | K49: =I49*J49 -> 0 | N49: =L49*M49 -> 0 | O49: =SUM(L49,I49,F49,C49) -> 0 | P49: =SUM(M49,J49,G49,D49) -> 0 | Q49: =O49*P49 -> 0
A50: Barbell Bent Over Row | B50: 3 x 6-8 | E50: =C50*D50 -> 0 | H50: =F50*G50 -> 0 | K50: =I50*J50 -> 0 | N50: =L50*M50 -> 0 | O50: =SUM(L50,I50,F50,C50) -> 0 | P50: =SUM(M50,J50,G50,D50) -> 0 | Q50: =O50*P50 -> 0
A51: Dumbbell One-Arm Row | B51: 3 x 8-12 | E51: =C51*D51 -> 0 | H51: =F51*G51 -> 0 | K51: =I51*J51 -> 0 | N51: =L51*M51 -> 0 | O51: =SUM(L51,I51,F51,C51) -> 0 | P51: =SUM(M51,J51,G51,D51) -> 0 | Q51: =O51*P51 -> 0
A52: Barbell Curl | B52: 4 x 8-12 | E52: =C52*D52 -> 0 | H52: =F52*G52 -> 0 | K52: =I52*J52 -> 0 | N52: =L52*M52 -> 0 | O52: =SUM(L52,I52,F52,C52) -> 0 | P52: =SUM(M52,J52,G52,D52) -> 0 | Q52: =O52*P52 -> 0
A53: Dumbbell Curl | B53: 4 x 8-12 | E53: =C53*D53 -> 0 | H53: =F53*G53 -> 0 | K53: =I53*J53 -> 0 | N53: =L53*M53 -> 0 | O53: =SUM(L53,I53,F53,C53) -> 0 | P53: =SUM(M53,J53,G53,D53) -> 0 | Q53: =O53*P53 -> 0
A54: Dumbbell Rear Deltoid Raise | B54: 4 x 8-12 | E54: =C54*D54 -> 0 | H54: =F54*G54 -> 0 | K54: =I54*J54 -> 0 | N54: =L54*M54 -> 0 | O54: =SUM(L54,I54,F54,C54) -> 0 | P54: =SUM(M54,J54,G54,D54) -> 0 | Q54: =O54*P54 -> 0
A55: Cable Face Pull | B55: 4 x 12-15 | E55: =C55*D55 -> 0 | H55: =F55*G55 -> 0 | K55: =I55*J55 -> 0 | N55: =L55*M55 -> 0 | O55: =SUM(L55,I55,F55,C55) -> 0 | P55: =SUM(M55,J55,G55,D55) -> 0 | Q55: =O55*P55 -> 0
A56: Weighted Hyperextension | B56: 2-3 x 8-12 | E56: =C56*D56 -> 0 | H56: =F56*G56 -> 0 | K56: =I56*J56 -> 0 | N56: =L56*M56 -> 0 | O56: =SUM(L56,I56,F56,C56) -> 0 | P56: =SUM(M56,J56,G56,D56) -> 0 | Q56: =O56*P56 -> 0

Sheet Week8
A1: Week starting: | B1: =Week7!B1+7 -> 42499 | C1: Week 8
A2: =Week7!A46+2 -> 42508 | C2: Set 1 | F2: Set 2 | I2: Set 3 | L2: Set 4 | O2: Training Volume | R2: Notes
A3: Exercise | B3: Sets x Reps | C3: Reps | D3: Weight | E3: Total | F3: Reps | G3: Weight | H3: Total | I3: Reps | J3: Weight | K3: Total | L3: Reps | M3: Weight | N3: Total | O3: Reps | P3: Weight | Q3: Total
A4: Squat | B4: 4 x 5 | E4: =C4*D4 -> 0 | H4: =F4*G4 -> 0 | K4: =I4*J4 -> 0 | N4: =L4*M4 -> 0 | O4: =SUM(L4,I4,F4,C4) -> 0 | P4: =SUM(M4,J4,G4,D4) -> 0 | Q4: =O4*P4 -> 0
A5: Romanian Deadlift | B5: 3 x 5 | E5: =C5*D5 -> 0 | H5: =F5*G5 -> 0 | K5: =I5*J5 -> 0 | N5: =L5*M5 -> 0 | O5: =SUM(L5,I5,F5,C5) -> 0 | P5: =SUM(M5,J5,G5,D5) -> 0 | Q5: =O5*P5 -> 0
A6: Leg Press | B6: 3 x 6-8 | E6: =C6*D6 -> 0 | H6: =F6*G6 -> 0 | K6: =I6*J6 -> 0 | N6: =L6*M6 -> 0 | O6: =SUM(L6,I6,F6,C6) -> 0 | P6: =SUM(M6,J6,G6,D6) -> 0 | Q6: =O6*P6 -> 0
A7: Barbell Glute Bridge | B7: 4 x 8-12 | E7: =C7*D7 -> 0 | H7: =F7*G7 -> 0 | K7: =I7*J7 -> 0 | N7: =L7*M7 -> 0 | O7: =SUM(L7,I7,F7,C7) -> 0 | P7: =SUM(M7,J7,G7,D7) -> 0 | Q7: =O7*P7 -> 0
A8: Leg Curl | B8: 3 x 12-15 | E8: =C8*D8 -> 0 | H8: =F8*G8 -> 0 | K8: =I8*J8 -> 0 | N8: =L8*M8 -> 0 | O8: =SUM(L8,I8,F8,C8) -> 0 | P8: =SUM(M8,J8,G8,D8) -> 0 | Q8: =O8*P8 -> 0
A9: Standing Calf Raise | B9: 3 x 5 | E9: =C9*D9 -> 0 | H9: =F9*G9 -> 0 | K9: =I9*J9 -> 0 | N9: =L9*M9 -> 0 | O9: =SUM(L9,I9,F9,C9) -> 0 | P9: =SUM(M9,J9,G9,D9) -> 0 | Q9: =O9*P9 -> 0
A10: Calf Press | B10: 3 x 5 | E10: =C10*D10 -> 0 | H10: =F10*G10 -> 0 | K10: =I10*J10 -> 0 | N10: =L10*M10 -> 0 | O10: =SUM(L10,I10,F10,C10) -> 0 | P10: =SUM(M10,J10,G10,D10) -> 0 | Q10: =O10*P10 -> 0
A11: Seated Calf Raise | B11: 4 x 8-12 | E11: =C11*D11 -> 0 | H11: =F11*G11 -> 0 | K11: =I11*J11 -> 0 | N11: =L11*M11 -> 0 | O11: =SUM(L11,I11,F11,C11) -> 0 | P11: =SUM(M11,J11,G11,D11) -> 0 | Q11: =O11*P11 -> 0
A12: Weighted Leg Raise | B12: 2-3 x 12-15 | E12: =C12*D12 -> 0 | H12: =F12*G12 -> 0 | K12: =I12*J12 -> 0 | N12: =L12*M12 -> 0 | O12: =SUM(L12,I12,F12,C12) -> 0 | P12: =SUM(M12,J12,G12,D12) -> 0 | Q12: =O12*P12 -> 0
A13: =A2+2 -> 42510 | C13: Set 1 | F13: Set 2 | I13: Set 3 | L13: Set 4 | O13: Training Volume | R13: Notes
A14: Exercise | B14: Sets x Reps | C14: Reps | D14: Weight | E14: Total | F14: Reps | G14: Weight | H14: Total | I14: Reps | J14: Weight | K14: Total | L14: Reps | M14: Weight | N14: Total | O14: Reps | P14: Weight | Q14: Total
A15: Bench Press | B15: 4 x 5 | E15: =C15*D15 -> 0 | H15: =F15*G15 -> 0 | K15: =I15*J15 -> 0 | N15: =L15*M15 -> 0 | O15: =SUM(L15,I15,F15,C15) -> 0 | P15: =SUM(M15,J15,G15,D15) -> 0 | Q15: =O15*P15 -> 0
A16: Barbell Overhead Press | B16: 3 x 5 | E16: =C16*D16 -> 0 | H16: =F16*G16 -> 0 | K16: =I16*J16 -> 0 | N16: =L16*M16 -> 0 | O16: =SUM(L16,I16,F16,C16) -> 0 | P16: =SUM(M16,J16,G16,D16) -> 0 | Q16: =O16*P16 -> 0
A17: Weighted Dip | B17: 3 x 6-8 | E17: =C17*D17 -> 0 | H17: =F17*G17 -> 0 | K17: =I17*J17 -> 0 | N17: =L17*M17 -> 0 | O17: =SUM(L17,I17,F17,C17) -> 0 | P17: =SUM(M17,J17,G17,D17) -> 0 | Q17: =O17*P17 -> 0
A18: Dumbbell Shoulder Press | B18: 3 x 8-12 | E18: =C18*D18 -> 0 | H18: =F18*G18 -> 0 | K18: =I18*J18 -> 0 | N18: =L18*M18 -> 0 | O18: =SUM(L18,I18,F18,C18) -> 0 | P18: =SUM(M18,J18,G18,D18) -> 0 | Q18: =O18*P18 -> 0
A19: Dumbbell Lateral Raise * | B19: 4 x 8-12 | E19: =C19*D19 -> 0 | H19: =F19*G19 -> 0 | K19: =I19*J19 -> 0 | N19: =L19*M19 -> 0 | O19: =SUM(L19,I19,F19,C19) -> 0 | P19: =SUM(M19,J19,G19,D19) -> 0 | Q19: =O19*P19 -> 0
A20: Dumbbell Triceps Extension | B20: 4 x 8-12 | E20: =C20*D20 -> 0 | H20: =F20*G20 -> 0 | K20: =I20*J20 -> 0 | N20: =L20*M20 -> 0 | O20: =SUM(L20,I20,F20,C20) -> 0 | P20: =SUM(M20,J20,G20,D20) -> 0 | Q20: =O20*P20 -> 0
A21: Cable Triceps Extension | B21: 4 x 12-15 | E21: =C21*D21 -> 0 | H21: =F21*G21 -> 0 | K21: =I21*J21 -> 0 | N21: =L21*M21 -> 0 | O21: =SUM(L21,I21,F21,C21) -> 0 | P21: =SUM(M21,J21,G21,D21) -> 0 | Q21: =O21*P21 -> 0
A22: Weighted Leg Raise | B22: 2-3 x 12-15 | E22: =C22*D22 -> 0 | H22: =F22*G22 -> 0 | K22: =I22*J22 -> 0 | N22: =L22*M22 -> 0 | O22: =SUM(L22,I22,F22,C22) -> 0 | P22: =SUM(M22,J22,G22,D22) -> 0 | Q22: =O22*P22 -> 0
A23: Weighted Crunch | B23: 2-3 x 8-12 | E23: =C23*D23 -> 0 | H23: =F23*G23 -> 0 | K23: =I23*J23 -> 0 | N23: =L23*M23 -> 0 | O23: =SUM(L23,I23,F23,C23) -> 0 | P23: =SUM(M23,J23,G23,D23) -> 0 | Q23: =O23*P23 -> 0
A24: =A13+1 -> 42511 | C24: Set 1 | F24: Set 2 | I24: Set 3 | L24: Set 4 | O24: Training Volume | R24: Notes
A25: Exercise | B25: Sets x Reps | C25: Reps | D25: Weight | E25: Total | F25: Reps | G25: Weight | H25: Total | I25: Reps | J25: Weight | K25: Total | L25: Reps | M25: Weight | N25: Total | O25: Reps | P25: Weight | Q25: Total
A26: Deadlift | B26: 4 x 5 | E26: =C26*D26 -> 0 | H26: =F26*G26 -> 0 | K26: =I26*J26 -> 0 | N26: =L26*M26 -> 0 | O26: =SUM(L26,I26,F26,C26) -> 0 | P26: =SUM(M26,J26,G26,D26) -> 0 | Q26: =O26*P26 -> 0
A27: (Weighted) Pull Up | B27: 3 x 5 | E27: =C27*D27 -> 0 | H27: =F27*G27 -> 0 | K27: =I27*J27 -> 0 | N27: =L27*M27 -> 0 | O27: =SUM(L27,I27,F27,C27) -> 0 | P27: =SUM(M27,J27,G27,D27) -> 0 | Q27: =O27*P27 -> 0
A28: Barbell Bent Over Row | B28: 3 x 6-8 | E28: =C28*D28 -> 0 | H28: =F28*G28 -> 0 | K28: =I28*J28 -> 0 | N28: =L28*M28 -> 0 | O28: =SUM(L28,I28,F28,C28) -> 0 | P28: =SUM(M28,J28,G28,D28) -> 0 | Q28: =O28*P28 -> 0
A29: Dumbbell One-Arm Row | B29: 3 x 8-12 | E29: =C29*D29 -> 0 | H29: =F29*G29 -> 0 | K29: =I29*J29 -> 0 | N29: =L29*M29 -> 0 | O29: =SUM(L29,I29,F29,C29) -> 0 | P29: =SUM(M29,J29,G29,D29) -> 0 | Q29: =O29*P29 -> 0
A30: Barbell Curl | B30: 4 x 8-12 | E30: =C30*D30 -> 0 | H30: =F30*G30 -> 0 | K30: =I30*J30 -> 0 | N30: =L30*M30 -> 0 | O30: =SUM(L30,I30,F30,C30) -> 0 | P30: =SUM(M30,J30,G30,D30) -> 0 | Q30: =O30*P30 -> 0
A31: Dumbbell Curl | B31: 4 x 8-12 | E31: =C31*D31 -> 0 | H31: =F31*G31 -> 0 | K31: =I31*J31 -> 0 | N31: =L31*M31 -> 0 | O31: =SUM(L31,I31,F31,C31) -> 0 | P31: =SUM(M31,J31,G31,D31) -> 0 | Q31: =O31*P31 -> 0
A32: Dumbbell Rear Deltoid Raise | B32: 4 x 8-12 | E32: =C32*D32 -> 0 | H32: =F32*G32 -> 0 | K32: =I32*J32 -> 0 | N32: =L32*M32 -> 0 | O32: =SUM(L32,I32,F32,C32) -> 0 | P32: =SUM(M32,J32,G32,D32) -> 0 | Q32: =O32*P32 -> 0
A33: Cable Face Pull | B33: 4 x 12-15 | E33: =C33*D33 -> 0 | H33: =F33*G33 -> 0 | K33: =I33*J33 -> 0 | N33: =L33*M33 -> 0 | O33: =SUM(L33,I33,F33,C33) -> 0 | P33: =SUM(M33,J33,G33,D33) -> 0 | Q33: =O33*P33 -> 0
A34: Weighted Hyperextension | B34: 2-3 x 8-12 | E34: =C34*D34 -> 0 | H34: =F34*G34 -> 0 | K34: =I34*J34 -> 0 | N34: =L34*M34 -> 0 | O34: =SUM(L34,I34,F34,C34) -> 0 | P34: =SUM(M34,J34,G34,D34) -> 0 | Q34: =O34*P34 -> 0
A35: =A24+2 -> 42513 | C35: Set 1 | F35: Set 2 | I35: Set 3 | L35: Set 4 | O35: Training Volume | R35: Notes
A36: Exercise | B36: Sets x Reps | C36: Reps | D36: Weight | E36: Total | F36: Reps | G36: Weight | H36: Total | I36: Reps | J36: Weight | K36: Total | L36: Reps | M36: Weight | N36: Total | O36: Reps | P36: Weight | Q36: Total
A37: Squat | B37: 4 x 5 | E37: =C37*D37 -> 0 | H37: =F37*G37 -> 0 | K37: =I37*J37 -> 0 | N37: =L37*M37 -> 0 | O37: =SUM(L37,I37,F37,C37) -> 0 | P37: =SUM(M37,J37,G37,D37) -> 0 | Q37: =O37*P37 -> 0
A38: Romanian Deadlift | B38: 3 x 5 | E38: =C38*D38 -> 0 | H38: =F38*G38 -> 0 | K38: =I38*J38 -> 0 | N38: =L38*M38 -> 0 | O38: =SUM(L38,I38,F38,C38) -> 0 | P38: =SUM(M38,J38,G38,D38) -> 0 | Q38: =O38*P38 -> 0
A39: Leg Press | B39: 3 x 6-8 | E39: =C39*D39 -> 0 | H39: =F39*G39 -> 0 | K39: =I39*J39 -> 0 | N39: =L39*M39 -> 0 | O39: =SUM(L39,I39,F39,C39) -> 0 | P39: =SUM(M39,J39,G39,D39) -> 0 | Q39: =O39*P39 -> 0
A40: Barbell Glute Bridge | B40: 4 x 8-12 | E40: =C40*D40 -> 0 | H40: =F40*G40 -> 0 | K40: =I40*J40 -> 0 | N40: =L40*M40 -> 0 | O40: =SUM(L40,I40,F40,C40) -> 0 | P40: =SUM(M40,J40,G40,D40) -> 0 | Q40: =O40*P40 -> 0
A41: Leg Curl | B41: 3 x 12-15 | E41: =C41*D41 -> 0 | H41: =F41*G41 -> 0 | K41: =I41*J41 -> 0 | N41: =L41*M41 -> 0 | O41: =SUM(L41,I41,F41,C41) -> 0 | P41: =SUM(M41,J41,G41,D41) -> 0 | Q41: =O41*P41 -> 0
A42: Standing Calf Raise | B42: 3 x 5 | E42: =C42*D42 -> 0 | H42: =F42*G42 -> 0 | K42: =I42*J42 -> 0 | N42: =L42*M42 -> 0 | O42: =SUM(L42,I42,F42,C42) -> 0 | P42: =SUM(M42,J42,G42,D42) -> 0 | Q42: =O42*P42 -> 0
A43: Calf Press | B43: 3 x 5 | E43: =C43*D43 -> 0 | H43: =F43*G43 -> 0 | K43: =I43*J43 -> 0 | N43: =L43*M43 -> 0 | O43: =SUM(L43,I43,F43,C43) -> 0 | P43: =SUM(M43,J43,G43,D43) -> 0 | Q43: =O43*P43 -> 0
A44: Seated Calf Raise | B44: 4 x 8-12 | E44: =C44*D44 -> 0 | H44: =F44*G44 -> 0 | K44: =I44*J44 -> 0 | N44: =L44*M44 -> 0 | O44: =SUM(L44,I44,F44,C44) -> 0 | P44: =SUM(M44,J44,G44,D44) -> 0 | Q44: =O44*P44 -> 0
A45: Weighted Leg Raise | B45: 2-3 x 12-15 | E45: =C45*D45 -> 0 | H45: =F45*G45 -> 0 | K45: =I45*J45 -> 0 | N45: =L45*M45 -> 0 | O45: =SUM(L45,I45,F45,C45) -> 0 | P45: =SUM(M45,J45,G45,D45) -> 0 | Q45: =O45*P45 -> 0
A46: =A35+2 -> 42515 | C46: Set 1 | F46: Set 2 | I46: Set 3 | L46: Set 4 | O46: Training Volume | R46: Notes
A47: Exercise | B47: Sets x Reps | C47: Reps | D47: Weight | E47: Total | F47: Reps | G47: Weight | H47: Total | I47: Reps | J47: Weight | K47: Total | L47: Reps | M47: Weight | N47: Total | O47: Reps | P47: Weight | Q47: Total
A48: Bench Press | B48: 4 x 5 | E48: =C48*D48 -> 0 | H48: =F48*G48 -> 0 | K48: =I48*J48 -> 0 | N48: =L48*M48 -> 0 | O48: =SUM(L48,I48,F48,C48) -> 0 | P48: =SUM(M48,J48,G48,D48) -> 0 | Q48: =O48*P48 -> 0
A49: Barbell Overhead Press | B49: 3 x 5 | E49: =C49*D49 -> 0 | H49: =F49*G49 -> 0 | K49: =I49*J49 -> 0 | N49: =L49*M49 -> 0 | O49: =SUM(L49,I49,F49,C49) -> 0 | P49: =SUM(M49,J49,G49,D49) -> 0 | Q49: =O49*P49 -> 0
A50: Weighted Dip | B50: 3 x 6-8 | E50: =C50*D50 -> 0 | H50: =F50*G50 -> 0 | K50: =I50*J50 -> 0 | N50: =L50*M50 -> 0 | O50: =SUM(L50,I50,F50,C50) -> 0 | P50: =SUM(M50,J50,G50,D50) -> 0 | Q50: =O50*P50 -> 0
A51: Dumbbell Shoulder Press | B51: 3 x 8-12 | E51: =C51*D51 -> 0 | H51: =F51*G51 -> 0 | K51: =I51*J51 -> 0 | N51: =L51*M51 -> 0 | O51: =SUM(L51,I51,F51,C51) -> 0 | P51: =SUM(M51,J51,G51,D51) -> 0 | Q51: =O51*P51 -> 0
A52: Dumbbell Lateral Raise * | B52: 4 x 8-12 | E52: =C52*D52 -> 0 | H52: =F52*G52 -> 0 | K52: =I52*J52 -> 0 | N52: =L52*M52 -> 0 | O52: =SUM(L52,I52,F52,C52) -> 0 | P52: =SUM(M52,J52,G52,D52) -> 0 | Q52: =O52*P52 -> 0
A53: Dumbbell Triceps Extension | B53: 4 x 8-12 | E53: =C53*D53 -> 0 | H53: =F53*G53 -> 0 | K53: =I53*J53 -> 0 | N53: =L53*M53 -> 0 | O53: =SUM(L53,I53,F53,C53) -> 0 | P53: =SUM(M53,J53,G53,D53) -> 0 | Q53: =O53*P53 -> 0
A54: Cable Triceps Extension | B54: 4 x 12-15 | E54: =C54*D54 -> 0 | H54: =F54*G54 -> 0 | K54: =I54*J54 -> 0 | N54: =L54*M54 -> 0 | O54: =SUM(L54,I54,F54,C54) -> 0 | P54: =SUM(M54,J54,G54,D54) -> 0 | Q54: =O54*P54 -> 0
A55: Weighted Leg Raise | B55: 2-3 x 12-15 | E55: =C55*D55 -> 0 | H55: =F55*G55 -> 0 | K55: =I55*J55 -> 0 | N55: =L55*M55 -> 0 | O55: =SUM(L55,I55,F55,C55) -> 0 | P55: =SUM(M55,J55,G55,D55) -> 0 | Q55: =O55*P55 -> 0
A56: Weighted Crunch | B56: 2-3 x 8-12 | E56: =C56*D56 -> 0 | H56: =F56*G56 -> 0 | K56: =I56*J56 -> 0 | N56: =L56*M56 -> 0 | O56: =SUM(L56,I56,F56,C56) -> 0 | P56: =SUM(M56,J56,G56,D56) -> 0 | Q56: =O56*P56 -> 0

Sheet Week9
A1: Week starting: | B1: =Week8!B1+7 -> 42506 | C1: Week 9
A2: =Week8!A46+1 -> 42516 | C2: Set 1 | F2: Set 2 | I2: Set 3 | L2: Set 4 | O2: Training Volume | R2: Notes
A3: Exercise | B3: Sets x Reps | C3: Reps | D3: Weight | E3: Total | F3: Reps | G3: Weight | H3: Total | I3: Reps | J3: Weight | K3: Total | L3: Reps | M3: Weight | N3: Total | O3: Reps | P3: Weight | Q3: Total
A4: Deadlift | B4: 4 x 5 | E4: =C4*D4 -> 0 | H4: =F4*G4 -> 0 | K4: =I4*J4 -> 0 | N4: =L4*M4 -> 0 | O4: =SUM(L4,I4,F4,C4) -> 0 | P4: =SUM(M4,J4,G4,D4) -> 0 | Q4: =O4*P4 -> 0
A5: (Weighted) Pull Up | B5: 3 x 5 | E5: =C5*D5 -> 0 | H5: =F5*G5 -> 0 | K5: =I5*J5 -> 0 | N5: =L5*M5 -> 0 | O5: =SUM(L5,I5,F5,C5) -> 0 | P5: =SUM(M5,J5,G5,D5) -> 0 | Q5: =O5*P5 -> 0
A6: Barbell Bent Over Row | B6: 3 x 6-8 | E6: =C6*D6 -> 0 | H6: =F6*G6 -> 0 | K6: =I6*J6 -> 0 | N6: =L6*M6 -> 0 | O6: =SUM(L6,I6,F6,C6) -> 0 | P6: =SUM(M6,J6,G6,D6) -> 0 | Q6: =O6*P6 -> 0
A7: Dumbbell One-Arm Row | B7: 3 x 8-12 | E7: =C7*D7 -> 0 | H7: =F7*G7 -> 0 | K7: =I7*J7 -> 0 | N7: =L7*M7 -> 0 | O7: =SUM(L7,I7,F7,C7) -> 0 | P7: =SUM(M7,J7,G7,D7) -> 0 | Q7: =O7*P7 -> 0
A8: Barbell Curl | B8: 4 x 8-12 | E8: =C8*D8 -> 0 | H8: =F8*G8 -> 0 | K8: =I8*J8 -> 0 | N8: =L8*M8 -> 0 | O8: =SUM(L8,I8,F8,C8) -> 0 | P8: =SUM(M8,J8,G8,D8) -> 0 | Q8: =O8*P8 -> 0
A9: Dumbbell Curl | B9: 4 x 8-12 | E9: =C9*D9 -> 0 | H9: =F9*G9 -> 0 | K9: =I9*J9 -> 0 | N9: =L9*M9 -> 0 | O9: =SUM(L9,I9,F9,C9) -> 0 | P9: =SUM(M9,J9,G9,D9) -> 0 | Q9: =O9*P9 -> 0
A10: Dumbbell Rear Deltoid Raise | B10: 4 x 8-12 | E10: =C10*D10 -> 0 | H10: =F10*G10 -> 0 | K10: =I10*J10 -> 0 | N10: =L10*M10 -> 0 | O10: =SUM(L10,I10,F10,C10) -> 0 | P10: =SUM(M10,J10,G10,D10) -> 0 | Q10: =O10*P10 -> 0
A11: Cable Face Pull | B11: 4 x 12-15 | E11: =C11*D11 -> 0 | H11: =F11*G11 -> 0 | K11: =I11*J11 -> 0 | N11: =L11*M11 -> 0 | O11: =SUM(L11,I11,F11,C11) -> 0 | P11: =SUM(M11,J11,G11,D11) -> 0 | Q11: =O11*P11 -> 0
A12: Weighted Hyperextension | B12: 2-3 x 8-12 | E12: =C12*D12 -> 0 | H12: =F12*G12 -> 0 | K12: =I12*J12 -> 0 | N12: =L12*M12 -> 0 | O12: =SUM(L12,I12,F12,C12) -> 0 | P12: =SUM(M12,J12,G12,D12) -> 0 | Q12: =O12*P12 -> 0
A13: =A2+2 -> 42518 | C13: Set 1 | F13: Set 2 | I13: Set 3 | L13: Set 4 | O13: Training Volume | R13: Notes
A14: Exercise | B14: Sets x Reps | C14: Reps | D14: Weight | E14: Total | F14: Reps | G14: Weight | H14: Total | I14: Reps | J14: Weight | K14: Total | L14: Reps | M14: Weight | N14: Total | O14: Reps | P14: Weight | Q14: Total
A15: Squat | B15: 4 x 5 | E15: =C15*D15 -> 0 | H15: =F15*G15 -> 0 | K15: =I15*J15 -> 0 | N15: =L15*M15 -> 0 | O15: =SUM(L15,I15,F15,C15) -> 0 | P15: =SUM(M15,J15,G15,D15) -> 0 | Q15: =O15*P15 -> 0
A16: Romanian Deadlift | B16: 3 x 5 | E16: =C16*D16 -> 0 | H16: =F16*G16 -> 0 | K16: =I16*J16 -> 0 | N16: =L16*M16 -> 0 | O16: =SUM(L16,I16,F16,C16) -> 0 | P16: =SUM(M16,J16,G16,D16) -> 0 | Q16: =O16*P16 -> 0
A17: Leg Press | B17: 3 x 6-8 | E17: =C17*D17 -> 0 | H17: =F17*G17 -> 0 | K17: =I17*J17 -> 0 | N17: =L17*M17 -> 0 | O17: =SUM(L17,I17,F17,C17) -> 0 | P17: =SUM(M17,J17,G17,D17) -> 0 | Q17: =O17*P17 -> 0
A18: Barbell Glute Bridge | B18: 4 x 8-12 | E18: =C18*D18 -> 0 | H18: =F18*G18 -> 0 | K18: =I18*J18 -> 0 | N18: =L18*M18 -> 0 | O18: =SUM(L18,I18,F18,C18) -> 0 | P18: =SUM(M18,J18,G18,D18) -> 0 | Q18: =O18*P18 -> 0
A19: Leg Curl | B19: 3 x 12-15 | E19: =C19*D19 -> 0 | H19: =F19*G19 -> 0 | K19: =I19*J19 -> 0 | N19: =L19*M19 -> 0 | O19: =SUM(L19,I19,F19,C19) -> 0 | P19: =SUM(M19,J19,G19,D19) -> 0 | Q19: =O19*P19 -> 0
A20: Standing Calf Raise | B20: 3 x 5 | E20: =C20*D20 -> 0 | H20: =F20*G20 -> 0 | K20: =I20*J20 -> 0 | N20: =L20*M20 -> 0 | O20: =SUM(L20,I20,F20,C20) -> 0 | P20: =SUM(M20,J20,G20,D20) -> 0 | Q20: =O20*P20 -> 0
A21: Calf Press | B21: 3 x 5 | E21: =C21*D21 -> 0 | H21: =F21*G21 -> 0 | K21: =I21*J21 -> 0 | N21: =L21*M21 -> 0 | O21: =SUM(L21,I21,F21,C21) -> 0 | P21: =SUM(M21,J21,G21,D21) -> 0 | Q21: =O21*P21 -> 0
A22: Seated Calf Raise | B22: 4 x 8-12 | E22: =C22*D22 -> 0 | H22: =F22*G22 -> 0 | K22: =I22*J22 -> 0 | N22: =L22*M22 -> 0 | O22: =SUM(L22,I22,F22,C22) -> 0 | P22: =SUM(M22,J22,G22,D22) -> 0 | Q22: =O22*P22 -> 0
A23: Weighted Leg Raise | B23: 2-3 x 12-15 | E23: =C23*D23 -> 0 | H23: =F23*G23 -> 0 | K23: =I23*J23 -> 0 | N23: =L23*M23 -> 0 | O23: =SUM(L23,I23,F23,C23) -> 0 | P23: =SUM(M23,J23,G23,D23) -> 0 | Q23: =O23*P23 -> 0
A24: =A13+2 -> 42520 | C24: Set 1 | F24: Set 2 | I24: Set 3 | L24: Set 4 | O24: Training Volume | R24: Notes
A25: Exercise | B25: Sets x Reps | C25: Reps | D25: Weight | E25: Total | F25: Reps | G25: Weight | H25: Total | I25: Reps | J25: Weight | K25: Total | L25: Reps | M25: Weight | N25: Total | O25: Reps | P25: Weight | Q25: Total
A26: Bench Press | B26: 4 x 5 | E26: =C26*D26 -> 0 | H26: =F26*G26 -> 0 | K26: =I26*J26 -> 0 | N26: =L26*M26 -> 0 | O26: =SUM(L26,I26,F26,C26) -> 0 | P26: =SUM(M26,J26,G26,D26) -> 0 | Q26: =O26*P26 -> 0
A27: Barbell Overhead Press | B27: 3 x 5 | E27: =C27*D27 -> 0 | H27: =F27*G27 -> 0 | K27: =I27*J27 -> 0 | N27: =L27*M27 -> 0 | O27: =SUM(L27,I27,F27,C27) -> 0 | P27: =SUM(M27,J27,G27,D27) -> 0 | Q27: =O27*P27 -> 0
A28: Weighted Dip | B28: 3 x 6-8 | E28: =C28*D28 -> 0 | H28: =F28*G28 -> 0 | K28: =I28*J28 -> 0 | N28: =L28*M28 -> 0 | O28: =SUM(L28,I28,F28,C28) -> 0 | P28: =SUM(M28,J28,G28,D28) -> 0 | Q28: =O28*P28 -> 0
A29: Dumbbell Shoulder Press | B29: 3 x 8-12 | E29: =C29*D29 -> 0 | H29: =F29*G29 -> 0 | K29: =I29*J29 -> 0 | N29: =L29*M29 -> 0 | O29: =SUM(L29,I29,F29,C29) -> 0 | P29: =SUM(M29,J29,G29,D29) -> 0 | Q29: =O29*P29 -> 0
A30: Dumbbell Lateral Raise * | B30: 4 x 8-12 | E30: =C30*D30 -> 0 | H30: =F30*G30 -> 0 | K30: =I30*J30 -> 0 | N30: =L30*M30 -> 0 | O30: =SUM(L30,I30,F30,C30) -> 0 | P30: =SUM(M30,J30,G30,D30) -> 0 | Q30: =O30*P30 -> 0
A31: Dumbbell Triceps Extension | B31: 4 x 8-12 | E31: =C31*D31 -> 0 | H31: =F31*G31 -> 0 | K31: =I31*J31 -> 0 | N31: =L31*M31 -> 0 | O31: =SUM(L31,I31,F31,C31) -> 0 | P31: =SUM(M31,J31,G31,D31) -> 0 | Q31: =O31*P31 -> 0
A32: Cable Triceps Extension | B32: 4 x 12-15 | E32: =C32*D32 -> 0 | H32: =F32*G32 -> 0 | K32: =I32*J32 -> 0 | N32: =L32*M32 -> 0 | O32: =SUM(L32,I32,F32,C32) -> 0 | P32: =SUM(M32,J32,G32,D32) -> 0 | Q32: =O32*P32 -> 0
A33: Weighted Leg Raise | B33: 2-3 x 12-15 | E33: =C33*D33 -> 0 | H33: =F33*G33 -> 0 | K33: =I33*J33 -> 0 | N33: =L33*M33 -> 0 | O33: =SUM(L33,I33,F33,C33) -> 0 | P33: =SUM(M33,J33,G33,D33) -> 0 | Q33: =O33*P33 -> 0
A34: Weighted Crunch | B34: 2-3 x 8-12 | E34: =C34*D34 -> 0 | H34: =F34*G34 -> 0 | K34: =I34*J34 -> 0 | N34: =L34*M34 -> 0 | O34: =SUM(L34,I34,F34,C34) -> 0 | P34: =SUM(M34,J34,G34,D34) -> 0 | Q34: =O34*P34 -> 0
A35: =A24+1 -> 42521 | C35: Set 1 | F35: Set 2 | I35: Set 3 | L35: Set 4 | O35: Training Volume | R35: Notes
A36: Exercise | B36: Sets x Reps | C36: Reps | D36: Weight | E36: Total | F36: Reps | G36: Weight | H36: Total | I36: Reps | J36: Weight | K36: Total | L36: Reps | M36: Weight | N36: Total | O36: Reps | P36: Weight | Q36: Total
A37: Deadlift | B37: 4 x 5 | E37: =C37*D37 -> 0 | H37: =F37*G37 -> 0 | K37: =I37*J37 -> 0 | N37: =L37*M37 -> 0 | O37: =SUM(L37,I37,F37,C37) -> 0 | P37: =SUM(M37,J37,G37,D37) -> 0 | Q37: =O37*P37 -> 0
A38: (Weighted) Pull Up | B38: 3 x 5 | E38: =C38*D38 -> 0 | H38: =F38*G38 -> 0 | K38: =I38*J38 -> 0 | N38: =L38*M38 -> 0 | O38: =SUM(L38,I38,F38,C38) -> 0 | P38: =SUM(M38,J38,G38,D38) -> 0 | Q38: =O38*P38 -> 0
A39: Barbell Bent Over Row | B39: 3 x 6-8 | E39: =C39*D39 -> 0 | H39: =F39*G39 -> 0 | K39: =I39*J39 -> 0 | N39: =L39*M39 -> 0 | O39: =SUM(L39,I39,F39,C39) -> 0 | P39: =SUM(M39,J39,G39,D39) -> 0 | Q39: =O39*P39 -> 0
A40: Dumbbell One-Arm Row | B40: 3 x 8-12 | E40: =C40*D40 -> 0 | H40: =F40*G40 -> 0 | K40: =I40*J40 -> 0 | N40: =L40*M40 -> 0 | O40: =SUM(L40,I40,F40,C40) -> 0 | P40: =SUM(M40,J40,G40,D40) -> 0 | Q40: =O40*P40 -> 0
A41: Barbell Curl | B41: 4 x 8-12 | E41: =C41*D41 -> 0 | H41: =F41*G41 -> 0 | K41: =I41*J41 -> 0 | N41: =L41*M41 -> 0 | O41: =SUM(L41,I41,F41,C41) -> 0 | P41: =SUM(M41,J41,G41,D41) -> 0 | Q41: =O41*P41 -> 0
A42: Dumbbell Curl | B42: 4 x 8-12 | E42: =C42*D42 -> 0 | H42: =F42*G42 -> 0 | K42: =I42*J42 -> 0 | N42: =L42*M42 -> 0 | O42: =SUM(L42,I42,F42,C42) -> 0 | P42: =SUM(M42,J42,G42,D42) -> 0 | Q42: =O42*P42 -> 0
A43: Dumbbell Rear Deltoid Raise | B43: 4 x 8-12 | E43: =C43*D43 -> 0 | H43: =F43*G43 -> 0 | K43: =I43*J43 -> 0 | N43: =L43*M43 -> 0 | O43: =SUM(L43,I43,F43,C43) -> 0 | P43: =SUM(M43,J43,G43,D43) -> 0 | Q43: =O43*P43 -> 0
A44: Cable Face Pull | B44: 4 x 12-15 | E44: =C44*D44 -> 0 | H44: =F44*G44 -> 0 | K44: =I44*J44 -> 0 | N44: =L44*M44 -> 0 | O44: =SUM(L44,I44,F44,C44) -> 0 | P44: =SUM(M44,J44,G44,D44) -> 0 | Q44: =O44*P44 -> 0
A45: Weighted Hyperextension | B45: 2-3 x 8-12 | E45: =C45*D45 -> 0 | H45: =F45*G45 -> 0 | K45: =I45*J45 -> 0 | N45: =L45*M45 -> 0 | O45: =SUM(L45,I45,F45,C45) -> 0 | P45: =SUM(M45,J45,G45,D45) -> 0 | Q45: =O45*P45 -> 0
A46: =A35+2 -> 42523 | C46: Set 1 | F46: Set 2 | I46: Set 3 | L46: Set 4 | O46: Training Volume | R46: Notes
A47: Exercise | B47: Sets x Reps | C47: Reps | D47: Weight | E47: Total | F47: Reps | G47: Weight | H47: Total | I47: Reps | J47: Weight | K47: Total | L47: Reps | M47: Weight | N47: Total | O47: Reps | P47: Weight | Q47: Total
A48: Squat | B48: 4 x 5 | E48: =C48*D48 -> 0 | H48: =F48*G48 -> 0 | K48: =I48*J48 -> 0 | N48: =L48*M48 -> 0 | O48: =SUM(L48,I48,F48,C48) -> 0 | P48: =SUM(M48,J48,G48,D48) -> 0 | Q48: =O48*P48 -> 0
A49: Romanian Deadlift | B49: 3 x 5 | E49: =C49*D49 -> 0 | H49: =F49*G49 -> 0 | K49: =I49*J49 -> 0 | N49: =L49*M49 -> 0 | O49: =SUM(L49,I49,F49,C49) -> 0 | P49: =SUM(M49,J49,G49,D49) -> 0 | Q49: =O49*P49 -> 0
A50: Leg Press | B50: 3 x 6-8 | E50: =C50*D50 -> 0 | H50: =F50*G50 -> 0 | K50: =I50*J50 -> 0 | N50: =L50*M50 -> 0 | O50: =SUM(L50,I50,F50,C50) -> 0 | P50: =SUM(M50,J50,G50,D50) -> 0 | Q50: =O50*P50 -> 0
A51: Barbell Glute Bridge | B51: 4 x 8-12 | E51: =C51*D51 -> 0 | H51: =F51*G51 -> 0 | K51: =I51*J51 -> 0 | N51: =L51*M51 -> 0 | O51: =SUM(L51,I51,F51,C51) -> 0 | P51: =SUM(M51,J51,G51,D51) -> 0 | Q51: =O51*P51 -> 0
A52: Leg Curl | B52: 3 x 12-15 | E52: =C52*D52 -> 0 | H52: =F52*G52 -> 0 | K52: =I52*J52 -> 0 | N52: =L52*M52 -> 0 | O52: =SUM(L52,I52,F52,C52) -> 0 | P52: =SUM(M52,J52,G52,D52) -> 0 | Q52: =O52*P52 -> 0
A53: Standing Calf Raise | B53: 3 x 5 | E53: =C53*D53 -> 0 | H53: =F53*G53 -> 0 | K53: =I53*J53 -> 0 | N53: =L53*M53 -> 0 | O53: =SUM(L53,I53,F53,C53) -> 0 | P53: =SUM(M53,J53,G53,D53) -> 0 | Q53: =O53*P53 -> 0
A54: Calf Press | B54: 3 x 5 | E54: =C54*D54 -> 0 | H54: =F54*G54 -> 0 | K54: =I54*J54 -> 0 | N54: =L54*M54 -> 0 | O54: =SUM(L54,I54,F54,C54) -> 0 | P54: =SUM(M54,J54,G54,D54) -> 0 | Q54: =O54*P54 -> 0
A55: Seated Calf Raise | B55: 4 x 8-12 | E55: =C55*D55 -> 0 | H55: =F55*G55 -> 0 | K55: =I55*J55 -> 0 | N55: =L55*M55 -> 0 | O55: =SUM(L55,I55,F55,C55) -> 0 | P55: =SUM(M55,J55,G55,D55) -> 0 | Q55: =O55*P55 -> 0
A56: Weighted Leg Raise | B56: 2-3 x 12-15 | E56: =C56*D56 -> 0 | H56: =F56*G56 -> 0 | K56: =I56*J56 -> 0 | N56: =L56*M56 -> 0 | O56: =SUM(L56,I56,F56,C56) -> 0 | P56: =SUM(M56,J56,G56,D56) -> 0 | Q56: =O56*P56 -> 0

Sheet Week10
A1: Week starting: | B1: =Week9!B1+7 -> 42513 | C1: Week 10
A2: =Week9!A46+2 -> 42525 | C2: Set 1 | F2: Set 2 | I2: Set 3 | L2: Set 4 | O2: Training Volume | R2: Notes
A3: Exercise | B3: Sets x Reps | C3: Reps | D3: Weight | E3: Total | F3: Reps | G3: Weight | H3: Total | I3: Reps | J3: Weight | K3: Total | L3: Reps | M3: Weight | N3: Total | O3: Reps | P3: Weight | Q3: Total
A4: Bench Press | B4: 4 x 5 | E4: =C4*D4 -> 0 | H4: =F4*G4 -> 0 | K4: =I4*J4 -> 0 | N4: =L4*M4 -> 0 | O4: =SUM(L4,I4,F4,C4) -> 0 | P4: =SUM(M4,J4,G4,D4) -> 0 | Q4: =O4*P4 -> 0
A5: Barbell Overhead Press | B5: 3 x 5 | E5: =C5*D5 -> 0 | H5: =F5*G5 -> 0 | K5: =I5*J5 -> 0 | N5: =L5*M5 -> 0 | O5: =SUM(L5,I5,F5,C5) -> 0 | P5: =SUM(M5,J5,G5,D5) -> 0 | Q5: =O5*P5 -> 0
A6: Weighted Dip | B6: 3 x 6-8 | E6: =C6*D6 -> 0 | H6: =F6*G6 -> 0 | K6: =I6*J6 -> 0 | N6: =L6*M6 -> 0 | O6: =SUM(L6,I6,F6,C6) -> 0 | P6: =SUM(M6,J6,G6,D6) -> 0 | Q6: =O6*P6 -> 0
A7: Dumbbell Shoulder Press | B7: 3 x 8-12 | E7: =C7*D7 -> 0 | H7: =F7*G7 -> 0 | K7: =I7*J7 -> 0 | N7: =L7*M7 -> 0 | O7: =SUM(L7,I7,F7,C7) -> 0 | P7: =SUM(M7,J7,G7,D7) -> 0 | Q7: =O7*P7 -> 0
A8: Dumbbell Lateral Raise * | B8: 4 x 8-12 | E8: =C8*D8 -> 0 | H8: =F8*G8 -> 0 | K8: =I8*J8 -> 0 | N8: =L8*M8 -> 0 | O8: =SUM(L8,I8,F8,C8) -> 0 | P8: =SUM(M8,J8,G8,D8) -> 0 | Q8: =O8*P8 -> 0
A9: Dumbbell Triceps Extension | B9: 4 x 8-12 | E9: =C9*D9 -> 0 | H9: =F9*G9 -> 0 | K9: =I9*J9 -> 0 | N9: =L9*M9 -> 0 | O9: =SUM(L9,I9,F9,C9) -> 0 | P9: =SUM(M9,J9,G9,D9) -> 0 | Q9: =O9*P9 -> 0
A10: Cable Triceps Extension | B10: 4 x 12-15 | E10: =C10*D10 -> 0 | H10: =F10*G10 -> 0 | K10: =I10*J10 -> 0 | N10: =L10*M10 -> 0 | O10: =SUM(L10,I10,F10,C10) -> 0 | P10: =SUM(M10,J10,G10,D10) -> 0 | Q10: =O10*P10 -> 0
A11: Weighted Leg Raise | B11: 2-3 x 12-15 | E11: =C11*D11 -> 0 | H11: =F11*G11 -> 0 | K11: =I11*J11 -> 0 | N11: =L11*M11 -> 0 | O11: =SUM(L11,I11,F11,C11) -> 0 | P11: =SUM(M11,J11,G11,D11) -> 0 | Q11: =O11*P11 -> 0
A12: Weighted Crunch | B12: 2-3 x 8-12 | E12: =C12*D12 -> 0 | H12: =F12*G12 -> 0 | K12: =I12*J12 -> 0 | N12: =L12*M12 -> 0 | O12: =SUM(L12,I12,F12,C12) -> 0 | P12: =SUM(M12,J12,G12,D12) -> 0 | Q12: =O12*P12 -> 0
A13: =A2+1 -> 42526 | C13: Set 1 | F13: Set 2 | I13: Set 3 | L13: Set 4 | O13: Training Volume | R13: Notes
A14: Exercise | B14: Sets x Reps | C14: Reps | D14: Weight | E14: Total | F14: Reps | G14: Weight | H14: Total | I14: Reps | J14: Weight | K14: Total | L14: Reps | M14: Weight | N14: Total | O14: Reps | P14: Weight | Q14: Total
A15: Deadlift | B15: 4 x 5 | E15: =C15*D15 -> 0 | H15: =F15*G15 -> 0 | K15: =I15*J15 -> 0 | N15: =L15*M15 -> 0 | O15: =SUM(L15,I15,F15,C15) -> 0 | P15: =SUM(M15,J15,G15,D15) -> 0 | Q15: =O15*P15 -> 0
A16: (Weighted) Pull Up | B16: 3 x 5 | E16: =C16*D16 -> 0 | H16: =F16*G16 -> 0 | K16: =I16*J16 -> 0 | N16: =L16*M16 -> 0 | O16: =SUM(L16,I16,F16,C16) -> 0 | P16: =SUM(M16,J16,G16,D16) -> 0 | Q16: =O16*P16 -> 0
A17: Barbell Bent Over Row | B17: 3 x 6-8 | E17: =C17*D17 -> 0 | H17: =F17*G17 -> 0 | K17: =I17*J17 -> 0 | N17: =L17*M17 -> 0 | O17: =SUM(L17,I17,F17,C17) -> 0 | P17: =SUM(M17,J17,G17,D17) -> 0 | Q17: =O17*P17 -> 0
A18: Dumbbell One-Arm Row | B18: 3 x 8-12 | E18: =C18*D18 -> 0 | H18: =F18*G18 -> 0 | K18: =I18*J18 -> 0 | N18: =L18*M18 -> 0 | O18: =SUM(L18,I18,F18,C18) -> 0 | P18: =SUM(M18,J18,G18,D18) -> 0 | Q18: =O18*P18 -> 0
A19: Barbell Curl | B19: 4 x 8-12 | E19: =C19*D19 -> 0 | H19: =F19*G19 -> 0 | K19: =I19*J19 -> 0 | N19: =L19*M19 -> 0 | O19: =SUM(L19,I19,F19,C19) -> 0 | P19: =SUM(M19,J19,G19,D19) -> 0 | Q19: =O19*P19 -> 0
A20: Dumbbell Curl | B20: 4 x 8-12 | E20: =C20*D20 -> 0 | H20: =F20*G20 -> 0 | K20: =I20*J20 -> 0 | N20: =L20*M20 -> 0 | O20: =SUM(L20,I20,F20,C20) -> 0 | P20: =SUM(M20,J20,G20,D20) -> 0 | Q20: =O20*P20 -> 0
A21: Dumbbell Rear Deltoid Raise | B21: 4 x 8-12 | E21: =C21*D21 -> 0 | H21: =F21*G21 -> 0 | K21: =I21*J21 -> 0 | N21: =L21*M21 -> 0 | O21: =SUM(L21,I21,F21,C21) -> 0 | P21: =SUM(M21,J21,G21,D21) -> 0 | Q21: =O21*P21 -> 0
A22: Cable Face Pull | B22: 4 x 12-15 | E22: =C22*D22 -> 0 | H22: =F22*G22 -> 0 | K22: =I22*J22 -> 0 | N22: =L22*M22 -> 0 | O22: =SUM(L22,I22,F22,C22) -> 0 | P22: =SUM(M22,J22,G22,D22) -> 0 | Q22: =O22*P22 -> 0
A23: Weighted Hyperextension | B23: 2-3 x 8-12 | E23: =C23*D23 -> 0 | H23: =F23*G23 -> 0 | K23: =I23*J23 -> 0 | N23: =L23*M23 -> 0 | O23: =SUM(L23,I23,F23,C23) -> 0 | P23: =SUM(M23,J23,G23,D23) -> 0 | Q23: =O23*P23 -> 0
A24: =A13+2 -> 42528 | C24: Set 1 | F24: Set 2 | I24: Set 3 | L24: Set 4 | O24: Training Volume | R24: Notes
A25: Exercise | B25: Sets x Reps | C25: Reps | D25: Weight | E25: Total | F25: Reps | G25: Weight | H25: Total | I25: Reps | J25: Weight | K25: Total | L25: Reps | M25: Weight | N25: Total | O25: Reps | P25: Weight | Q25: Total
A26: Squat | B26: 4 x 5 | E26: =C26*D26 -> 0 | H26: =F26*G26 -> 0 | K26: =I26*J26 -> 0 | N26: =L26*M26 -> 0 | O26: =SUM(L26,I26,F26,C26) -> 0 | P26: =SUM(M26,J26,G26,D26) -> 0 | Q26: =O26*P26 -> 0
A27: Romanian Deadlift | B27: 3 x 5 | E27: =C27*D27 -> 0 | H27: =F27*G27 -> 0 | K27: =I27*J27 -> 0 | N27: =L27*M27 -> 0 | O27: =SUM(L27,I27,F27,C27) -> 0 | P27: =SUM(M27,J27,G27,D27) -> 0 | Q27: =O27*P27 -> 0
A28: Leg Press | B28: 3 x 6-8 | E28: =C28*D28 -> 0 | H28: =F28*G28 -> 0 | K28: =I28*J28 -> 0 | N28: =L28*M28 -> 0 | O28: =SUM(L28,I28,F28,C28) -> 0 | P28: =SUM(M28,J28,G28,D28) -> 0 | Q28: =O28*P28 -> 0
A29: Barbell Glute Bridge | B29: 4 x 8-12 | E29: =C29*D29 -> 0 | H29: =F29*G29 -> 0 | K29: =I29*J29 -> 0 | N29: =L29*M29 -> 0 | O29: =SUM(L29,I29,F29,C29) -> 0 | P29: =SUM(M29,J29,G29,D29) -> 0 | Q29: =O29*P29 -> 0
A30: Leg Curl | B30: 3 x 12-15 | E30: =C30*D30 -> 0 | H30: =F30*G30 -> 0 | K30: =I30*J30 -> 0 | N30: =L30*M30 -> 0 | O30: =SUM(L30,I30,F30,C30) -> 0 | P30: =SUM(M30,J30,G30,D30) -> 0 | Q30: =O30*P30 -> 0
A31: Standing Calf Raise | B31: 3 x 5 | E31: =C31*D31 -> 0 | H31: =F31*G31 -> 0 | K31: =I31*J31 -> 0 | N31: =L31*M31 -> 0 | O31: =SUM(L31,I31,F31,C31) -> 0 | P31: =SUM(M31,J31,G31,D31) -> 0 | Q31: =O31*P31 -> 0
A32: Calf Press | B32: 3 x 5 | E32: =C32*D32 -> 0 | H32: =F32*G32 -> 0 | K32: =I32*J32 -> 0 | N32: =L32*M32 -> 0 | O32: =SUM(L32,I32,F32,C32) -> 0 | P32: =SUM(M32,J32,G32,D32) -> 0 | Q32: =O32*P32 -> 0
A33: Seated Calf Raise | B33: 4 x 8-12 | E33: =C33*D33 -> 0 | H33: =F33*G33 -> 0 | K33: =I33*J33 -> 0 | N33: =L33*M33 -> 0 | O33: =SUM(L33,I33,F33,C33) -> 0 | P33: =SUM(M33,J33,G33,D33) -> 0 | Q33: =O33*P33 -> 0
A34: Weighted Leg Raise | B34: 2-3 x 12-15 | E34: =C34*D34 -> 0 | H34: =F34*G34 -> 0 | K34: =I34*J34 -> 0 | N34: =L34*M34 -> 0 | O34: =SUM(L34,I34,F34,C34) -> 0 | P34: =SUM(M34,J34,G34,D34) -> 0 | Q34: =O34*P34 -> 0
A35: =A24+2 -> 42530 | C35: Set 1 | F35: Set 2 | I35: Set 3 | L35: Set 4 | O35: Training Volume | R35: Notes
A36: Exercise | B36: Sets x Reps | C36: Reps | D36: Weight | E36: Total | F36: Reps | G36: Weight | H36: Total | I36: Reps | J36: Weight | K36: Total | L36: Reps | M36: Weight | N36: Total | O36: Reps | P36: Weight | Q36: Total
A37: Bench Press | B37: 4 x 5 | E37: =C37*D37 -> 0 | H37: =F37*G37 -> 0 | K37: =I37*J37 -> 0 | N37: =L37*M37 -> 0 | O37: =SUM(L37,I37,F37,C37) -> 0 | P37: =SUM(M37,J37,G37,D37) -> 0 | Q37: =O37*P37 -> 0
A38: Barbell Overhead Press | B38: 3 x 5 | E38: =C38*D38 -> 0 | H38: =F38*G38 -> 0 | K38: =I38*J38 -> 0 | N38: =L38*M38 -> 0 | O38: =SUM(L38,I38,F38,C38) -> 0 | P38: =SUM(M38,J38,G38,D38) -> 0 | Q38: =O38*P38 -> 0
A39: Weighted Dip | B39: 3 x 6-8 | E39: =C39*D39 -> 0 | H39: =F39*G39 -> 0 | K39: =I39*J39 -> 0 | N39: =L39*M39 -> 0 | O39: =SUM(L39,I39,F39,C39) -> 0 | P39: =SUM(M39,J39,G39,D39) -> 0 | Q39: =O39*P39 -> 0
A40: Dumbbell Shoulder Press | B40: 3 x 8-12 | E40: =C40*D40 -> 0 | H40: =F40*G40 -> 0 | K40: =I40*J40 -> 0 | N40: =L40*M40 -> 0 | O40: =SUM(L40,I40,F40,C40) -> 0 | P40: =SUM(M40,J40,G40,D40) -> 0 | Q40: =O40*P40 -> 0
A41: Dumbbell Lateral Raise * | B41: 4 x 8-12 | E41: =C41*D41 -> 0 | H41: =F41*G41 -> 0 | K41: =I41*J41 -> 0 | N41: =L41*M41 -> 0 | O41: =SUM(L41,I41,F41,C41) -> 0 | P41: =SUM(M41,J41,G41,D41) -> 0 | Q41: =O41*P41 -> 0
A42: Dumbbell Triceps Extension | B42: 4 x 8-12 | E42: =C42*D42 -> 0 | H42: =F42*G42 -> 0 | K42: =I42*J42 -> 0 | N42: =L42*M42 -> 0 | O42: =SUM(L42,I42,F42,C42) -> 0 | P42: =SUM(M42,J42,G42,D42) -> 0 | Q42: =O42*P42 -> 0
A43: Cable Triceps Extension | B43: 4 x 12-15 | E43: =C43*D43 -> 0 | H43: =F43*G43 -> 0 | K43: =I43*J43 -> 0 | N43: =L43*M43 -> 0 | O43: =SUM(L43,I43,F43,C43) -> 0 | P43: =SUM(M43,J43,G43,D43) -> 0 | Q43: =O43*P43 -> 0
A44: Weighted Leg Raise | B44: 2-3 x 12-15 | E44: =C44*D44 -> 0 | H44: =F44*G44 -> 0 | K44: =I44*J44 -> 0 | N44: =L44*M44 -> 0 | O44: =SUM(L44,I44,F44,C44) -> 0 | P44: =SUM(M44,J44,G44,D44) -> 0 | Q44: =O44*P44 -> 0
A45: Weighted Crunch | B45: 2-3 x 8-12 | E45: =C45*D45 -> 0 | H45: =F45*G45 -> 0 | K45: =I45*J45 -> 0 | N45: =L45*M45 -> 0 | O45: =SUM(L45,I45,F45,C45) -> 0 | P45: =SUM(M45,J45,G45,D45) -> 0 | Q45: =O45*P45 -> 0
A46: =A35+1 -> 42531 | C46: Set 1 | F46: Set 2 | I46: Set 3 | L46: Set 4 | O46: Training Volume | R46: Notes
A47: Exercise | B47: Sets x Reps | C47: Reps | D47: Weight | E47: Total | F47: Reps | G47: Weight | H47: Total | I47: Reps | J47: Weight | K47: Total | L47: Reps | M47: Weight | N47: Total | O47: Reps | P47: Weight | Q47: Total
A48: Deadlift | B48: 4 x 5 | E48: =C48*D48 -> 0 | H48: =F48*G48 -> 0 | K48: =I48*J48 -> 0 | N48: =L48*M48 -> 0 | O48: =SUM(L48,I48,F48,C48) -> 0 | P48: =SUM(M48,J48,G48,D48) -> 0 | Q48: =O48*P48 -> 0
A49: (Weighted) Pull Up | B49: 3 x 5 | E49: =C49*D49 -> 0 | H49: =F49*G49 -> 0 | K49: =I49*J49 -> 0 | N49: =L49*M49 -> 0 | O49: =SUM(L49,I49,F49,C49) -> 0 | P49: =SUM(M49,J49,G49,D49) -> 0 | Q49: =O49*P49 -> 0
A50: Barbell Bent Over Row | B50: 3 x 6-8 | E50: =C50*D50 -> 0 | H50: =F50*G50 -> 0 | K50: =I50*J50 -> 0 | N50: =L50*M50 -> 0 | O50: =SUM(L50,I50,F50,C50) -> 0 | P50: =SUM(M50,J50,G50,D50) -> 0 | Q50: =O50*P50 -> 0
A51: Dumbbell One-Arm Row | B51: 3 x 8-12 | E51: =C51*D51 -> 0 | H51: =F51*G51 -> 0 | K51: =I51*J51 -> 0 | N51: =L51*M51 -> 0 | O51: =SUM(L51,I51,F51,C51) -> 0 | P51: =SUM(M51,J51,G51,D51) -> 0 | Q51: =O51*P51 -> 0
A52: Barbell Curl | B52: 4 x 8-12 | E52: =C52*D52 -> 0 | H52: =F52*G52 -> 0 | K52: =I52*J52 -> 0 | N52: =L52*M52 -> 0 | O52: =SUM(L52,I52,F52,C52) -> 0 | P52: =SUM(M52,J52,G52,D52) -> 0 | Q52: =O52*P52 -> 0
A53: Dumbbell Curl | B53: 4 x 8-12 | E53: =C53*D53 -> 0 | H53: =F53*G53 -> 0 | K53: =I53*J53 -> 0 | N53: =L53*M53 -> 0 | O53: =SUM(L53,I53,F53,C53) -> 0 | P53: =SUM(M53,J53,G53,D53) -> 0 | Q53: =O53*P53 -> 0
A54: Dumbbell Rear Deltoid Raise | B54: 4 x 8-12 | E54: =C54*D54 -> 0 | H54: =F54*G54 -> 0 | K54: =I54*J54 -> 0 | N54: =L54*M54 -> 0 | O54: =SUM(L54,I54,F54,C54) -> 0 | P54: =SUM(M54,J54,G54,D54) -> 0 | Q54: =O54*P54 -> 0
A55: Cable Face Pull | B55: 4 x 12-15 | E55: =C55*D55 -> 0 | H55: =F55*G55 -> 0 | K55: =I55*J55 -> 0 | N55: =L55*M55 -> 0 | O55: =SUM(L55,I55,F55,C55) -> 0 | P55: =SUM(M55,J55,G55,D55) -> 0 | Q55: =O55*P55 -> 0
A56: Weighted Hyperextension | B56: 2-3 x 8-12 | E56: =C56*D56 -> 0 | H56: =F56*G56 -> 0 | K56: =I56*J56 -> 0 | N56: =L56*M56 -> 0 | O56: =SUM(L56,I56,F56,C56) -> 0 | P56: =SUM(M56,J56,G56,D56) -> 0 | Q56: =O56*P56 -> 0

Sheet Week11
A1: Week starting: | B1: =Week10!B1+7 -> 42520 | C1: Week 11
A2: =Week10!A46+2 -> 42533 | C2: Set 1 | F2: Set 2 | I2: Set 3 | L2: Set 4 | O2: Training Volume | R2: Notes
A3: Exercise | B3: Sets x Reps | C3: Reps | D3: Weight | E3: Total | F3: Reps | G3: Weight | H3: Total | I3: Reps | J3: Weight | K3: Total | L3: Reps | M3: Weight | N3: Total | O3: Reps | P3: Weight | Q3: Total
A4: Squat | B4: 4 x 5 | E4: =C4*D4 -> 0 | H4: =F4*G4 -> 0 | K4: =I4*J4 -> 0 | N4: =L4*M4 -> 0 | O4: =SUM(L4,I4,F4,C4) -> 0 | P4: =SUM(M4,J4,G4,D4) -> 0 | Q4: =O4*P4 -> 0
A5: Romanian Deadlift | B5: 3 x 5 | E5: =C5*D5 -> 0 | H5: =F5*G5 -> 0 | K5: =I5*J5 -> 0 | N5: =L5*M5 -> 0 | O5: =SUM(L5,I5,F5,C5) -> 0 | P5: =SUM(M5,J5,G5,D5) -> 0 | Q5: =O5*P5 -> 0
A6: Leg Press | B6: 3 x 6-8 | E6: =C6*D6 -> 0 | H6: =F6*G6 -> 0 | K6: =I6*J6 -> 0 | N6: =L6*M6 -> 0 | O6: =SUM(L6,I6,F6,C6) -> 0 | P6: =SUM(M6,J6,G6,D6) -> 0 | Q6: =O6*P6 -> 0
A7: Barbell Glute Bridge | B7: 4 x 8-12 | E7: =C7*D7 -> 0 | H7: =F7*G7 -> 0 | K7: =I7*J7 -> 0 | N7: =L7*M7 -> 0 | O7: =SUM(L7,I7,F7,C7) -> 0 | P7: =SUM(M7,J7,G7,D7) -> 0 | Q7: =O7*P7 -> 0
A8: Leg Curl | B8: 3 x 12-15 | E8: =C8*D8 -> 0 | H8: =F8*G8 -> 0 | K8: =I8*J8 -> 0 | N8: =L8*M8 -> 0 | O8: =SUM(L8,I8,F8,C8) -> 0 | P8: =SUM(M8,J8,G8,D8) -> 0 | Q8: =O8*P8 -> 0
A9: Standing Calf Raise | B9: 3 x 5 | E9: =C9*D9 -> 0 | H9: =F9*G9 -> 0 | K9: =I9*J9 -> 0 | N9: =L9*M9 -> 0 | O9: =SUM(L9,I9,F9,C9) -> 0 | P9: =SUM(M9,J9,G9,D9) -> 0 | Q9: =O9*P9 -> 0
A10: Calf Press | B10: 3 x 5 | E10: =C10*D10 -> 0 | H10: =F10*G10 -> 0 | K10: =I10*J10 -> 0 | N10: =L10*M10 -> 0 | O10: =SUM(L10,I10,F10,C10) -> 0 | P10: =SUM(M10,J10,G10,D10) -> 0 | Q10: =O10*P10 -> 0
A11: Seated Calf Raise | B11: 4 x 8-12 | E11: =C11*D11 -> 0 | H11: =F11*G11 -> 0 | K11: =I11*J11 -> 0 | N11: =L11*M11 -> 0 | O11: =SUM(L11,I11,F11,C11) -> 0 | P11: =SUM(M11,J11,G11,D11) -> 0 | Q11: =O11*P11 -> 0
A12: Weighted Leg Raise | B12: 2-3 x 12-15 | E12: =C12*D12 -> 0 | H12: =F12*G12 -> 0 | K12: =I12*J12 -> 0 | N12: =L12*M12 -> 0 | O12: =SUM(L12,I12,F12,C12) -> 0 | P12: =SUM(M12,J12,G12,D12) -> 0 | Q12: =O12*P12 -> 0
A13: =A2+2 -> 42535 | C13: Set 1 | F13: Set 2 | I13: Set 3 | L13: Set 4 | O13: Training Volume | R13: Notes
A14: Exercise | B14: Sets x Reps | C14: Reps | D14: Weight | E14: Total | F14: Reps | G14: Weight | H14: Total | I14: Reps | J14: Weight | K14: Total | L14: Reps | M14: Weight | N14: Total | O14: Reps | P14: Weight | Q14: Total
A15: Bench Press | B15: 4 x 5 | E15: =C15*D15 -> 0 | H15: =F15*G15 -> 0 | K15: =I15*J15 -> 0 | N15: =L15*M15 -> 0 | O15: =SUM(L15,I15,F15,C15) -> 0 | P15: =SUM(M15,J15,G15,D15) -> 0 | Q15: =O15*P15 -> 0
A16: Barbell Overhead Press | B16: 3 x 5 | E16: =C16*D16 -> 0 | H16: =F16*G16 -> 0 | K16: =I16*J16 -> 0 | N16: =L16*M16 -> 0 | O16: =SUM(L16,I16,F16,C16) -> 0 | P16: =SUM(M16,J16,G16,D16) -> 0 | Q16: =O16*P16 -> 0
A17: Weighted Dip | B17: 3 x 6-8 | E17: =C17*D17 -> 0 | H17: =F17*G17 -> 0 | K17: =I17*J17 -> 0 | N17: =L17*M17 -> 0 | O17: =SUM(L17,I17,F17,C17) -> 0 | P17: =SUM(M17,J17,G17,D17) -> 0 | Q17: =O17*P17 -> 0
A18: Dumbbell Shoulder Press | B18: 3 x 8-12 | E18: =C18*D18 -> 0 | H18: =F18*G18 -> 0 | K18: =I18*J18 -> 0 | N18: =L18*M18 -> 0 | O18: =SUM(L18,I18,F18,C18) -> 0 | P18: =SUM(M18,J18,G18,D18) -> 0 | Q18: =O18*P18 -> 0
A19: Dumbbell Lateral Raise * | B19: 4 x 8-12 | E19: =C19*D19 -> 0 | H19: =F19*G19 -> 0 | K19: =I19*J19 -> 0 | N19: =L19*M19 -> 0 | O19: =SUM(L19,I19,F19,C19) -> 0 | P19: =SUM(M19,J19,G19,D19) -> 0 | Q19: =O19*P19 -> 0
A20: Dumbbell Triceps Extension | B20: 4 x 8-12 | E20: =C20*D20 -> 0 | H20: =F20*G20 -> 0 | K20: =I20*J20 -> 0 | N20: =L20*M20 -> 0 | O20: =SUM(L20,I20,F20,C20) -> 0 | P20: =SUM(M20,J20,G20,D20) -> 0 | Q20: =O20*P20 -> 0
A21: Cable Triceps Extension | B21: 4 x 12-15 | E21: =C21*D21 -> 0 | H21: =F21*G21 -> 0 | K21: =I21*J21 -> 0 | N21: =L21*M21 -> 0 | O21: =SUM(L21,I21,F21,C21) -> 0 | P21: =SUM(M21,J21,G21,D21) -> 0 | Q21: =O21*P21 -> 0
A22: Weighted Leg Raise | B22: 2-3 x 12-15 | E22: =C22*D22 -> 0 | H22: =F22*G22 -> 0 | K22: =I22*J22 -> 0 | N22: =L22*M22 -> 0 | O22: =SUM(L22,I22,F22,C22) -> 0 | P22: =SUM(M22,J22,G22,D22) -> 0 | Q22: =O22*P22 -> 0
A23: Weighted Crunch | B23: 2-3 x 8-12 | E23: =C23*D23 -> 0 | H23: =F23*G23 -> 0 | K23: =I23*J23 -> 0 | N23: =L23*M23 -> 0 | O23: =SUM(L23,I23,F23,C23) -> 0 | P23: =SUM(M23,J23,G23,D23) -> 0 | Q23: =O23*P23 -> 0
A24: =A13+1 -> 42536 | C24: Set 1 | F24: Set 2 | I24: Set 3 | L24: Set 4 | O24: Training Volume | R24: Notes
A25: Exercise | B25: Sets x Reps | C25: Reps | D25: Weight | E25: Total | F25: Reps | G25: Weight | H25: Total | I25: Reps | J25: Weight | K25: Total | L25: Reps | M25: Weight | N25: Total | O25: Reps | P25: Weight | Q25: Total
A26: Deadlift | B26: 4 x 5 | E26: =C26*D26 -> 0 | H26: =F26*G26 -> 0 | K26: =I26*J26 -> 0 | N26: =L26*M26 -> 0 | O26: =SUM(L26,I26,F26,C26) -> 0 | P26: =SUM(M26,J26,G26,D26) -> 0 | Q26: =O26*P26 -> 0
A27: (Weighted) Pull Up | B27: 3 x 5 | E27: =C27*D27 -> 0 | H27: =F27*G27 -> 0 | K27: =I27*J27 -> 0 | N27: =L27*M27 -> 0 | O27: =SUM(L27,I27,F27,C27) -> 0 | P27: =SUM(M27,J27,G27,D27) -> 0 | Q27: =O27*P27 -> 0
A28: Barbell Bent Over Row | B28: 3 x 6-8 | E28: =C28*D28 -> 0 | H28: =F28*G28 -> 0 | K28: =I28*J28 -> 0 | N28: =L28*M28 -> 0 | O28: =SUM(L28,I28,F28,C28) -> 0 | P28: =SUM(M28,J28,G28,D28) -> 0 | Q28: =O28*P28 -> 0
A29: Dumbbell One-Arm Row | B29: 3 x 8-12 | E29: =C29*D29 -> 0 | H29: =F29*G29 -> 0 | K29: =I29*J29 -> 0 | N29: =L29*M29 -> 0 | O29: =SUM(L29,I29,F29,C29) -> 0 | P29: =SUM(M29,J29,G29,D29) -> 0 | Q29: =O29*P29 -> 0
A30: Barbell Curl | B30: 4 x 8-12 | E30: =C30*D30 -> 0 | H30: =F30*G30 -> 0 | K30: =I30*J30 -> 0 | N30: =L30*M30 -> 0 | O30: =SUM(L30,I30,F30,C30) -> 0 | P30: =SUM(M30,J30,G30,D30) -> 0 | Q30: =O30*P30 -> 0
A31: Dumbbell Curl | B31: 4 x 8-12 | E31: =C31*D31 -> 0 | H31: =F31*G31 -> 0 | K31: =I31*J31 -> 0 | N31: =L31*M31 -> 0 | O31: =SUM(L31,I31,F31,C31) -> 0 | P31: =SUM(M31,J31,G31,D31) -> 0 | Q31: =O31*P31 -> 0
A32: Dumbbell Rear Deltoid Raise | B32: 4 x 8-12 | E32: =C32*D32 -> 0 | H32: =F32*G32 -> 0 | K32: =I32*J32 -> 0 | N32: =L32*M32 -> 0 | O32: =SUM(L32,I32,F32,C32) -> 0 | P32: =SUM(M32,J32,G32,D32) -> 0 | Q32: =O32*P32 -> 0
A33: Cable Face Pull | B33: 4 x 12-15 | E33: =C33*D33 -> 0 | H33: =F33*G33 -> 0 | K33: =I33*J33 -> 0 | N33: =L33*M33 -> 0 | O33: =SUM(L33,I33,F33,C33) -> 0 | P33: =SUM(M33,J33,G33,D33) -> 0 | Q33: =O33*P33 -> 0
A34: Weighted Hyperextension | B34: 2-3 x 8-12 | E34: =C34*D34 -> 0 | H34: =F34*G34 -> 0 | K34: =I34*J34 -> 0 | N34: =L34*M34 -> 0 | O34: =SUM(L34,I34,F34,C34) -> 0 | P34: =SUM(M34,J34,G34,D34) -> 0 | Q34: =O34*P34 -> 0
A35: =A24+2 -> 42538 | C35: Set 1 | F35: Set 2 | I35: Set 3 | L35: Set 4 | O35: Training Volume | R35: Notes
A36: Exercise | B36: Sets x Reps | C36: Reps | D36: Weight | E36: Total | F36: Reps | G36: Weight | H36: Total | I36: Reps | J36: Weight | K36: Total | L36: Reps | M36: Weight | N36: Total | O36: Reps | P36: Weight | Q36: Total
A37: Squat | B37: 4 x 5 | E37: =C37*D37 -> 0 | H37: =F37*G37 -> 0 | K37: =I37*J37 -> 0 | N37: =L37*M37 -> 0 | O37: =SUM(L37,I37,F37,C37) -> 0 | P37: =SUM(M37,J37,G37,D37) -> 0 | Q37: =O37*P37 -> 0
A38: Romanian Deadlift | B38: 3 x 5 | E38: =C38*D38 -> 0 | H38: =F38*G38 -> 0 | K38: =I38*J38 -> 0 | N38: =L38*M38 -> 0 | O38: =SUM(L38,I38,F38,C38) -> 0 | P38: =SUM(M38,J38,G38,D38) -> 0 | Q38: =O38*P38 -> 0
A39: Leg Press | B39: 3 x 6-8 | E39: =C39*D39 -> 0 | H39: =F39*G39 -> 0 | K39: =I39*J39 -> 0 | N39: =L39*M39 -> 0 | O39: =SUM(L39,I39,F39,C39) -> 0 | P39: =SUM(M39,J39,G39,D39) -> 0 | Q39: =O39*P39 -> 0
A40: Barbell Glute Bridge | B40: 4 x 8-12 | E40: =C40*D40 -> 0 | H40: =F40*G40 -> 0 | K40: =I40*J40 -> 0 | N40: =L40*M40 -> 0 | O40: =SUM(L40,I40,F40,C40) -> 0 | P40: =SUM(M40,J40,G40,D40) -> 0 | Q40: =O40*P40 -> 0
A41: Leg Curl | B41: 3 x 12-15 | E41: =C41*D41 -> 0 | H41: =F41*G41 -> 0 | K41: =I41*J41 -> 0 | N41: =L41*M41 -> 0 | O41: =SUM(L41,I41,F41,C41) -> 0 | P41: =SUM(M41,J41,G41,D41) -> 0 | Q41: =O41*P41 -> 0
A42: Standing Calf Raise | B42: 3 x 5 | E42: =C42*D42 -> 0 | H42: =F42*G42 -> 0 | K42: =I42*J42 -> 0 | N42: =L42*M42 -> 0 | O42: =SUM(L42,I42,F42,C42) -> 0 | P42: =SUM(M42,J42,G42,D42) -> 0 | Q42: =O42*P42 -> 0
A43: Calf Press | B43: 3 x 5 | E43: =C43*D43 -> 0 | H43: =F43*G43 -> 0 | K43: =I43*J43 -> 0 | N43: =L43*M43 -> 0 | O43: =SUM(L43,I43,F43,C43) -> 0 | P43: =SUM(M43,J43,G43,D43) -> 0 | Q43: =O43*P43 -> 0
A44: Seated Calf Raise | B44: 4 x 8-12 | E44: =C44*D44 -> 0 | H44: =F44*G44 -> 0 | K44: =I44*J44 -> 0 | N44: =L44*M44 -> 0 | O44: =SUM(L44,I44,F44,C44) -> 0 | P44: =SUM(M44,J44,G44,D44) -> 0 | Q44: =O44*P44 -> 0
A45: Weighted Leg Raise | B45: 2-3 x 12-15 | E45: =C45*D45 -> 0 | H45: =F45*G45 -> 0 | K45: =I45*J45 -> 0 | N45: =L45*M45 -> 0 | O45: =SUM(L45,I45,F45,C45) -> 0 | P45: =SUM(M45,J45,G45,D45) -> 0 | Q45: =O45*P45 -> 0
A46: =A35+2 -> 42540 | C46: Set 1 | F46: Set 2 | I46: Set 3 | L46: Set 4 | O46: Training Volume | R46: Notes
A47: Exercise | B47: Sets x Reps | C47: Reps | D47: Weight | E47: Total | F47: Reps | G47: Weight | H47: Total | I47: Reps | J47: Weight | K47: Total | L47: Reps | M47: Weight | N47: Total | O47: Reps | P47: Weight | Q47: Total
A48: Bench Press | B48: 4 x 5 | E48: =C48*D48 -> 0 | H48: =F48*G48 -> 0 | K48: =I48*J48 -> 0 | N48: =L48*M48 -> 0 | O48: =SUM(L48,I48,F48,C48) -> 0 | P48: =SUM(M48,J48,G48,D48) -> 0 | Q48: =O48*P48 -> 0
A49: Barbell Overhead Press | B49: 3 x 5 | E49: =C49*D49 -> 0 | H49: =F49*G49 -> 0 | K49: =I49*J49 -> 0 | N49: =L49*M49 -> 0 | O49: =SUM(L49,I49,F49,C49) -> 0 | P49: =SUM(M49,J49,G49,D49) -> 0 | Q49: =O49*P49 -> 0
A50: Weighted Dip | B50: 3 x 6-8 | E50: =C50*D50 -> 0 | H50: =F50*G50 -> 0 | K50: =I50*J50 -> 0 | N50: =L50*M50 -> 0 | O50: =SUM(L50,I50,F50,C50) -> 0 | P50: =SUM(M50,J50,G50,D50) -> 0 | Q50: =O50*P50 -> 0
A51: Dumbbell Shoulder Press | B51: 3 x 8-12 | E51: =C51*D51 -> 0 | H51: =F51*G51 -> 0 | K51: =I51*J51 -> 0 | N51: =L51*M51 -> 0 | O51: =SUM(L51,I51,F51,C51) -> 0 | P51: =SUM(M51,J51,G51,D51) -> 0 | Q51: =O51*P51 -> 0
A52: Dumbbell Lateral Raise * | B52: 4 x 8-12 | E52: =C52*D52 -> 0 | H52: =F52*G52 -> 0 | K52: =I52*J52 -> 0 | N52: =L52*M52 -> 0 | O52: =SUM(L52,I52,F52,C52) -> 0 | P52: =SUM(M52,J52,G52,D52) -> 0 | Q52: =O52*P52 -> 0
A53: Dumbbell Triceps Extension | B53: 4 x 8-12 | E53: =C53*D53 -> 0 | H53: =F53*G53 -> 0 | K53: =I53*J53 -> 0 | N53: =L53*M53 -> 0 | O53: =SUM(L53,I53,F53,C53) -> 0 | P53: =SUM(M53,J53,G53,D53) -> 0 | Q53: =O53*P53 -> 0
A54: Cable Triceps Extension | B54: 4 x 12-15 | E54: =C54*D54 -> 0 | H54: =F54*G54 -> 0 | K54: =I54*J54 -> 0 | N54: =L54*M54 -> 0 | O54: =SUM(L54,I54,F54,C54) -> 0 | P54: =SUM(M54,J54,G54,D54) -> 0 | Q54: =O54*P54 -> 0
A55: Weighted Leg Raise | B55: 2-3 x 12-15 | E55: =C55*D55 -> 0 | H55: =F55*G55 -> 0 | K55: =I55*J55 -> 0 | N55: =L55*M55 -> 0 | O55: =SUM(L55,I55,F55,C55) -> 0 | P55: =SUM(M55,J55,G55,D55) -> 0 | Q55: =O55*P55 -> 0
A56: Weighted Crunch | B56: 2-3 x 8-12 | E56: =C56*D56 -> 0 | H56: =F56*G56 -> 0 | K56: =I56*J56 -> 0 | N56: =L56*M56 -> 0 | O56: =SUM(L56,I56,F56,C56) -> 0 | P56: =SUM(M56,J56,G56,D56) -> 0 | Q56: =O56*P56 -> 0

Sheet Week12
A1: Week starting: | B1: =Week11!B1+7 -> 42527 | C1: Week 12
A2: =Week11!A46+1 -> 42541 | C2: Set 1 | F2: Set 2 | I2: Set 3 | L2: Set 4 | O2: Training Volume | R2: Notes
A3: Exercise | B3: Sets x Reps | C3: Reps | D3: Weight | E3: Total | F3: Reps | G3: Weight | H3: Total | I3: Reps | J3: Weight | K3: Total | L3: Reps | M3: Weight | N3: Total | O3: Reps | P3: Weight | Q3: Total
A4: Deadlift | B4: 4 x 5 | E4: =C4*D4 -> 0 | H4: =F4*G4 -> 0 | K4: =I4*J4 -> 0 | N4: =L4*M4 -> 0 | O4: =SUM(L4,I4,F4,C4) -> 0 | P4: =SUM(M4,J4,G4,D4) -> 0 | Q4: =O4*P4 -> 0
A5: (Weighted) Pull Up | B5: 3 x 5 | E5: =C5*D5 -> 0 | H5: =F5*G5 -> 0 | K5: =I5*J5 -> 0 | N5: =L5*M5 -> 0 | O5: =SUM(L5,I5,F5,C5) -> 0 | P5: =SUM(M5,J5,G5,D5) -> 0 | Q5: =O5*P5 -> 0
A6: Barbell Bent Over Row | B6: 3 x 6-8 | E6: =C6*D6 -> 0 | H6: =F6*G6 -> 0 | K6: =I6*J6 -> 0 | N6: =L6*M6 -> 0 | O6: =SUM(L6,I6,F6,C6) -> 0 | P6: =SUM(M6,J6,G6,D6) -> 0 | Q6: =O6*P6 -> 0
A7: Dumbbell One-Arm Row | B7: 3 x 8-12 | E7: =C7*D7 -> 0 | H7: =F7*G7 -> 0 | K7: =I7*J7 -> 0 | N7: =L7*M7 -> 0 | O7: =SUM(L7,I7,F7,C7) -> 0 | P7: =SUM(M7,J7,G7,D7) -> 0 | Q7: =O7*P7 -> 0
A8: Barbell Curl | B8: 4 x 8-12 | E8: =C8*D8 -> 0 | H8: =F8*G8 -> 0 | K8: =I8*J8 -> 0 | N8: =L8*M8 -> 0 | O8: =SUM(L8,I8,F8,C8) -> 0 | P8: =SUM(M8,J8,G8,D8) -> 0 | Q8: =O8*P8 -> 0
A9: Dumbbell Curl | B9: 4 x 8-12 | E9: =C9*D9 -> 0 | H9: =F9*G9 -> 0 | K9: =I9*J9 -> 0 | N9: =L9*M9 -> 0 | O9: =SUM(L9,I9,F9,C9) -> 0 | P9: =SUM(M9,J9,G9,D9) -> 0 | Q9: =O9*P9 -> 0
A10: Dumbbell Rear Deltoid Raise | B10: 4 x 8-12 | E10: =C10*D10 -> 0 | H10: =F10*G10 -> 0 | K10: =I10*J10 -> 0 | N10: =L10*M10 -> 0 | O10: =SUM(L10,I10,F10,C10) -> 0 | P10: =SUM(M10,J10,G10,D10) -> 0 | Q10: =O10*P10 -> 0
A11: Cable Face Pull | B11: 4 x 12-15 | E11: =C11*D11 -> 0 | H11: =F11*G11 -> 0 | K11: =I11*J11 -> 0 | N11: =L11*M11 -> 0 | O11: =SUM(L11,I11,F11,C11) -> 0 | P11: =SUM(M11,J11,G11,D11) -> 0 | Q11: =O11*P11 -> 0
A12: Weighted Hyperextension | B12: 2-3 x 8-12 | E12: =C12*D12 -> 0 | H12: =F12*G12 -> 0 | K12: =I12*J12 -> 0 | N12: =L12*M12 -> 0 | O12: =SUM(L12,I12,F12,C12) -> 0 | P12: =SUM(M12,J12,G12,D12) -> 0 | Q12: =O12*P12 -> 0
A13: =A2+2 -> 42543 | C13: Set 1 | F13: Set 2 | I13: Set 3 | L13: Set 4 | O13: Training Volume | R13: Notes
A14: Exercise | B14: Sets x Reps | C14: Reps | D14: Weight | E14: Total | F14: Reps | G14: Weight | H14: Total | I14: Reps | J14: Weight | K14: Total | L14: Reps | M14: Weight | N14: Total | O14: Reps | P14: Weight | Q14: Total
A15: Squat | B15: 4 x 5 | E15: =C15*D15 -> 0 | H15: =F15*G15 -> 0 | K15: =I15*J15 -> 0 | N15: =L15*M15 -> 0 | O15: =SUM(L15,I15,F15,C15) -> 0 | P15: =SUM(M15,J15,G15,D15) -> 0 | Q15: =O15*P15 -> 0
A16: Romanian Deadlift | B16: 3 x 5 | E16: =C16*D16 -> 0 | H16: =F16*G16 -> 0 | K16: =I16*J16 -> 0 | N16: =L16*M16 -> 0 | O16: =SUM(L16,I16,F16,C16) -> 0 | P16: =SUM(M16,J16,G16,D16) -> 0 | Q16: =O16*P16 -> 0
A17: Leg Press | B17: 3 x 6-8 | E17: =C17*D17 -> 0 | H17: =F17*G17 -> 0 | K17: =I17*J17 -> 0 | N17: =L17*M17 -> 0 | O17: =SUM(L17,I17,F17,C17) -> 0 | P17: =SUM(M17,J17,G17,D17) -> 0 | Q17: =O17*P17 -> 0
A18: Barbell Glute Bridge | B18: 4 x 8-12 | E18: =C18*D18 -> 0 | H18: =F18*G18 -> 0 | K18: =I18*J18 -> 0 | N18: =L18*M18 -> 0 | O18: =SUM(L18,I18,F18,C18) -> 0 | P18: =SUM(M18,J18,G18,D18) -> 0 | Q18: =O18*P18 -> 0
A19: Leg Curl | B19: 3 x 12-15 | E19: =C19*D19 -> 0 | H19: =F19*G19 -> 0 | K19: =I19*J19 -> 0 | N19: =L19*M19 -> 0 | O19: =SUM(L19,I19,F19,C19) -> 0 | P19: =SUM(M19,J19,G19,D19) -> 0 | Q19: =O19*P19 -> 0
A20: Standing Calf Raise | B20: 3 x 5 | E20: =C20*D20 -> 0 | H20: =F20*G20 -> 0 | K20: =I20*J20 -> 0 | N20: =L20*M20 -> 0 | O20: =SUM(L20,I20,F20,C20) -> 0 | P20: =SUM(M20,J20,G20,D20) -> 0 | Q20: =O20*P20 -> 0
A21: Calf Press | B21: 3 x 5 | E21: =C21*D21 -> 0 | H21: =F21*G21 -> 0 | K21: =I21*J21 -> 0 | N21: =L21*M21 -> 0 | O21: =SUM(L21,I21,F21,C21) -> 0 | P21: =SUM(M21,J21,G21,D21) -> 0 | Q21: =O21*P21 -> 0
A22: Seated Calf Raise | B22: 4 x 8-12 | E22: =C22*D22 -> 0 | H22: =F22*G22 -> 0 | K22: =I22*J22 -> 0 | N22: =L22*M22 -> 0 | O22: =SUM(L22,I22,F22,C22) -> 0 | P22: =SUM(M22,J22,G22,D22) -> 0 | Q22: =O22*P22 -> 0
A23: Weighted Leg Raise | B23: 2-3 x 12-15 | E23: =C23*D23 -> 0 | H23: =F23*G23 -> 0 | K23: =I23*J23 -> 0 | N23: =L23*M23 -> 0 | O23: =SUM(L23,I23,F23,C23) -> 0 | P23: =SUM(M23,J23,G23,D23) -> 0 | Q23: =O23*P23 -> 0
A24: =A13+2 -> 42545 | C24: Set 1 | F24: Set 2 | I24: Set 3 | L24: Set 4 | O24: Training Volume | R24: Notes
A25: Exercise | B25: Sets x Reps | C25: Reps | D25: Weight | E25: Total | F25: Reps | G25: Weight | H25: Total | I25: Reps | J25: Weight | K25: Total | L25: Reps | M25: Weight | N25: Total | O25: Reps | P25: Weight | Q25: Total
A26: Bench Press | B26: 4 x 5 | E26: =C26*D26 -> 0 | H26: =F26*G26 -> 0 | K26: =I26*J26 -> 0 | N26: =L26*M26 -> 0 | O26: =SUM(L26,I26,F26,C26) -> 0 | P26: =SUM(M26,J26,G26,D26) -> 0 | Q26: =O26*P26 -> 0
A27: Barbell Overhead Press | B27: 3 x 5 | E27: =C27*D27 -> 0 | H27: =F27*G27 -> 0 | K27: =I27*J27 -> 0 | N27: =L27*M27 -> 0 | O27: =SUM(L27,I27,F27,C27) -> 0 | P27: =SUM(M27,J27,G27,D27) -> 0 | Q27: =O27*P27 -> 0
A28: Weighted Dip | B28: 3 x 6-8 | E28: =C28*D28 -> 0 | H28: =F28*G28 -> 0 | K28: =I28*J28 -> 0 | N28: =L28*M28 -> 0 | O28: =SUM(L28,I28,F28,C28) -> 0 | P28: =SUM(M28,J28,G28,D28) -> 0 | Q28: =O28*P28 -> 0
A29: Dumbbell Shoulder Press | B29: 3 x 8-12 | E29: =C29*D29 -> 0 | H29: =F29*G29 -> 0 | K29: =I29*J29 -> 0 | N29: =L29*M29 -> 0 | O29: =SUM(L29,I29,F29,C29) -> 0 | P29: =SUM(M29,J29,G29,D29) -> 0 | Q29: =O29*P29 -> 0
A30: Dumbbell Lateral Raise * | B30: 4 x 8-12 | E30: =C30*D30 -> 0 | H30: =F30*G30 -> 0 | K30: =I30*J30 -> 0 | N30: =L30*M30 -> 0 | O30: =SUM(L30,I30,F30,C30) -> 0 | P30: =SUM(M30,J30,G30,D30) -> 0 | Q30: =O30*P30 -> 0
A31: Dumbbell Triceps Extension | B31: 4 x 8-12 | E31: =C31*D31 -> 0 | H31: =F31*G31 -> 0 | K31: =I31*J31 -> 0 | N31: =L31*M31 -> 0 | O31: =SUM(L31,I31,F31,C31) -> 0 | P31: =SUM(M31,J31,G31,D31) -> 0 | Q31: =O31*P31 -> 0
A32: Cable Triceps Extension | B32: 4 x 12-15 | E32: =C32*D32 -> 0 | H32: =F32*G32 -> 0 | K32: =I32*J32 -> 0 | N32: =L32*M32 -> 0 | O32: =SUM(L32,I32,F32,C32) -> 0 | P32: =SUM(M32,J32,G32,D32) -> 0 | Q32: =O32*P32 -> 0
A33: Weighted Leg Raise | B33: 2-3 x 12-15 | E33: =C33*D33 -> 0 | H33: =F33*G33 -> 0 | K33: =I33*J33 -> 0 | N33: =L33*M33 -> 0 | O33: =SUM(L33,I33,F33,C33) -> 0 | P33: =SUM(M33,J33,G33,D33) -> 0 | Q33: =O33*P33 -> 0
A34: Weighted Crunch | B34: 2-3 x 8-12 | E34: =C34*D34 -> 0 | H34: =F34*G34 -> 0 | K34: =I34*J34 -> 0 | N34: =L34*M34 -> 0 | O34: =SUM(L34,I34,F34,C34) -> 0 | P34: =SUM(M34,J34,G34,D34) -> 0 | Q34: =O34*P34 -> 0
A35: =A24+1 -> 42546 | C35: Set 1 | F35: Set 2 | I35: Set 3 | L35: Set 4 | O35: Training Volume | R35: Notes
A36: Exercise | B36: Sets x Reps | C36: Reps | D36: Weight | E36: Total | F36: Reps | G36: Weight | H36: Total | I36: Reps | J36: Weight | K36: Total | L36: Reps | M36: Weight | N36: Total | O36: Reps | P36: Weight | Q36: Total
A37: Deadlift | B37: 4 x 5 | E37: =C37*D37 -> 0 | H37: =F37*G37 -> 0 | K37: =I37*J37 -> 0 | N37: =L37*M37 -> 0 | O37: =SUM(L37,I37,F37,C37) -> 0 | P37: =SUM(M37,J37,G37,D37) -> 0 | Q37: =O37*P37 -> 0
A38: (Weighted) Pull Up | B38: 3 x 5 | E38: =C38*D38 -> 0 | H38: =F38*G38 -> 0 | K38: =I38*J38 -> 0 | N38: =L38*M38 -> 0 | O38: =SUM(L38,I38,F38,C38) -> 0 | P38: =SUM(M38,J38,G38,D38) -> 0 | Q38: =O38*P38 -> 0
A39: Barbell Bent Over Row | B39: 3 x 6-8 | E39: =C39*D39 -> 0 | H39: =F39*G39 -> 0 | K39: =I39*J39 -> 0 | N39: =L39*M39 -> 0 | O39: =SUM(L39,I39,F39,C39) -> 0 | P39: =SUM(M39,J39,G39,D39) -> 0 | Q39: =O39*P39 -> 0
A40: Dumbbell One-Arm Row | B40: 3 x 8-12 | E40: =C40*D40 -> 0 | H40: =F40*G40 -> 0 | K40: =I40*J40 -> 0 | N40: =L40*M40 -> 0 | O40: =SUM(L40,I40,F40,C40) -> 0 | P40: =SUM(M40,J40,G40,D40) -> 0 | Q40: =O40*P40 -> 0
A41: Barbell Curl | B41: 4 x 8-12 | E41: =C41*D41 -> 0 | H41: =F41*G41 -> 0 | K41: =I41*J41 -> 0 | N41: =L41*M41 -> 0 | O41: =SUM(L41,I41,F41,C41) -> 0 | P41: =SUM(M41,J41,G41,D41) -> 0 | Q41: =O41*P41 -> 0
A42: Dumbbell Curl | B42: 4 x 8-12 | E42: =C42*D42 -> 0 | H42: =F42*G42 -> 0 | K42: =I42*J42 -> 0 | N42: =L42*M42 -> 0 | O42: =SUM(L42,I42,F42,C42) -> 0 | P42: =SUM(M42,J42,G42,D42) -> 0 | Q42: =O42*P42 -> 0
A43: Dumbbell Rear Deltoid Raise | B43: 4 x 8-12 | E43: =C43*D43 -> 0 | H43: =F43*G43 -> 0 | K43: =I43*J43 -> 0 | N43: =L43*M43 -> 0 | O43: =SUM(L43,I43,F43,C43) -> 0 | P43: =SUM(M43,J43,G43,D43) -> 0 | Q43: =O43*P43 -> 0
A44: Cable Face Pull | B44: 4 x 12-15 | E44: =C44*D44 -> 0 | H44: =F44*G44 -> 0 | K44: =I44*J44 -> 0 | N44: =L44*M44 -> 0 | O44: =SUM(L44,I44,F44,C44) -> 0 | P44: =SUM(M44,J44,G44,D44) -> 0 | Q44: =O44*P44 -> 0
A45: Weighted Hyperextension | B45: 2-3 x 8-12 | E45: =C45*D45 -> 0 | H45: =F45*G45 -> 0 | K45: =I45*J45 -> 0 | N45: =L45*M45 -> 0 | O45: =SUM(L45,I45,F45,C45) -> 0 | P45: =SUM(M45,J45,G45,D45) -> 0 | Q45: =O45*P45 -> 0
A46: =A35+2 -> 42548 | C46: Set 1 | F46: Set 2 | I46: Set 3 | L46: Set 4 | O46: Training Volume | R46: Notes
A47: Exercise | B47: Sets x Reps | C47: Reps | D47: Weight | E47: Total | F47: Reps | G47: Weight | H47: Total | I47: Reps | J47: Weight | K47: Total | L47: Reps | M47: Weight | N47: Total | O47: Reps | P47: Weight | Q47: Total
A48: Squat | B48: 4 x 5 | E48: =C48*D48 -> 0 | H48: =F48*G48 -> 0 | K48: =I48*J48 -> 0 | N48: =L48*M48 -> 0 | O48: =SUM(L48,I48,F48,C48) -> 0 | P48: =SUM(M48,J48,G48,D48) -> 0 | Q48: =O48*P48 -> 0
A49: Romanian Deadlift | B49: 3 x 5 | E49: =C49*D49 -> 0 | H49: =F49*G49 -> 0 | K49: =I49*J49 -> 0 | N49: =L49*M49 -> 0 | O49: =SUM(L49,I49,F49,C49) -> 0 | P49: =SUM(M49,J49,G49,D49) -> 0 | Q49: =O49*P49 -> 0
A50: Leg Press | B50: 3 x 6-8 | E50: =C50*D50 -> 0 | H50: =F50*G50 -> 0 | K50: =I50*J50 -> 0 | N50: =L50*M50 -> 0 | O50: =SUM(L50,I50,F50,C50) -> 0 | P50: =SUM(M50,J50,G50,D50) -> 0 | Q50: =O50*P50 -> 0
A51: Barbell Glute Bridge | B51: 4 x 8-12 | E51: =C51*D51 -> 0 | H51: =F51*G51 -> 0 | K51: =I51*J51 -> 0 | N51: =L51*M51 -> 0 | O51: =SUM(L51,I51,F51,C51) -> 0 | P51: =SUM(M51,J51,G51,D51) -> 0 | Q51: =O51*P51 -> 0
A52: Leg Curl | B52: 3 x 12-15 | E52: =C52*D52 -> 0 | H52: =F52*G52 -> 0 | K52: =I52*J52 -> 0 | N52: =L52*M52 -> 0 | O52: =SUM(L52,I52,F52,C52) -> 0 | P52: =SUM(M52,J52,G52,D52) -> 0 | Q52: =O52*P52 -> 0
A53: Standing Calf Raise | B53: 3 x 5 | E53: =C53*D53 -> 0 | H53: =F53*G53 -> 0 | K53: =I53*J53 -> 0 | N53: =L53*M53 -> 0 | O53: =SUM(L53,I53,F53,C53) -> 0 | P53: =SUM(M53,J53,G53,D53) -> 0 | Q53: =O53*P53 -> 0
A54: Calf Press | B54: 3 x 5 | E54: =C54*D54 -> 0 | H54: =F54*G54 -> 0 | K54: =I54*J54 -> 0 | N54: =L54*M54 -> 0 | O54: =SUM(L54,I54,F54,C54) -> 0 | P54: =SUM(M54,J54,G54,D54) -> 0 | Q54: =O54*P54 -> 0
A55: Seated Calf Raise | B55: 4 x 8-12 | E55: =C55*D55 -> 0 | H55: =F55*G55 -> 0 | K55: =I55*J55 -> 0 | N55: =L55*M55 -> 0 | O55: =SUM(L55,I55,F55,C55) -> 0 | P55: =SUM(M55,J55,G55,D55) -> 0 | Q55: =O55*P55 -> 0
A56: Weighted Leg Raise | B56: 2-3 x 12-15 | E56: =C56*D56 -> 0 | H56: =F56*G56 -> 0 | K56: =I56*J56 -> 0 | N56: =L56*M56 -> 0 | O56: =SUM(L56,I56,F56,C56) -> 0 | P56: =SUM(M56,J56,G56,D56) -> 0 | Q56: =O56*P56 -> 0

Sheet Week13
A1: Week starting: | B1: =Week12!B1+7 -> 42534 | C1: Week 13
A2: =Week12!A46+2 -> 42550 | C2: Set 1 | F2: Set 2 | I2: Set 3 | L2: Set 4 | O2: Training Volume | R2: Notes
A3: Exercise | B3: Sets x Reps | C3: Reps | D3: Weight | E3: Total | F3: Reps | G3: Weight | H3: Total | I3: Reps | J3: Weight | K3: Total | L3: Reps | M3: Weight | N3: Total | O3: Reps | P3: Weight | Q3: Total
A4: Bench Press | B4: 4 x 5 | E4: =C4*D4 -> 0 | H4: =F4*G4 -> 0 | K4: =I4*J4 -> 0 | N4: =L4*M4 -> 0 | O4: =SUM(L4,I4,F4,C4) -> 0 | P4: =SUM(M4,J4,G4,D4) -> 0 | Q4: =O4*P4 -> 0
A5: Barbell Overhead Press | B5: 3 x 5 | E5: =C5*D5 -> 0 | H5: =F5*G5 -> 0 | K5: =I5*J5 -> 0 | N5: =L5*M5 -> 0 | O5: =SUM(L5,I5,F5,C5) -> 0 | P5: =SUM(M5,J5,G5,D5) -> 0 | Q5: =O5*P5 -> 0
A6: Weighted Dip | B6: 3 x 6-8 | E6: =C6*D6 -> 0 | H6: =F6*G6 -> 0 | K6: =I6*J6 -> 0 | N6: =L6*M6 -> 0 | O6: =SUM(L6,I6,F6,C6) -> 0 | P6: =SUM(M6,J6,G6,D6) -> 0 | Q6: =O6*P6 -> 0
A7: Dumbbell Shoulder Press | B7: 3 x 8-12 | E7: =C7*D7 -> 0 | H7: =F7*G7 -> 0 | K7: =I7*J7 -> 0 | N7: =L7*M7 -> 0 | O7: =SUM(L7,I7,F7,C7) -> 0 | P7: =SUM(M7,J7,G7,D7) -> 0 | Q7: =O7*P7 -> 0
A8: Dumbbell Lateral Raise * | B8: 4 x 8-12 | E8: =C8*D8 -> 0 | H8: =F8*G8 -> 0 | K8: =I8*J8 -> 0 | N8: =L8*M8 -> 0 | O8: =SUM(L8,I8,F8,C8) -> 0 | P8: =SUM(M8,J8,G8,D8) -> 0 | Q8: =O8*P8 -> 0
A9: Dumbbell Triceps Extension | B9: 4 x 8-12 | E9: =C9*D9 -> 0 | H9: =F9*G9 -> 0 | K9: =I9*J9 -> 0 | N9: =L9*M9 -> 0 | O9: =SUM(L9,I9,F9,C9) -> 0 | P9: =SUM(M9,J9,G9,D9) -> 0 | Q9: =O9*P9 -> 0
A10: Cable Triceps Extension | B10: 4 x 12-15 | E10: =C10*D10 -> 0 | H10: =F10*G10 -> 0 | K10: =I10*J10 -> 0 | N10: =L10*M10 -> 0 | O10: =SUM(L10,I10,F10,C10) -> 0 | P10: =SUM(M10,J10,G10,D10) -> 0 | Q10: =O10*P10 -> 0
A11: Weighted Leg Raise | B11: 2-3 x 12-15 | E11: =C11*D11 -> 0 | H11: =F11*G11 -> 0 | K11: =I11*J11 -> 0 | N11: =L11*M11 -> 0 | O11: =SUM(L11,I11,F11,C11) -> 0 | P11: =SUM(M11,J11,G11,D11) -> 0 | Q11: =O11*P11 -> 0
A12: Weighted Crunch | B12: 2-3 x 8-12 | E12: =C12*D12 -> 0 | H12: =F12*G12 -> 0 | K12: =I12*J12 -> 0 | N12: =L12*M12 -> 0 | O12: =SUM(L12,I12,F12,C12) -> 0 | P12: =SUM(M12,J12,G12,D12) -> 0 | Q12: =O12*P12 -> 0
A13: =A2+1 -> 42551 | C13: Set 1 | F13: Set 2 | I13: Set 3 | L13: Set 4 | O13: Training Volume | R13: Notes
A14: Exercise | B14: Sets x Reps | C14: Reps | D14: Weight | E14: Total | F14: Reps | G14: Weight | H14: Total | I14: Reps | J14: Weight | K14: Total | L14: Reps | M14: Weight | N14: Total | O14: Reps | P14: Weight | Q14: Total
A15: Deadlift | B15: 4 x 5 | E15: =C15*D15 -> 0 | H15: =F15*G15 -> 0 | K15: =I15*J15 -> 0 | N15: =L15*M15 -> 0 | O15: =SUM(L15,I15,F15,C15) -> 0 | P15: =SUM(M15,J15,G15,D15) -> 0 | Q15: =O15*P15 -> 0
A16: (Weighted) Pull Up | B16: 3 x 5 | E16: =C16*D16 -> 0 | H16: =F16*G16 -> 0 | K16: =I16*J16 -> 0 | N16: =L16*M16 -> 0 | O16: =SUM(L16,I16,F16,C16) -> 0 | P16: =SUM(M16,J16,G16,D16) -> 0 | Q16: =O16*P16 -> 0
A17: Barbell Bent Over Row | B17: 3 x 6-8 | E17: =C17*D17 -> 0 | H17: =F17*G17 -> 0 | K17: =I17*J17 -> 0 | N17: =L17*M17 -> 0 | O17: =SUM(L17,I17,F17,C17) -> 0 | P17: =SUM(M17,J17,G17,D17) -> 0 | Q17: =O17*P17 -> 0
A18: Dumbbell One-Arm Row | B18: 3 x 8-12 | E18: =C18*D18 -> 0 | H18: =F18*G18 -> 0 | K18: =I18*J18 -> 0 | N18: =L18*M18 -> 0 | O18: =SUM(L18,I18,F18,C18) -> 0 | P18: =SUM(M18,J18,G18,D18) -> 0 | Q18: =O18*P18 -> 0
A19: Barbell Curl | B19: 4 x 8-12 | E19: =C19*D19 -> 0 | H19: =F19*G19 -> 0 | K19: =I19*J19 -> 0 | N19: =L19*M19 -> 0 | O19: =SUM(L19,I19,F19,C19) -> 0 | P19: =SUM(M19,J19,G19,D19) -> 0 | Q19: =O19*P19 -> 0
A20: Dumbbell Curl | B20: 4 x 8-12 | E20: =C20*D20 -> 0 | H20: =F20*G20 -> 0 | K20: =I20*J20 -> 0 | N20: =L20*M20 -> 0 | O20: =SUM(L20,I20,F20,C20) -> 0 | P20: =SUM(M20,J20,G20,D20) -> 0 | Q20: =O20*P20 -> 0
A21: Dumbbell Rear Deltoid Raise | B21: 4 x 8-12 | E21: =C21*D21 -> 0 | H21: =F21*G21 -> 0 | K21: =I21*J21 -> 0 | N21: =L21*M21 -> 0 | O21: =SUM(L21,I21,F21,C21) -> 0 | P21: =SUM(M21,J21,G21,D21) -> 0 | Q21: =O21*P21 -> 0
A22: Cable Face Pull | B22: 4 x 12-15 | E22: =C22*D22 -> 0 | H22: =F22*G22 -> 0 | K22: =I22*J22 -> 0 | N22: =L22*M22 -> 0 | O22: =SUM(L22,I22,F22,C22) -> 0 | P22: =SUM(M22,J22,G22,D22) -> 0 | Q22: =O22*P22 -> 0
A23: Weighted Hyperextension | B23: 2-3 x 8-12 | E23: =C23*D23 -> 0 | H23: =F23*G23 -> 0 | K23: =I23*J23 -> 0 | N23: =L23*M23 -> 0 | O23: =SUM(L23,I23,F23,C23) -> 0 | P23: =SUM(M23,J23,G23,D23) -> 0 | Q23: =O23*P23 -> 0
A24: =A13+2 -> 42553 | C24: Set 1 | F24: Set 2 | I24: Set 3 | L24: Set 4 | O24: Training Volume | R24: Notes
A25: Exercise | B25: Sets x Reps | C25: Reps | D25: Weight | E25: Total | F25: Reps | G25: Weight | H25: Total | I25: Reps | J25: Weight | K25: Total | L25: Reps | M25: Weight | N25: Total | O25: Reps | P25: Weight | Q25: Total
A26: Squat | B26: 4 x 5 | E26: =C26*D26 -> 0 | H26: =F26*G26 -> 0 | K26: =I26*J26 -> 0 | N26: =L26*M26 -> 0 | O26: =SUM(L26,I26,F26,C26) -> 0 | P26: =SUM(M26,J26,G26,D26) -> 0 | Q26: =O26*P26 -> 0
A27: Romanian Deadlift | B27: 3 x 5 | E27: =C27*D27 -> 0 | H27: =F27*G27 -> 0 | K27: =I27*J27 -> 0 | N27: =L27*M27 -> 0 | O27: =SUM(L27,I27,F27,C27) -> 0 | P27: =SUM(M27,J27,G27,D27) -> 0 | Q27: =O27*P27 -> 0
A28: Leg Press | B28: 3 x 6-8 | E28: =C28*D28 -> 0 | H28: =F28*G28 -> 0 | K28: =I28*J28 -> 0 | N28: =L28*M28 -> 0 | O28: =SUM(L28,I28,F28,C28) -> 0 | P28: =SUM(M28,J28,G28,D28) -> 0 | Q28: =O28*P28 -> 0
A29: Barbell Glute Bridge | B29: 4 x 8-12 | E29: =C29*D29 -> 0 | H29: =F29*G29 -> 0 | K29: =I29*J29 -> 0 | N29: =L29*M29 -> 0 | O29: =SUM(L29,I29,F29,C29) -> 0 | P29: =SUM(M29,J29,G29,D29) -> 0 | Q29: =O29*P29 -> 0
A30: Leg Curl | B30: 3 x 12-15 | E30: =C30*D30 -> 0 | H30: =F30*G30 -> 0 | K30: =I30*J30 -> 0 | N30: =L30*M30 -> 0 | O30: =SUM(L30,I30,F30,C30) -> 0 | P30: =SUM(M30,J30,G30,D30) -> 0 | Q30: =O30*P30 -> 0
A31: Standing Calf Raise | B31: 3 x 5 | E31: =C31*D31 -> 0 | H31: =F31*G31 -> 0 | K31: =I31*J31 -> 0 | N31: =L31*M31 -> 0 | O31: =SUM(L31,I31,F31,C31) -> 0 | P31: =SUM(M31,J31,G31,D31) -> 0 | Q31: =O31*P31 -> 0
A32: Calf Press | B32: 3 x 5 | E32: =C32*D32 -> 0 | H32: =F32*G32 -> 0 | K32: =I32*J32 -> 0 | N32: =L32*M32 -> 0 | O32: =SUM(L32,I32,F32,C32) -> 0 | P32: =SUM(M32,J32,G32,D32) -> 0 | Q32: =O32*P32 -> 0
A33: Seated Calf Raise | B33: 4 x 8-12 | E33: =C33*D33 -> 0 | H33: =F33*G33 -> 0 | K33: =I33*J33 -> 0 | N33: =L33*M33 -> 0 | O33: =SUM(L33,I33,F33,C33) -> 0 | P33: =SUM(M33,J33,G33,D33) -> 0 | Q33: =O33*P33 -> 0
A34: Weighted Leg Raise | B34: 2-3 x 12-15 | E34: =C34*D34 -> 0 | H34: =F34*G34 -> 0 | K34: =I34*J34 -> 0 | N34: =L34*M34 -> 0 | O34: =SUM(L34,I34,F34,C34) -> 0 | P34: =SUM(M34,J34,G34,D34) -> 0 | Q34: =O34*P34 -> 0
A35: =A24+2 -> 42555 | C35: Set 1 | F35: Set 2 | I35: Set 3 | L35: Set 4 | O35: Training Volume | R35: Notes
A36: Exercise | B36: Sets x Reps | C36: Reps | D36: Weight | E36: Total | F36: Reps | G36: Weight | H36: Total | I36: Reps | J36: Weight | K36: Total | L36: Reps | M36: Weight | N36: Total | O36: Reps | P36: Weight | Q36: Total
A37: Bench Press | B37: 4 x 5 | E37: =C37*D37 -> 0 | H37: =F37*G37 -> 0 | K37: =I37*J37 -> 0 | N37: =L37*M37 -> 0 | O37: =SUM(L37,I37,F37,C37) -> 0 | P37: =SUM(M37,J37,G37,D37) -> 0 | Q37: =O37*P37 -> 0
A38: Barbell Overhead Press | B38: 3 x 5 | E38: =C38*D38 -> 0 | H38: =F38*G38 -> 0 | K38: =I38*J38 -> 0 | N38: =L38*M38 -> 0 | O38: =SUM(L38,I38,F38,C38) -> 0 | P38: =SUM(M38,J38,G38,D38) -> 0 | Q38: =O38*P38 -> 0
A39: Weighted Dip | B39: 3 x 6-8 | E39: =C39*D39 -> 0 | H39: =F39*G39 -> 0 | K39: =I39*J39 -> 0 | N39: =L39*M39 -> 0 | O39: =SUM(L39,I39,F39,C39) -> 0 | P39: =SUM(M39,J39,G39,D39) -> 0 | Q39: =O39*P39 -> 0
A40: Dumbbell Shoulder Press | B40: 3 x 8-12 | E40: =C40*D40 -> 0 | H40: =F40*G40 -> 0 | K40: =I40*J40 -> 0 | N40: =L40*M40 -> 0 | O40: =SUM(L40,I40,F40,C40) -> 0 | P40: =SUM(M40,J40,G40,D40) -> 0 | Q40: =O40*P40 -> 0
A41: Dumbbell Lateral Raise * | B41: 4 x 8-12 | E41: =C41*D41 -> 0 | H41: =F41*G41 -> 0 | K41: =I41*J41 -> 0 | N41: =L41*M41 -> 0 | O41: =SUM(L41,I41,F41,C41) -> 0 | P41: =SUM(M41,J41,G41,D41) -> 0 | Q41: =O41*P41 -> 0
A42: Dumbbell Triceps Extension | B42: 4 x 8-12 | E42: =C42*D42 -> 0 | H42: =F42*G42 -> 0 | K42: =I42*J42 -> 0 | N42: =L42*M42 -> 0 | O42: =SUM(L42,I42,F42,C42) -> 0 | P42: =SUM(M42,J42,G42,D42) -> 0 | Q42: =O42*P42 -> 0
A43: Cable Triceps Extension | B43: 4 x 12-15 | E43: =C43*D43 -> 0 | H43: =F43*G43 -> 0 | K43: =I43*J43 -> 0 | N43: =L43*M43 -> 0 | O43: =SUM(L43,I43,F43,C43) -> 0 | P43: =SUM(M43,J43,G43,D43) -> 0 | Q43: =O43*P43 -> 0
A44: Weighted Leg Raise | B44: 2-3 x 12-15 | E44: =C44*D44 -> 0 | H44: =F44*G44 -> 0 | K44: =I44*J44 -> 0 | N44: =L44*M44 -> 0 | O44: =SUM(L44,I44,F44,C44) -> 0 | P44: =SUM(M44,J44,G44,D44) -> 0 | Q44: =O44*P44 -> 0
A45: Weighted Crunch | B45: 2-3 x 8-12 | E45: =C45*D45 -> 0 | H45: =F45*G45 -> 0 | K45: =I45*J45 -> 0 | N45: =L45*M45 -> 0 | O45: =SUM(L45,I45,F45,C45) -> 0 | P45: =SUM(M45,J45,G45,D45) -> 0 | Q45: =O45*P45 -> 0
A46: =A35+1 -> 42556 | C46: Set 1 | F46: Set 2 | I46: Set 3 | L46: Set 4 | O46: Training Volume | R46: Notes
A47: Exercise | B47: Sets x Reps | C47: Reps | D47: Weight | E47: Total | F47: Reps | G47: Weight | H47: Total | I47: Reps | J47: Weight | K47: Total | L47: Reps | M47: Weight | N47: Total | O47: Reps | P47: Weight | Q47: Total
A48: Deadlift | B48: 4 x 5 | E48: =C48*D48 -> 0 | H48: =F48*G48 -> 0 | K48: =I48*J48 -> 0 | N48: =L48*M48 -> 0 | O48: =SUM(L48,I48,F48,C48) -> 0 | P48: =SUM(M48,J48,G48,D48) -> 0 | Q48: =O48*P48 -> 0
A49: (Weighted) Pull Up | B49: 3 x 5 | E49: =C49*D49 -> 0 | H49: =F49*G49 -> 0 | K49: =I49*J49 -> 0 | N49: =L49*M49 -> 0 | O49: =SUM(L49,I49,F49,C49) -> 0 | P49: =SUM(M49,J49,G49,D49) -> 0 | Q49: =O49*P49 -> 0
A50: Barbell Bent Over Row | B50: 3 x 6-8 | E50: =C50*D50 -> 0 | H50: =F50*G50 -> 0 | K50: =I50*J50 -> 0 | N50: =L50*M50 -> 0 | O50: =SUM(L50,I50,F50,C50) -> 0 | P50: =SUM(M50,J50,G50,D50) -> 0 | Q50: =O50*P50 -> 0
A51: Dumbbell One-Arm Row | B51: 3 x 8-12 | E51: =C51*D51 -> 0 | H51: =F51*G51 -> 0 | K51: =I51*J51 -> 0 | N51: =L51*M51 -> 0 | O51: =SUM(L51,I51,F51,C51) -> 0 | P51: =SUM(M51,J51,G51,D51) -> 0 | Q51: =O51*P51 -> 0
A52: Barbell Curl | B52: 4 x 8-12 | E52: =C52*D52 -> 0 | H52: =F52*G52 -> 0 | K52: =I52*J52 -> 0 | N52: =L52*M52 -> 0 | O52: =SUM(L52,I52,F52,C52) -> 0 | P52: =SUM(M52,J52,G52,D52) -> 0 | Q52: =O52*P52 -> 0
A53: Dumbbell Curl | B53: 4 x 8-12 | E53: =C53*D53 -> 0 | H53: =F53*G53 -> 0 | K53: =I53*J53 -> 0 | N53: =L53*M53 -> 0 | O53: =SUM(L53,I53,F53,C53) -> 0 | P53: =SUM(M53,J53,G53,D53) -> 0 | Q53: =O53*P53 -> 0
A54: Dumbbell Rear Deltoid Raise | B54: 4 x 8-12 | E54: =C54*D54 -> 0 | H54: =F54*G54 -> 0 | K54: =I54*J54 -> 0 | N54: =L54*M54 -> 0 | O54: =SUM(L54,I54,F54,C54) -> 0 | P54: =SUM(M54,J54,G54,D54) -> 0 | Q54: =O54*P54 -> 0
A55: Cable Face Pull | B55: 4 x 12-15 | E55: =C55*D55 -> 0 | H55: =F55*G55 -> 0 | K55: =I55*J55 -> 0 | N55: =L55*M55 -> 0 | O55: =SUM(L55,I55,F55,C55) -> 0 | P55: =SUM(M55,J55,G55,D55) -> 0 | Q55: =O55*P55 -> 0
A56: Weighted Hyperextension | B56: 2-3 x 8-12 | E56: =C56*D56 -> 0 | H56: =F56*G56 -> 0 | K56: =I56*J56 -> 0 | N56: =L56*M56 -> 0 | O56: =SUM(L56,I56,F56,C56) -> 0 | P56: =SUM(M56,J56,G56,D56) -> 0 | Q56: =O56*P56 -> 0

Sheet Week14
A1: Week starting: | B1: =Week13!B1+7 -> 42541 | C1: Week 14
A2: =Week13!A46+2 -> 42558 | C2: Set 1 | F2: Set 2 | I2: Set 3 | L2: Set 4 | O2: Training Volume | R2: Notes
A3: Exercise | B3: Sets x Reps | C3: Reps | D3: Weight | E3: Total | F3: Reps | G3: Weight | H3: Total | I3: Reps | J3: Weight | K3: Total | L3: Reps | M3: Weight | N3: Total | O3: Reps | P3: Weight | Q3: Total
A4: Squat | B4: 4 x 5 | E4: =C4*D4 -> 0 | H4: =F4*G4 -> 0 | K4: =I4*J4 -> 0 | N4: =L4*M4 -> 0 | O4: =SUM(L4,I4,F4,C4) -> 0 | P4: =SUM(M4,J4,G4,D4) -> 0 | Q4: =O4*P4 -> 0
A5: Romanian Deadlift | B5: 3 x 5 | E5: =C5*D5 -> 0 | H5: =F5*G5 -> 0 | K5: =I5*J5 -> 0 | N5: =L5*M5 -> 0 | O5: =SUM(L5,I5,F5,C5) -> 0 | P5: =SUM(M5,J5,G5,D5) -> 0 | Q5: =O5*P5 -> 0
A6: Leg Press | B6: 3 x 6-8 | E6: =C6*D6 -> 0 | H6: =F6*G6 -> 0 | K6: =I6*J6 -> 0 | N6: =L6*M6 -> 0 | O6: =SUM(L6,I6,F6,C6) -> 0 | P6: =SUM(M6,J6,G6,D6) -> 0 | Q6: =O6*P6 -> 0
A7: Barbell Glute Bridge | B7: 4 x 8-12 | E7: =C7*D7 -> 0 | H7: =F7*G7 -> 0 | K7: =I7*J7 -> 0 | N7: =L7*M7 -> 0 | O7: =SUM(L7,I7,F7,C7) -> 0 | P7: =SUM(M7,J7,G7,D7) -> 0 | Q7: =O7*P7 -> 0
A8: Leg Curl | B8: 3 x 12-15 | E8: =C8*D8 -> 0 | H8: =F8*G8 -> 0 | K8: =I8*J8 -> 0 | N8: =L8*M8 -> 0 | O8: =SUM(L8,I8,F8,C8) -> 0 | P8: =SUM(M8,J8,G8,D8) -> 0 | Q8: =O8*P8 -> 0
A9: Standing Calf Raise | B9: 3 x 5 | E9: =C9*D9 -> 0 | H9: =F9*G9 -> 0 | K9: =I9*J9 -> 0 | N9: =L9*M9 -> 0 | O9: =SUM(L9,I9,F9,C9) -> 0 | P9: =SUM(M9,J9,G9,D9) -> 0 | Q9: =O9*P9 -> 0
A10: Calf Press | B10: 3 x 5 | E10: =C10*D10 -> 0 | H10: =F10*G10 -> 0 | K10: =I10*J10 -> 0 | N10: =L10*M10 -> 0 | O10: =SUM(L10,I10,F10,C10) -> 0 | P10: =SUM(M10,J10,G10,D10) -> 0 | Q10: =O10*P10 -> 0
A11: Seated Calf Raise | B11: 4 x 8-12 | E11: =C11*D11 -> 0 | H11: =F11*G11 -> 0 | K11: =I11*J11 -> 0 | N11: =L11*M11 -> 0 | O11: =SUM(L11,I11,F11,C11) -> 0 | P11: =SUM(M11,J11,G11,D11) -> 0 | Q11: =O11*P11 -> 0
A12: Weighted Leg Raise | B12: 2-3 x 12-15 | E12: =C12*D12 -> 0 | H12: =F12*G12 -> 0 | K12: =I12*J12 -> 0 | N12: =L12*M12 -> 0 | O12: =SUM(L12,I12,F12,C12) -> 0 | P12: =SUM(M12,J12,G12,D12) -> 0 | Q12: =O12*P12 -> 0
A13: =A2+2 -> 42560 | C13: Set 1 | F13: Set 2 | I13: Set 3 | L13: Set 4 | O13: Training Volume | R13: Notes
A14: Exercise | B14: Sets x Reps | C14: Reps | D14: Weight | E14: Total | F14: Reps | G14: Weight | H14: Total | I14: Reps | J14: Weight | K14: Total | L14: Reps | M14: Weight | N14: Total | O14: Reps | P14: Weight | Q14: Total
A15: Bench Press | B15: 4 x 5 | E15: =C15*D15 -> 0 | H15: =F15*G15 -> 0 | K15: =I15*J15 -> 0 | N15: =L15*M15 -> 0 | O15: =SUM(L15,I15,F15,C15) -> 0 | P15: =SUM(M15,J15,G15,D15) -> 0 | Q15: =O15*P15 -> 0
A16: Barbell Overhead Press | B16: 3 x 5 | E16: =C16*D16 -> 0 | H16: =F16*G16 -> 0 | K16: =I16*J16 -> 0 | N16: =L16*M16 -> 0 | O16: =SUM(L16,I16,F16,C16) -> 0 | P16: =SUM(M16,J16,G16,D16) -> 0 | Q16: =O16*P16 -> 0
A17: Weighted Dip | B17: 3 x 6-8 | E17: =C17*D17 -> 0 | H17: =F17*G17 -> 0 | K17: =I17*J17 -> 0 | N17: =L17*M17 -> 0 | O17: =SUM(L17,I17,F17,C17) -> 0 | P17: =SUM(M17,J17,G17,D17) -> 0 | Q17: =O17*P17 -> 0
A18: Dumbbell Shoulder Press | B18: 3 x 8-12 | E18: =C18*D18 -> 0 | H18: =F18*G18 -> 0 | K18: =I18*J18 -> 0 | N18: =L18*M18 -> 0 | O18: =SUM(L18,I18,F18,C18) -> 0 | P18: =SUM(M18,J18,G18,D18) -> 0 | Q18: =O18*P18 -> 0
A19: Dumbbell Lateral Raise * | B19: 4 x 8-12 | E19: =C19*D19 -> 0 | H19: =F19*G19 -> 0 | K19: =I19*J19 -> 0 | N19: =L19*M19 -> 0 | O19: =SUM(L19,I19,F19,C19) -> 0 | P19: =SUM(M19,J19,G19,D19) -> 0 | Q19: =O19*P19 -> 0
A20: Dumbbell Triceps Extension | B20: 4 x 8-12 | E20: =C20*D20 -> 0 | H20: =F20*G20 -> 0 | K20: =I20*J20 -> 0 | N20: =L20*M20 -> 0 | O20: =SUM(L20,I20,F20,C20) -> 0 | P20: =SUM(M20,J20,G20,D20) -> 0 | Q20: =O20*P20 -> 0
A21: Cable Triceps Extension | B21: 4 x 12-15 | E21: =C21*D21 -> 0 | H21: =F21*G21 -> 0 | K21: =I21*J21 -> 0 | N21: =L21*M21 -> 0 | O21: =SUM(L21,I21,F21,C21) -> 0 | P21: =SUM(M21,J21,G21,D21) -> 0 | Q21: =O21*P21 -> 0
A22: Weighted Leg Raise | B22: 2-3 x 12-15 | E22: =C22*D22 -> 0 | H22: =F22*G22 -> 0 | K22: =I22*J22 -> 0 | N22: =L22*M22 -> 0 | O22: =SUM(L22,I22,F22,C22) -> 0 | P22: =SUM(M22,J22,G22,D22) -> 0 | Q22: =O22*P22 -> 0
A23: Weighted Crunch | B23: 2-3 x 8-12 | E23: =C23*D23 -> 0 | H23: =F23*G23 -> 0 | K23: =I23*J23 -> 0 | N23: =L23*M23 -> 0 | O23: =SUM(L23,I23,F23,C23) -> 0 | P23: =SUM(M23,J23,G23,D23) -> 0 | Q23: =O23*P23 -> 0
A24: =A13+1 -> 42561 | C24: Set 1 | F24: Set 2 | I24: Set 3 | L24: Set 4 | O24: Training Volume | R24: Notes
A25: Exercise | B25: Sets x Reps | C25: Reps | D25: Weight | E25: Total | F25: Reps | G25: Weight | H25: Total | I25: Reps | J25: Weight | K25: Total | L25: Reps | M25: Weight | N25: Total | O25: Reps | P25: Weight | Q25: Total
A26: Deadlift | B26: 4 x 5 | E26: =C26*D26 -> 0 | H26: =F26*G26 -> 0 | K26: =I26*J26 -> 0 | N26: =L26*M26 -> 0 | O26: =SUM(L26,I26,F26,C26) -> 0 | P26: =SUM(M26,J26,G26,D26) -> 0 | Q26: =O26*P26 -> 0
A27: (Weighted) Pull Up | B27: 3 x 5 | E27: =C27*D27 -> 0 | H27: =F27*G27 -> 0 | K27: =I27*J27 -> 0 | N27: =L27*M27 -> 0 | O27: =SUM(L27,I27,F27,C27) -> 0 | P27: =SUM(M27,J27,G27,D27) -> 0 | Q27: =O27*P27 -> 0
A28: Barbell Bent Over Row | B28: 3 x 6-8 | E28: =C28*D28 -> 0 | H28: =F28*G28 -> 0 | K28: =I28*J28 -> 0 | N28: =L28*M28 -> 0 | O28: =SUM(L28,I28,F28,C28) -> 0 | P28: =SUM(M28,J28,G28,D28) -> 0 | Q28: =O28*P28 -> 0
A29: Dumbbell One-Arm Row | B29: 3 x 8-12 | E29: =C29*D29 -> 0 | H29: =F29*G29 -> 0 | K29: =I29*J29 -> 0 | N29: =L29*M29 -> 0 | O29: =SUM(L29,I29,F29,C29) -> 0 | P29: =SUM(M29,J29,G29,D29) -> 0 | Q29: =O29*P29 -> 0
A30: Barbell Curl | B30: 4 x 8-12 | E30: =C30*D30 -> 0 | H30: =F30*G30 -> 0 | K30: =I30*J30 -> 0 | N30: =L30*M30 -> 0 | O30: =SUM(L30,I30,F30,C30) -> 0 | P30: =SUM(M30,J30,G30,D30) -> 0 | Q30: =O30*P30 -> 0
A31: Dumbbell Curl | B31: 4 x 8-12 | E31: =C31*D31 -> 0 | H31: =F31*G31 -> 0 | K31: =I31*J31 -> 0 | N31: =L31*M31 -> 0 | O31: =SUM(L31,I31,F31,C31) -> 0 | P31: =SUM(M31,J31,G31,D31) -> 0 | Q31: =O31*P31 -> 0
A32: Dumbbell Rear Deltoid Raise | B32: 4 x 8-12 | E32: =C32*D32 -> 0 | H32: =F32*G32 -> 0 | K32: =I32*J32 -> 0 | N32: =L32*M32 -> 0 | O32: =SUM(L32,I32,F32,C32) -> 0 | P32: =SUM(M32,J32,G32,D32) -> 0 | Q32: =O32*P32 -> 0
A33: Cable Face Pull | B33: 4 x 12-15 | E33: =C33*D33 -> 0 | H33: =F33*G33 -> 0 | K33: =I33*J33 -> 0 | N33: =L33*M33 -> 0 | O33: =SUM(L33,I33,F33,C33) -> 0 | P33: =SUM(M33,J33,G33,D33) -> 0 | Q33: =O33*P33 -> 0
A34: Weighted Hyperextension | B34: 2-3 x 8-12 | E34: =C34*D34 -> 0 | H34: =F34*G34 -> 0 | K34: =I34*J34 -> 0 | N34: =L34*M34 -> 0 | O34: =SUM(L34,I34,F34,C34) -> 0 | P34: =SUM(M34,J34,G34,D34) -> 0 | Q34: =O34*P34 -> 0
A35: =A24+2 -> 42563 | C35: Set 1 | F35: Set 2 | I35: Set 3 | L35: Set 4 | O35: Training Volume | R35: Notes
A36: Exercise | B36: Sets x Reps | C36: Reps | D36: Weight | E36: Total | F36: Reps | G36: Weight | H36: Total | I36: Reps | J36: Weight | K36: Total | L36: Reps | M36: Weight | N36: Total | O36: Reps | P36: Weight | Q36: Total
A37: Squat | B37: 4 x 5 | E37: =C37*D37 -> 0 | H37: =F37*G37 -> 0 | K37: =I37*J37 -> 0 | N37: =L37*M37 -> 0 | O37: =SUM(L37,I37,F37,C37) -> 0 | P37: =SUM(M37,J37,G37,D37) -> 0 | Q37: =O37*P37 -> 0
A38: Romanian Deadlift | B38: 3 x 5 | E38: =C38*D38 -> 0 | H38: =F38*G38 -> 0 | K38: =I38*J38 -> 0 | N38: =L38*M38 -> 0 | O38: =SUM(L38,I38,F38,C38) -> 0 | P38: =SUM(M38,J38,G38,D38) -> 0 | Q38: =O38*P38 -> 0
A39: Leg Press | B39: 3 x 6-8 | E39: =C39*D39 -> 0 | H39: =F39*G39 -> 0 | K39: =I39*J39 -> 0 | N39: =L39*M39 -> 0 | O39: =SUM(L39,I39,F39,C39) -> 0 | P39: =SUM(M39,J39,G39,D39) -> 0 | Q39: =O39*P39 -> 0
A40: Barbell Glute Bridge | B40: 3 x 8-12 | E40: =C40*D40 -> 0 | H40: =F40*G40 -> 0 | K40: =I40*J40 -> 0 | N40: =L40*M40 -> 0 | O40: =SUM(L40,I40,F40,C40) -> 0 | P40: =SUM(M40,J40,G40,D40) -> 0 | Q40: =O40*P40 -> 0
A41: Leg Curl | B41: 4 x 8-12 | E41: =C41*D41 -> 0 | H41: =F41*G41 -> 0 | K41: =I41*J41 -> 0 | N41: =L41*M41 -> 0 | O41: =SUM(L41,I41,F41,C41) -> 0 | P41: =SUM(M41,J41,G41,D41) -> 0 | Q41: =O41*P41 -> 0
A42: Standing Calf Raise | B42: 4 x 8-12 | E42: =C42*D42 -> 0 | H42: =F42*G42 -> 0 | K42: =I42*J42 -> 0 | N42: =L42*M42 -> 0 | O42: =SUM(L42,I42,F42,C42) -> 0 | P42: =SUM(M42,J42,G42,D42) -> 0 | Q42: =O42*P42 -> 0
A43: Calf Press | B43: 4 x 12-15 | E43: =C43*D43 -> 0 | H43: =F43*G43 -> 0 | K43: =I43*J43 -> 0 | N43: =L43*M43 -> 0 | O43: =SUM(L43,I43,F43,C43) -> 0 | P43: =SUM(M43,J43,G43,D43) -> 0 | Q43: =O43*P43 -> 0
A44: Seated Calf Raise | B44: 2-3 x 12-15 | E44: =C44*D44 -> 0 | H44: =F44*G44 -> 0 | K44: =I44*J44 -> 0 | N44: =L44*M44 -> 0 | O44: =SUM(L44,I44,F44,C44) -> 0 | P44: =SUM(M44,J44,G44,D44) -> 0 | Q44: =O44*P44 -> 0
A45: Weighted Leg Raise | B45: 2-3 x 8-12 | E45: =C45*D45 -> 0 | H45: =F45*G45 -> 0 | K45: =I45*J45 -> 0 | N45: =L45*M45 -> 0 | O45: =SUM(L45,I45,F45,C45) -> 0 | P45: =SUM(M45,J45,G45,D45) -> 0 | Q45: =O45*P45 -> 0
A46: =A35+2 -> 42565 | C46: Set 1 | F46: Set 2 | I46: Set 3 | L46: Set 4 | O46: Training Volume | R46: Notes
A47: Exercise | B47: Sets x Reps | C47: Reps | D47: Weight | E47: Total | F47: Reps | G47: Weight | H47: Total | I47: Reps | J47: Weight | K47: Total | L47: Reps | M47: Weight | N47: Total | O47: Reps | P47: Weight | Q47: Total
A48: Bench Press | B48: 4 x 5 | E48: =C48*D48 -> 0 | H48: =F48*G48 -> 0 | K48: =I48*J48 -> 0 | N48: =L48*M48 -> 0 | O48: =SUM(L48,I48,F48,C48) -> 0 | P48: =SUM(M48,J48,G48,D48) -> 0 | Q48: =O48*P48 -> 0
A49: Barbell Overhead Press | B49: 3 x 5 | E49: =C49*D49 -> 0 | H49: =F49*G49 -> 0 | K49: =I49*J49 -> 0 | N49: =L49*M49 -> 0 | O49: =SUM(L49,I49,F49,C49) -> 0 | P49: =SUM(M49,J49,G49,D49) -> 0 | Q49: =O49*P49 -> 0
A50: Weighted Dip | B50: 3 x 6-8 | E50: =C50*D50 -> 0 | H50: =F50*G50 -> 0 | K50: =I50*J50 -> 0 | N50: =L50*M50 -> 0 | O50: =SUM(L50,I50,F50,C50) -> 0 | P50: =SUM(M50,J50,G50,D50) -> 0 | Q50: =O50*P50 -> 0
A51: Dumbbell Shoulder Press | B51: 3 x 8-12 | E51: =C51*D51 -> 0 | H51: =F51*G51 -> 0 | K51: =I51*J51 -> 0 | N51: =L51*M51 -> 0 | O51: =SUM(L51,I51,F51,C51) -> 0 | P51: =SUM(M51,J51,G51,D51) -> 0 | Q51: =O51*P51 -> 0
A52: Dumbbell Lateral Raise * | B52: 4 x 8-12 | E52: =C52*D52 -> 0 | H52: =F52*G52 -> 0 | K52: =I52*J52 -> 0 | N52: =L52*M52 -> 0 | O52: =SUM(L52,I52,F52,C52) -> 0 | P52: =SUM(M52,J52,G52,D52) -> 0 | Q52: =O52*P52 -> 0
A53: Dumbbell Triceps Extension | B53: 4 x 8-12 | E53: =C53*D53 -> 0 | H53: =F53*G53 -> 0 | K53: =I53*J53 -> 0 | N53: =L53*M53 -> 0 | O53: =SUM(L53,I53,F53,C53) -> 0 | P53: =SUM(M53,J53,G53,D53) -> 0 | Q53: =O53*P53 -> 0
A54: Cable Triceps Extension | B54: 4 x 12-15 | E54: =C54*D54 -> 0 | H54: =F54*G54 -> 0 | K54: =I54*J54 -> 0 | N54: =L54*M54 -> 0 | O54: =SUM(L54,I54,F54,C54) -> 0 | P54: =SUM(M54,J54,G54,D54) -> 0 | Q54: =O54*P54 -> 0
A55: Weighted Leg Raise | B55: 2-3 x 12-15 | E55: =C55*D55 -> 0 | H55: =F55*G55 -> 0 | K55: =I55*J55 -> 0 | N55: =L55*M55 -> 0 | O55: =SUM(L55,I55,F55,C55) -> 0 | P55: =SUM(M55,J55,G55,D55) -> 0 | Q55: =O55*P55 -> 0
A56: Weighted Crunch | B56: 2-3 x 8-12 | E56: =C56*D56 -> 0 | H56: =F56*G56 -> 0 | K56: =I56*J56 -> 0 | N56: =L56*M56 -> 0 | O56: =SUM(L56,I56,F56,C56) -> 0 | P56: =SUM(M56,J56,G56,D56) -> 0 | Q56: =O56*P56 -> 0

Sheet Week15
A1: Week starting: | B1: =Week14!B1+7 -> 42548 | C1: Week 15
A2: =Week14!A46+1 -> 42566 | C2: Set 1 | F2: Set 2 | I2: Set 3 | L2: Set 4 | O2: Training Volume | R2: Notes
A3: Exercise | B3: Sets x Reps | C3: Reps | D3: Weight | E3: Total | F3: Reps | G3: Weight | H3: Total | I3: Reps | J3: Weight | K3: Total | L3: Reps | M3: Weight | N3: Total | O3: Reps | P3: Weight | Q3: Total
A4: Deadlift | B4: 4 x 5 | E4: =C4*D4 -> 0 | H4: =F4*G4 -> 0 | K4: =I4*J4 -> 0 | N4: =L4*M4 -> 0 | O4: =SUM(L4,I4,F4,C4) -> 0 | P4: =SUM(M4,J4,G4,D4) -> 0 | Q4: =O4*P4 -> 0
A5: (Weighted) Pull Up | B5: 3 x 5 | E5: =C5*D5 -> 0 | H5: =F5*G5 -> 0 | K5: =I5*J5 -> 0 | N5: =L5*M5 -> 0 | O5: =SUM(L5,I5,F5,C5) -> 0 | P5: =SUM(M5,J5,G5,D5) -> 0 | Q5: =O5*P5 -> 0
A6: Barbell Bent Over Row | B6: 3 x 6-8 | E6: =C6*D6 -> 0 | H6: =F6*G6 -> 0 | K6: =I6*J6 -> 0 | N6: =L6*M6 -> 0 | O6: =SUM(L6,I6,F6,C6) -> 0 | P6: =SUM(M6,J6,G6,D6) -> 0 | Q6: =O6*P6 -> 0
A7: Dumbbell One-Arm Row | B7: 3 x 8-12 | E7: =C7*D7 -> 0 | H7: =F7*G7 -> 0 | K7: =I7*J7 -> 0 | N7: =L7*M7 -> 0 | O7: =SUM(L7,I7,F7,C7) -> 0 | P7: =SUM(M7,J7,G7,D7) -> 0 | Q7: =O7*P7 -> 0
A8: Barbell Curl | B8: 4 x 8-12 | E8: =C8*D8 -> 0 | H8: =F8*G8 -> 0 | K8: =I8*J8 -> 0 | N8: =L8*M8 -> 0 | O8: =SUM(L8,I8,F8,C8) -> 0 | P8: =SUM(M8,J8,G8,D8) -> 0 | Q8: =O8*P8 -> 0
A9: Dumbbell Curl | B9: 4 x 8-12 | E9: =C9*D9 -> 0 | H9: =F9*G9 -> 0 | K9: =I9*J9 -> 0 | N9: =L9*M9 -> 0 | O9: =SUM(L9,I9,F9,C9) -> 0 | P9: =SUM(M9,J9,G9,D9) -> 0 | Q9: =O9*P9 -> 0
A10: Dumbbell Rear Deltoid Raise | B10: 4 x 8-12 | E10: =C10*D10 -> 0 | H10: =F10*G10 -> 0 | K10: =I10*J10 -> 0 | N10: =L10*M10 -> 0 | O10: =SUM(L10,I10,F10,C10) -> 0 | P10: =SUM(M10,J10,G10,D10) -> 0 | Q10: =O10*P10 -> 0
A11: Cable Face Pull | B11: 4 x 12-15 | E11: =C11*D11 -> 0 | H11: =F11*G11 -> 0 | K11: =I11*J11 -> 0 | N11: =L11*M11 -> 0 | O11: =SUM(L11,I11,F11,C11) -> 0 | P11: =SUM(M11,J11,G11,D11) -> 0 | Q11: =O11*P11 -> 0
A12: Weighted Hyperextension | B12: 2-3 x 8-12 | E12: =C12*D12 -> 0 | H12: =F12*G12 -> 0 | K12: =I12*J12 -> 0 | N12: =L12*M12 -> 0 | O12: =SUM(L12,I12,F12,C12) -> 0 | P12: =SUM(M12,J12,G12,D12) -> 0 | Q12: =O12*P12 -> 0
A13: =A2+2 -> 42568 | C13: Set 1 | F13: Set 2 | I13: Set 3 | L13: Set 4 | O13: Training Volume | R13: Notes
A14: Exercise | B14: Sets x Reps | C14: Reps | D14: Weight | E14: Total | F14: Reps | G14: Weight | H14: Total | I14: Reps | J14: Weight | K14: Total | L14: Reps | M14: Weight | N14: Total | O14: Reps | P14: Weight | Q14: Total
A15: Squat | B15: 4 x 5 | E15: =C15*D15 -> 0 | H15: =F15*G15 -> 0 | K15: =I15*J15 -> 0 | N15: =L15*M15 -> 0 | O15: =SUM(L15,I15,F15,C15) -> 0 | P15: =SUM(M15,J15,G15,D15) -> 0 | Q15: =O15*P15 -> 0
A16: Romanian Deadlift | B16: 3 x 5 | E16: =C16*D16 -> 0 | H16: =F16*G16 -> 0 | K16: =I16*J16 -> 0 | N16: =L16*M16 -> 0 | O16: =SUM(L16,I16,F16,C16) -> 0 | P16: =SUM(M16,J16,G16,D16) -> 0 | Q16: =O16*P16 -> 0
A17: Leg Press | B17: 3 x 6-8 | E17: =C17*D17 -> 0 | H17: =F17*G17 -> 0 | K17: =I17*J17 -> 0 | N17: =L17*M17 -> 0 | O17: =SUM(L17,I17,F17,C17) -> 0 | P17: =SUM(M17,J17,G17,D17) -> 0 | Q17: =O17*P17 -> 0
A18: Barbell Glute Bridge | B18: 4 x 8-12 | E18: =C18*D18 -> 0 | H18: =F18*G18 -> 0 | K18: =I18*J18 -> 0 | N18: =L18*M18 -> 0 | O18: =SUM(L18,I18,F18,C18) -> 0 | P18: =SUM(M18,J18,G18,D18) -> 0 | Q18: =O18*P18 -> 0
A19: Leg Curl | B19: 3 x 12-15 | E19: =C19*D19 -> 0 | H19: =F19*G19 -> 0 | K19: =I19*J19 -> 0 | N19: =L19*M19 -> 0 | O19: =SUM(L19,I19,F19,C19) -> 0 | P19: =SUM(M19,J19,G19,D19) -> 0 | Q19: =O19*P19 -> 0
A20: Standing Calf Raise | B20: 3 x 5 | E20: =C20*D20 -> 0 | H20: =F20*G20 -> 0 | K20: =I20*J20 -> 0 | N20: =L20*M20 -> 0 | O20: =SUM(L20,I20,F20,C20) -> 0 | P20: =SUM(M20,J20,G20,D20) -> 0 | Q20: =O20*P20 -> 0
A21: Calf Press | B21: 3 x 5 | E21: =C21*D21 -> 0 | H21: =F21*G21 -> 0 | K21: =I21*J21 -> 0 | N21: =L21*M21 -> 0 | O21: =SUM(L21,I21,F21,C21) -> 0 | P21: =SUM(M21,J21,G21,D21) -> 0 | Q21: =O21*P21 -> 0
A22: Seated Calf Raise | B22: 4 x 8-12 | E22: =C22*D22 -> 0 | H22: =F22*G22 -> 0 | K22: =I22*J22 -> 0 | N22: =L22*M22 -> 0 | O22: =SUM(L22,I22,F22,C22) -> 0 | P22: =SUM(M22,J22,G22,D22) -> 0 | Q22: =O22*P22 -> 0
A23: Weighted Leg Raise | B23: 2-3 x 12-15 | E23: =C23*D23 -> 0 | H23: =F23*G23 -> 0 | K23: =I23*J23 -> 0 | N23: =L23*M23 -> 0 | O23: =SUM(L23,I23,F23,C23) -> 0 | P23: =SUM(M23,J23,G23,D23) -> 0 | Q23: =O23*P23 -> 0
A24: =A13+2 -> 42570 | C24: Set 1 | F24: Set 2 | I24: Set 3 | L24: Set 4 | O24: Training Volume | R24: Notes
A25: Exercise | B25: Sets x Reps | C25: Reps | D25: Weight | E25: Total | F25: Reps | G25: Weight | H25: Total | I25: Reps | J25: Weight | K25: Total | L25: Reps | M25: Weight | N25: Total | O25: Reps | P25: Weight | Q25: Total
A26: Bench Press | B26: 4 x 5 | E26: =C26*D26 -> 0 | H26: =F26*G26 -> 0 | K26: =I26*J26 -> 0 | N26: =L26*M26 -> 0 | O26: =SUM(L26,I26,F26,C26) -> 0 | P26: =SUM(M26,J26,G26,D26) -> 0 | Q26: =O26*P26 -> 0
A27: Barbell Overhead Press | B27: 3 x 5 | E27: =C27*D27 -> 0 | H27: =F27*G27 -> 0 | K27: =I27*J27 -> 0 | N27: =L27*M27 -> 0 | O27: =SUM(L27,I27,F27,C27) -> 0 | P27: =SUM(M27,J27,G27,D27) -> 0 | Q27: =O27*P27 -> 0
A28: Weighted Dip | B28: 3 x 6-8 | E28: =C28*D28 -> 0 | H28: =F28*G28 -> 0 | K28: =I28*J28 -> 0 | N28: =L28*M28 -> 0 | O28: =SUM(L28,I28,F28,C28) -> 0 | P28: =SUM(M28,J28,G28,D28) -> 0 | Q28: =O28*P28 -> 0
A29: Dumbbell Shoulder Press | B29: 3 x 8-12 | E29: =C29*D29 -> 0 | H29: =F29*G29 -> 0 | K29: =I29*J29 -> 0 | N29: =L29*M29 -> 0 | O29: =SUM(L29,I29,F29,C29) -> 0 | P29: =SUM(M29,J29,G29,D29) -> 0 | Q29: =O29*P29 -> 0
A30: Dumbbell Lateral Raise * | B30: 4 x 8-12 | E30: =C30*D30 -> 0 | H30: =F30*G30 -> 0 | K30: =I30*J30 -> 0 | N30: =L30*M30 -> 0 | O30: =SUM(L30,I30,F30,C30) -> 0 | P30: =SUM(M30,J30,G30,D30) -> 0 | Q30: =O30*P30 -> 0
A31: Dumbbell Triceps Extension | B31: 4 x 8-12 | E31: =C31*D31 -> 0 | H31: =F31*G31 -> 0 | K31: =I31*J31 -> 0 | N31: =L31*M31 -> 0 | O31: =SUM(L31,I31,F31,C31) -> 0 | P31: =SUM(M31,J31,G31,D31) -> 0 | Q31: =O31*P31 -> 0
A32: Cable Triceps Extension | B32: 4 x 12-15 | E32: =C32*D32 -> 0 | H32: =F32*G32 -> 0 | K32: =I32*J32 -> 0 | N32: =L32*M32 -> 0 | O32: =SUM(L32,I32,F32,C32) -> 0 | P32: =SUM(M32,J32,G32,D32) -> 0 | Q32: =O32*P32 -> 0
A33: Weighted Leg Raise | B33: 2-3 x 12-15 | E33: =C33*D33 -> 0 | H33: =F33*G33 -> 0 | K33: =I33*J33 -> 0 | N33: =L33*M33 -> 0 | O33: =SUM(L33,I33,F33,C33) -> 0 | P33: =SUM(M33,J33,G33,D33) -> 0 | Q33: =O33*P33 -> 0
A34: Weighted Crunch | B34: 2-3 x 8-12 | E34: =C34*D34 -> 0 | H34: =F34*G34 -> 0 | K34: =I34*J34 -> 0 | N34: =L34*M34 -> 0 | O34: =SUM(L34,I34,F34,C34) -> 0 | P34: =SUM(M34,J34,G34,D34) -> 0 | Q34: =O34*P34 -> 0
A35: =A24+1 -> 42571 | C35: Set 1 | F35: Set 2 | I35: Set 3 | L35: Set 4 | O35: Training Volume | R35: Notes
A36: Exercise | B36: Sets x Reps | C36: Reps | D36: Weight | E36: Total | F36: Reps | G36: Weight | H36: Total | I36: Reps | J36: Weight | K36: Total | L36: Reps | M36: Weight | N36: Total | O36: Reps | P36: Weight | Q36: Total
A37: Deadlift | B37: 4 x 5 | E37: =C37*D37 -> 0 | H37: =F37*G37 -> 0 | K37: =I37*J37 -> 0 | N37: =L37*M37 -> 0 | O37: =SUM(L37,I37,F37,C37) -> 0 | P37: =SUM(M37,J37,G37,D37) -> 0 | Q37: =O37*P37 -> 0
A38: (Weighted) Pull Up | B38: 3 x 5 | E38: =C38*D38 -> 0 | H38: =F38*G38 -> 0 | K38: =I38*J38 -> 0 | N38: =L38*M38 -> 0 | O38: =SUM(L38,I38,F38,C38) -> 0 | P38: =SUM(M38,J38,G38,D38) -> 0 | Q38: =O38*P38 -> 0
A39: Barbell Bent Over Row | B39: 3 x 6-8 | E39: =C39*D39 -> 0 | H39: =F39*G39 -> 0 | K39: =I39*J39 -> 0 | N39: =L39*M39 -> 0 | O39: =SUM(L39,I39,F39,C39) -> 0 | P39: =SUM(M39,J39,G39,D39) -> 0 | Q39: =O39*P39 -> 0
A40: Dumbbell One-Arm Row | B40: 3 x 8-12 | E40: =C40*D40 -> 0 | H40: =F40*G40 -> 0 | K40: =I40*J40 -> 0 | N40: =L40*M40 -> 0 | O40: =SUM(L40,I40,F40,C40) -> 0 | P40: =SUM(M40,J40,G40,D40) -> 0 | Q40: =O40*P40 -> 0
A41: Barbell Curl | B41: 4 x 8-12 | E41: =C41*D41 -> 0 | H41: =F41*G41 -> 0 | K41: =I41*J41 -> 0 | N41: =L41*M41 -> 0 | O41: =SUM(L41,I41,F41,C41) -> 0 | P41: =SUM(M41,J41,G41,D41) -> 0 | Q41: =O41*P41 -> 0
A42: Dumbbell Curl | B42: 4 x 8-12 | E42: =C42*D42 -> 0 | H42: =F42*G42 -> 0 | K42: =I42*J42 -> 0 | N42: =L42*M42 -> 0 | O42: =SUM(L42,I42,F42,C42) -> 0 | P42: =SUM(M42,J42,G42,D42) -> 0 | Q42: =O42*P42 -> 0
A43: Dumbbell Rear Deltoid Raise | B43: 4 x 8-12 | E43: =C43*D43 -> 0 | H43: =F43*G43 -> 0 | K43: =I43*J43 -> 0 | N43: =L43*M43 -> 0 | O43: =SUM(L43,I43,F43,C43) -> 0 | P43: =SUM(M43,J43,G43,D43) -> 0 | Q43: =O43*P43 -> 0
A44: Cable Face Pull | B44: 4 x 12-15 | E44: =C44*D44 -> 0 | H44: =F44*G44 -> 0 | K44: =I44*J44 -> 0 | N44: =L44*M44 -> 0 | O44: =SUM(L44,I44,F44,C44) -> 0 | P44: =SUM(M44,J44,G44,D44) -> 0 | Q44: =O44*P44 -> 0
A45: Weighted Hyperextension | B45: 2-3 x 8-12 | E45: =C45*D45 -> 0 | H45: =F45*G45 -> 0 | K45: =I45*J45 -> 0 | N45: =L45*M45 -> 0 | O45: =SUM(L45,I45,F45,C45) -> 0 | P45: =SUM(M45,J45,G45,D45) -> 0 | Q45: =O45*P45 -> 0
A46: =A35+2 -> 42573 | C46: Set 1 | F46: Set 2 | I46: Set 3 | L46: Set 4 | O46: Training Volume | R46: Notes
A47: Exercise | B47: Sets x Reps | C47: Reps | D47: Weight | E47: Total | F47: Reps | G47: Weight | H47: Total | I47: Reps | J47: Weight | K47: Total | L47: Reps | M47: Weight | N47: Total | O47: Reps | P47: Weight | Q47: Total
A48: Squat | B48: 4 x 5 | E48: =C48*D48 -> 0 | H48: =F48*G48 -> 0 | K48: =I48*J48 -> 0 | N48: =L48*M48 -> 0 | O48: =SUM(L48,I48,F48,C48) -> 0 | P48: =SUM(M48,J48,G48,D48) -> 0 | Q48: =O48*P48 -> 0
A49: Romanian Deadlift | B49: 3 x 5 | E49: =C49*D49 -> 0 | H49: =F49*G49 -> 0 | K49: =I49*J49 -> 0 | N49: =L49*M49 -> 0 | O49: =SUM(L49,I49,F49,C49) -> 0 | P49: =SUM(M49,J49,G49,D49) -> 0 | Q49: =O49*P49 -> 0
A50: Leg Press | B50: 3 x 6-8 | E50: =C50*D50 -> 0 | H50: =F50*G50 -> 0 | K50: =I50*J50 -> 0 | N50: =L50*M50 -> 0 | O50: =SUM(L50,I50,F50,C50) -> 0 | P50: =SUM(M50,J50,G50,D50) -> 0 | Q50: =O50*P50 -> 0
A51: Barbell Glute Bridge | B51: 4 x 8-12 | E51: =C51*D51 -> 0 | H51: =F51*G51 -> 0 | K51: =I51*J51 -> 0 | N51: =L51*M51 -> 0 | O51: =SUM(L51,I51,F51,C51) -> 0 | P51: =SUM(M51,J51,G51,D51) -> 0 | Q51: =O51*P51 -> 0
A52: Leg Curl | B52: 3 x 12-15 | E52: =C52*D52 -> 0 | H52: =F52*G52 -> 0 | K52: =I52*J52 -> 0 | N52: =L52*M52 -> 0 | O52: =SUM(L52,I52,F52,C52) -> 0 | P52: =SUM(M52,J52,G52,D52) -> 0 | Q52: =O52*P52 -> 0
A53: Standing Calf Raise | B53: 3 x 5 | E53: =C53*D53 -> 0 | H53: =F53*G53 -> 0 | K53: =I53*J53 -> 0 | N53: =L53*M53 -> 0 | O53: =SUM(L53,I53,F53,C53) -> 0 | P53: =SUM(M53,J53,G53,D53) -> 0 | Q53: =O53*P53 -> 0
A54: Calf Press | B54: 3 x 5 | E54: =C54*D54 -> 0 | H54: =F54*G54 -> 0 | K54: =I54*J54 -> 0 | N54: =L54*M54 -> 0 | O54: =SUM(L54,I54,F54,C54) -> 0 | P54: =SUM(M54,J54,G54,D54) -> 0 | Q54: =O54*P54 -> 0
A55: Seated Calf Raise | B55: 4 x 8-12 | E55: =C55*D55 -> 0 | H55: =F55*G55 -> 0 | K55: =I55*J55 -> 0 | N55: =L55*M55 -> 0 | O55: =SUM(L55,I55,F55,C55) -> 0 | P55: =SUM(M55,J55,G55,D55) -> 0 | Q55: =O55*P55 -> 0
A56: Weighted Leg Raise | B56: 2-3 x 12-15 | E56: =C56*D56 -> 0 | H56: =F56*G56 -> 0 | K56: =I56*J56 -> 0 | N56: =L56*M56 -> 0 | O56: =SUM(L56,I56,F56,C56) -> 0 | P56: =SUM(M56,J56,G56,D56) -> 0 | Q56: =O56*P56 -> 0
